| cellHTS2 2.22.0 Joseph Barry
 
 | Snapshot Date: 2013-03-24 16:21:20 -0700 (Sun, 24 Mar 2013) |  | URL: https://hedgehog.fhcrc.org/bioconductor/branches/RELEASE_2_11/madman/Rpacks/cellHTS2 |  | Last Changed Rev: 70186 / Revision: 74773 |  | Last Changed Date: 2012-10-04 04:17:13 -0700 (Thu, 04 Oct 2012) | 
 | lamb1 | Linux (openSUSE 12.1) / x86_64 | OK | OK |  | 
| moscato1 | Windows Server 2008 R2 Enterprise SP1 (64-bit) / x64 | OK | OK | OK | 
| perceval | Mac OS X Leopard (10.5.8) / i386 | OK | [ OK ] | OK | 
* using log directory '/Users/biocbuild/bbs-2.11-bioc/meat/cellHTS2.Rcheck'
* using R version 2.15.3 (2013-03-01)
* using platform: i386-apple-darwin9.8.0 (32-bit)
* using session charset: ASCII
* using option '--no-vignettes'
* checking for file 'cellHTS2/DESCRIPTION' ... OK
* this is package 'cellHTS2' version '2.22.0'
* checking package namespace information ... OK
* checking package dependencies ... OK
* checking if this is a source package ... OK
* checking if there is a namespace ... OK
* checking whether package 'cellHTS2' can be installed ... OK
* checking installed package size ... NOTE
  installed size is  5.7Mb
  sub-directories of 1Mb or more:
    KcViab   2.0Mb
    doc      1.7Mb
* checking package directory ... OK
* checking for portable file names ... OK
* checking for sufficient/correct file permissions ... OK
* checking DESCRIPTION meta-information ... OK
* checking top-level files ... OK
* checking for left-over files ... OK
* checking index information ... OK
* checking package subdirectories ... OK
* checking R files for non-ASCII characters ... OK
* checking R files for syntax errors ... OK
* checking whether the package can be loaded ... OK
* checking whether the package can be loaded with stated dependencies ... OK
* checking whether the package can be unloaded cleanly ... OK
* checking whether the namespace can be loaded with stated dependencies ... OK
* checking whether the namespace can be unloaded cleanly ... OK
* checking for unstated dependencies in R code ... OK
* checking S3 generic/method consistency ... OK
* checking replacement functions ... OK
* checking foreign function calls ... OK
* checking R code for possible problems ... NOTE
annotate,cellHTS: warning in read.table(file.path(path, file), sep =
  "\t", header = TRUE, stringsAsFactors = FALSE, na.string = "", quote
  = "", fill = FALSE): partial argument match of 'na.string' to
  'na.strings'
* checking Rd files ... OK
* checking Rd metadata ... OK
* checking Rd cross-references ... OK
* checking for missing documentation entries ... OK
* checking for code/documentation mismatches ... OK
* checking Rd \usage sections ... OK
* checking Rd contents ... OK
* checking for unstated dependencies in examples ... OK
* checking contents of 'data' directory ... OK
* checking data for non-ASCII characters ... OK
* checking data for ASCII and uncompressed saves ... OK
* checking sizes of PDF files under 'inst/doc' ... OK
* checking installed files from 'inst/doc' ... OK
* checking examples ... OK
Examples with CPU or elapsed time > 5s
        user system elapsed
Bscore 5.007  0.039   5.384
* checking for unstated dependencies in tests ... OK
* checking tests ...
  Running 'test.R'
 OK
* checking for unstated dependencies in vignettes ... NOTE
'library' or 'require' calls not declared from:
  'GO.db' 'KEGG.db'
* checking package vignettes in 'inst/doc' ... OK
* checking running R code from vignettes ... SKIPPED
* checking re-building of vignettes ... SKIPPED
* checking PDF version of manual ... OK
NOTE: There were 3 notes.
See
  '/Users/biocbuild/bbs-2.11-bioc/meat/cellHTS2.Rcheck/00check.log'
for details.
 
* installing *source* package 'cellHTS2' ...
** R
** data
** inst
** preparing package for lazy loading
Creating a generic function for 'lines' from package 'graphics' in package 'cellHTS2'
** help
*** installing help indices
** building package indices
** installing vignettes
   'cellhts2.Rnw' 
   'cellhts2Complete.Rnw' 
   'twoChannels.Rnw' 
   'twoWay.Rnw' 
** testing if installed package can be loaded
* DONE (cellHTS2)