PatientGeneSets 1.7.0 Simina M. Boca
 | Snapshot Date: 2012-08-23 16:22:30 -0700 (Thu, 23 Aug 2012) |  | URL: https://hedgehog.fhcrc.org/bioconductor/trunk/madman/Rpacks/PatientGeneSets |  | Last Changed Rev: 64680 / Revision: 68749 |  | Last Changed Date: 2012-03-30 15:15:56 -0700 (Fri, 30 Mar 2012) |  
  | lamb1  | Linux (openSUSE 12.1) / x86_64  | [ OK ] |  OK  |  | 
| moscato1  | Windows Server 2008 R2 Enterprise SP1 (64-bit) / x64  |  OK  |  OK  |  OK  | 
| perceval  | Mac OS X Leopard (10.5.8) / i386  |  OK  |  OK  |  OK  | 
* checking for file ‘PatientGeneSets/DESCRIPTION’ ... OK
* preparing ‘PatientGeneSets’:
* checking DESCRIPTION meta-information ... OK
* cleaning src
* installing the package to re-build vignettes
* creating vignettes ... OK
* cleaning src
* checking for LF line-endings in source and make files
* checking for empty or unneeded directories
* looking to see if a ‘data/datalist’ file should be added
* building ‘PatientGeneSets_1.7.0.tar.gz’