GeneAnswers 1.16.0 Gang Feng  , Pan Du  and Tian Xia
 | Snapshot Date: 2013-03-24 16:21:20 -0700 (Sun, 24 Mar 2013) |  | URL: https://hedgehog.fhcrc.org/bioconductor/branches/RELEASE_2_11/madman/Rpacks/GeneAnswers |  | Last Changed Rev: 70050 / Revision: 74773 |  | Last Changed Date: 2012-10-01 15:16:24 -0700 (Mon, 01 Oct 2012) |  
  | lamb1  | Linux (openSUSE 12.1) / x86_64  |  OK  | [ OK ] |  | 
| moscato1  | Windows Server 2008 R2 Enterprise SP1 (64-bit) / x64  |  OK  |  OK  |  OK  | 
| perceval  | Mac OS X Leopard (10.5.8) / i386  |  OK  |  OK  |  OK  | 
* using log directory ‘/loc/home/biocbuild/bbs-2.11-bioc/meat/GeneAnswers.Rcheck’
* using R version 2.15.3 (2013-03-01)
* using platform: x86_64-unknown-linux-gnu (64-bit)
* using session charset: UTF-8
* using option ‘--no-vignettes’
* checking for file ‘GeneAnswers/DESCRIPTION’ ... OK
* checking extension type ... Package
* this is package ‘GeneAnswers’ version ‘1.16.0’
* checking package namespace information ... OK
* checking package dependencies ... OK
* checking if this is a source package ... OK
* checking if there is a namespace ... OK
* checking whether package ‘GeneAnswers’ can be installed ... OK
* checking installed package size ... NOTE
  installed size is 35.7Mb
  sub-directories of 1Mb or more:
    External  32.4Mb
    data       1.1Mb
    doc        1.8Mb
* checking package directory ... OK
* checking for portable file names ... OK
* checking for sufficient/correct file permissions ... OK
* checking DESCRIPTION meta-information ... OK
* checking top-level files ... OK
* checking for left-over files ... OK
* checking index information ... OK
* checking package subdirectories ... OK
* checking R files for non-ASCII characters ... OK
* checking R files for syntax errors ... OK
* checking whether the package can be loaded ... OK
* checking whether the package can be loaded with stated dependencies ... OK
* checking whether the package can be unloaded cleanly ... OK
* checking whether the namespace can be loaded with stated dependencies ... OK
* checking whether the namespace can be unloaded cleanly ... OK
* checking for unstated dependencies in R code ... OK
* checking S3 generic/method consistency ... OK
* checking replacement functions ... OK
* checking foreign function calls ... OK
* checking R code for possible problems ... NOTE
File ‘GeneAnswers/R/zzz.R’:
  .onLoad calls:
    require(Biobase)
Package startup functions should not change the search path.
See section ‘Good practice’ in ?.onAttach.
plotGeneFunSummary: warning in require(lib, character = TRUE): partial
  argument match of 'character' to 'character.only'
saveGeneFunSummary: warning in require(lib, character = TRUE): partial
  argument match of 'character' to 'character.only'
* checking Rd files ... NOTE
prepare_Rd: DO.Rd:32-34: Dropping empty section \references
prepare_Rd: geneFunSummarize.Rd:21-23: Dropping empty section \details
prepare_Rd: plotGeneFunSummary.Rd:30-32: Dropping empty section \details
prepare_Rd: plotOntologyGraph.Rd:28-30: Dropping empty section \details
prepare_Rd: saveGeneFunSummary.Rd:18-20: Dropping empty section \details
prepare_Rd: saveGeneFunSummary.Rd:24-26: Dropping empty section \references
prepare_Rd: simplifyGeneFunSummary.Rd:18-20: Dropping empty section \details
* checking Rd metadata ... OK
* checking Rd cross-references ... OK
* checking for missing documentation entries ... OK
* checking for code/documentation mismatches ... OK
* checking Rd \usage sections ... OK
* checking Rd contents ... OK
* checking for unstated dependencies in examples ... OK
* checking contents of ‘data’ directory ... OK
* checking data for non-ASCII characters ... OK
* checking data for ASCII and uncompressed saves ... OK
* checking installed files from ‘inst/doc’ ... OK
* checking examples ... OK
Examples with CPU or elapsed time > 5s
                             user system elapsed
geneAnswersReadable        60.780  0.460  62.414
GeneAnswers-class          34.914  0.924  36.675
GeneAnswers-package        29.006  0.196  29.540
getMultiLayerGraphIDs      28.538  0.232  30.107
geneAnswersHomoMapping     27.973  0.252  29.013
buildNet                   28.082  0.072  28.689
geneAnswersChartPlots      27.682  0.224  29.047
geneAnswersConcepts        27.498  0.280  28.267
geneAnswersConceptRelation 26.309  0.152  26.592
geneAnswersBuilder         25.553  0.132  26.948
geneAnswersConceptNet      25.430  0.192  26.144
geneAnswersHeatmap         24.918  0.140  25.640
geneAnswersSort            23.458  0.184  24.094
getConnectedGraph          21.834  0.212  23.039
getGOList                  15.481  0.376  16.856
groupReport                11.504  0.072  13.777
geneFunSummarize            8.976  2.236  11.379
plotGraph                   9.133  1.344  10.535
plotOntologyGraph           6.428  0.592   7.238
* checking for unstated dependencies in vignettes ... OK
* checking package vignettes in ‘inst/doc’ ... OK
* checking running R code from vignettes ... SKIPPED
* checking re-building of vignettes ... SKIPPED
* checking PDF version of manual ... OK
NOTE: There were 3 notes.
See
  ‘/loc/home/biocbuild/bbs-2.11-bioc/meat/GeneAnswers.Rcheck/00check.log’
for details.
 
* installing *source* package ‘GeneAnswers’ ...
** R
** data
** inst
** preparing package for lazy loading
** help
*** installing help indices
** building package indices
** installing vignettes
   ‘GeneAnswersCWAnnotation.Rnw’ 
   ‘geneAnswers.Rnw’ 
   ‘geneFunctionSummarize.Rnw’ 
** testing if installed package can be loaded
* DONE (GeneAnswers)