| Back to the "Multiple platform build/check report" | A B C [D] E F G H I J K L M N O P Q R S T U V W X Y Z |
| Package 176/609 | Hostname | OS / Arch | BUILD | CHECK | BUILD BIN | ||||
| DynDoc 1.36.0 Bioconductor Package Maintainer
| lamb1 | Linux (openSUSE 12.1) / x86_64 | OK | OK | |||||
| moscato1 | Windows Server 2008 R2 Enterprise SP1 (64-bit) / x64 | OK | OK | OK | |||||
| perceval | Mac OS X Leopard (10.5.8) / i386 | [ OK ] | OK | OK |
| Package: DynDoc |
| Version: 1.36.0 |
| Command: /Library/Frameworks/R.framework/Versions/2.15/Resources/bin/R CMD build --keep-empty-dirs --no-resave-data DynDoc |
| StartedAt: 2013-03-24 20:25:53 -0700 (Sun, 24 Mar 2013) |
| EndedAt: 2013-03-24 20:25:55 -0700 (Sun, 24 Mar 2013) |
| EllapsedTime: 2.2 seconds |
| RetCode: 0 |
| Status: OK |
| PackageFile: DynDoc_1.36.0.tar.gz |
| PackageFileSize: 11.06 KiB |
* checking for file 'DynDoc/DESCRIPTION' ... OK * preparing 'DynDoc': * checking DESCRIPTION meta-information ... OK * checking for LF line-endings in source and make files * checking for empty or unneeded directories * building 'DynDoc_1.36.0.tar.gz'