ChemmineR 2.10.9 ChemmineR Team
 | Snapshot Date: 2013-03-24 16:21:20 -0700 (Sun, 24 Mar 2013) |  | URL: https://hedgehog.fhcrc.org/bioconductor/branches/RELEASE_2_11/madman/Rpacks/ChemmineR |  | Last Changed Rev: 71850 / Revision: 74773 |  | Last Changed Date: 2012-12-11 18:15:09 -0800 (Tue, 11 Dec 2012) |  
  | lamb1  | Linux (openSUSE 12.1) / x86_64  |  OK  | [ OK ] |  | 
| moscato1  | Windows Server 2008 R2 Enterprise SP1 (64-bit) / x64  |  OK  |  OK  |  OK  | 
| perceval  | Mac OS X Leopard (10.5.8) / i386  |  OK  |  OK  |  OK  | 
* using log directory ‘/loc/home/biocbuild/bbs-2.11-bioc/meat/ChemmineR.Rcheck’
* using R version 2.15.3 (2013-03-01)
* using platform: x86_64-unknown-linux-gnu (64-bit)
* using session charset: UTF-8
* using option ‘--no-vignettes’
* checking for file ‘ChemmineR/DESCRIPTION’ ... OK
* checking extension type ... Package
* this is package ‘ChemmineR’ version ‘2.10.9’
* checking package namespace information ... OK
* checking package dependencies ... OK
* checking if this is a source package ... OK
* checking if there is a namespace ... OK
* checking whether package ‘ChemmineR’ can be installed ... OK
* checking installed package size ... OK
* checking package directory ... OK
* checking for portable file names ... OK
* checking for sufficient/correct file permissions ... OK
* checking DESCRIPTION meta-information ... OK
* checking top-level files ... OK
* checking for left-over files ... OK
* checking index information ... OK
* checking package subdirectories ... OK
* checking R files for non-ASCII characters ... OK
* checking R files for syntax errors ... OK
* checking whether the package can be loaded ... OK
* checking whether the package can be loaded with stated dependencies ... OK
* checking whether the package can be unloaded cleanly ... OK
* checking whether the namespace can be loaded with stated dependencies ... OK
* checking whether the namespace can be unloaded cleanly ... OK
* checking for unstated dependencies in R code ... OK
* checking S3 generic/method consistency ... OK
* checking replacement functions ... OK
* checking foreign function calls ... OK
* checking R code for possible problems ... NOTE
Found the following possibly unsafe calls:
File 'R/sim.R':
  found unlockBinding(".progress_bar_int_cnt",
    environment(.progress_bar))
.data.frame.to.str: no visible binding for global variable ‘string’
.gen_atom_pair: no visible global function definition for
  ‘Descriptors_get_len’
.gen_atom_pair: no visible global function definition for
  ‘Descriptors_get_descriptor’
.parse: no visible global function definition for ‘Descriptors’
.parse: no visible global function definition for
  ‘Descriptors_parse_sdf’
cmp.parse: no visible global function definition for ‘batch_parse’
cmp.parse1: no visible global function definition for
  ‘delete_Descriptors’
datablock2ma: no visible binding for global variable ‘sdfset’
sdf_to_desc: no visible global function definition for
  ‘delete_Descriptors’
sdfs_to_desc: no visible global function definition for ‘batch_parse’
* checking Rd files ... OK
* checking Rd metadata ... OK
* checking Rd cross-references ... OK
* checking for missing documentation entries ... OK
* checking for code/documentation mismatches ... OK
* checking Rd \usage sections ... OK
* checking Rd contents ... OK
* checking for unstated dependencies in examples ... OK
* checking contents of ‘data’ directory ... OK
* checking data for non-ASCII characters ... OK
* checking data for ASCII and uncompressed saves ... OK
* checking installed files from ‘inst/doc’ ... OK
* checking examples ... OK
Examples with CPU or elapsed time > 5s
                user system elapsed
AP-class      11.948  0.052  12.415
sdf2ap        11.521  0.052  11.779
apset2descdb  11.429  0.036  11.811
APset-class   11.341  0.064  11.500
ap            11.325  0.024  12.282
jarvisPatrick  5.221  0.304   5.540
* checking for unstated dependencies in vignettes ... NOTE
‘library’ or ‘require’ calls not declared from:
  ‘fmcsR’ ‘gplots’ ‘scatterplot3d’
* checking package vignettes in ‘inst/doc’ ... OK
* checking running R code from vignettes ... SKIPPED
* checking re-building of vignettes ... SKIPPED
* checking PDF version of manual ... OK
NOTE: There were 2 notes.
See
  ‘/loc/home/biocbuild/bbs-2.11-bioc/meat/ChemmineR.Rcheck/00check.log’
for details.
 
* installing *source* package ‘ChemmineR’ ...
** R
** data
** inst
** preparing package for lazy loading
Creating a generic function for ‘as.vector’ from package ‘base’ in package ‘ChemmineR’
Creating a generic function for ‘as.matrix’ from package ‘base’ in package ‘ChemmineR’
Creating a generic function for ‘plot’ from package ‘graphics’ in package ‘ChemmineR’
** help
*** installing help indices
** building package indices
** installing vignettes
   ‘ChemmineR.Rnw’ 
** testing if installed package can be loaded
* DONE (ChemmineR)