BSgenome 1.26.1 H. Pages
 | Snapshot Date: 2013-03-24 16:21:20 -0700 (Sun, 24 Mar 2013) |  | URL: https://hedgehog.fhcrc.org/bioconductor/branches/RELEASE_2_11/madman/Rpacks/BSgenome |  | Last Changed Rev: 70309 / Revision: 74773 |  | Last Changed Date: 2012-10-08 16:22:54 -0700 (Mon, 08 Oct 2012) |  
  | lamb1  | Linux (openSUSE 12.1) / x86_64  | [ OK ] |  WARNINGS  |  | 
| moscato1  | Windows Server 2008 R2 Enterprise SP1 (64-bit) / x64  |  OK  |  WARNINGS  |  OK  | 
| perceval  | Mac OS X Leopard (10.5.8) / i386  |  OK  |  WARNINGS  |  OK  | 
* checking for file ‘BSgenome/DESCRIPTION’ ... OK
* preparing ‘BSgenome’:
* checking DESCRIPTION meta-information ... OK
* installing the package to re-build vignettes
* creating vignettes ... OK
* checking for LF line-endings in source and make files
* checking for empty or unneeded directories
WARNING: directory ‘BSgenome/inst/BSgenomeDataPkg-template/inst/extdata’ is empty
WARNING: directory ‘BSgenome/tests/unit’ is empty
* building ‘BSgenome_1.26.1.tar.gz’