yeastCC 1.2.16 Sandrine Dudoit
Snapshot Date: 2012-09-23 10:15:26 -0700 (Sun, 23 Sep 2012) | URL: https://hedgehog.fhcrc.org/bioc-data/trunk/experiment/pkgs/yeastCC | Last Changed Rev: 2037 / Revision: 2159 | Last Changed Date: 2012-03-30 15:20:09 -0700 (Fri, 30 Mar 2012) |
| lamb2 | Linux (openSUSE 11.4) / x86_64 | OK | WARNINGS | |
moscato2 | Windows Server 2008 R2 Enterprise SP1 (64-bit) / x64 | OK | WARNINGS | [ OK ] |
petty | Mac OS X Leopard (10.5.8) / i386 | OK | WARNINGS | OK |
install for i386
* installing *source* package 'yeastCC' ...
** data
** moving datasets to lazyload DB
** inst
** help
*** installing help indices
** building package indices
** installing vignettes
** testing if installed package can be loaded
install for x64
* installing *source* package 'yeastCC' ...
** testing if installed package can be loaded
* MD5 sums
packaged installation of 'yeastCC' as yeastCC_1.2.16.zip
* DONE (yeastCC)