Back to the "Multiple platform build/check report" |
Package 114/126 | Hostname | OS / Arch | BUILD | CHECK | BUILD BIN | ||||
synapterdata 0.99.1 Laurent Gatto
| lamb2 | Linux (openSUSE 11.4) / x86_64 | OK | ERROR | |||||
moscato2 | Windows Server 2008 R2 Enterprise SP1 (64-bit) / x64 | OK | ERROR | [ ERROR ] | |||||
petty | Mac OS X Leopard (10.5.8) / i386 | OK | ERROR | ERROR |
Package: synapterdata |
Version: 0.99.1 |
Command: rm -rf synapterdata.buildbin-libdir && mkdir synapterdata.buildbin-libdir && E:\biocbld\bbs-2.10-bioc\R\bin\R.exe CMD INSTALL --build --merge-multiarch --library=synapterdata.buildbin-libdir synapterdata_0.99.1.tar.gz |
StartedAt: 2012-08-01 14:25:32 -0700 (Wed, 01 Aug 2012) |
EndedAt: 2012-08-01 14:26:40 -0700 (Wed, 01 Aug 2012) |
EllapsedTime: 68.2 seconds |
RetCode: 1 |
Status: ERROR |
PackageFile: None |
PackageFileSize: NA |
install for i386 ERROR: dependency 'synapter' is not available for package 'synapterdata' * removing 'E:/biocbld/bbs-2.10-data-experiment/meat/synapterdata.buildbin-libdir/synapterdata'