bsseqData 0.1.1 Kasper Daniel Hansen
Snapshot Date: 2012-08-01 10:15:23 -0700 (Wed, 01 Aug 2012) | URL: https://hedgehog.fhcrc.org/bioc-data/trunk/experiment/pkgs/bsseqData | Last Changed Rev: 2103 / Revision: 2112 | Last Changed Date: 2012-07-20 10:34:40 -0700 (Fri, 20 Jul 2012) |
| lamb2 | Linux (openSUSE 11.4) / x86_64 | [ OK ] | ERROR | |
moscato2 | Windows Server 2008 R2 Enterprise SP1 (64-bit) / x64 | OK | ERROR | ERROR |
petty | Mac OS X Leopard (10.5.8) / i386 | OK | ERROR | ERROR |
* checking for file ‘bsseqData/DESCRIPTION’ ... OK
* preparing ‘bsseqData’:
* checking DESCRIPTION meta-information ... OK
* checking for LF line-endings in source and make files
* checking for empty or unneeded directories
* looking to see if a ‘data/datalist’ file should be added
* building ‘bsseqData_0.1.1.tar.gz’