Mulder2012 0.2.1 Xin Wang
Snapshot Date: 2012-09-23 10:15:26 -0700 (Sun, 23 Sep 2012) | URL: https://hedgehog.fhcrc.org/bioc-data/trunk/experiment/pkgs/Mulder2012 | Last Changed Rev: 2085 / Revision: 2159 | Last Changed Date: 2012-06-18 15:33:36 -0700 (Mon, 18 Jun 2012) |
| lamb2 | Linux (openSUSE 11.4) / x86_64 | OK | OK | |
moscato2 | Windows Server 2008 R2 Enterprise SP1 (64-bit) / x64 | OK | OK | [ OK ] |
petty | Mac OS X Leopard (10.5.8) / i386 | OK | OK | OK |
install for i386
* installing *source* package 'Mulder2012' ...
** R
** data
** inst
** preparing package for lazy loading
Warning: replacing previous import 'coerce' when loading 'cellHTS2'
Warning: replacing previous import 'initialize' when loading 'cellHTS2'
Warning in .simpleDuplicateClass(def, prev) :
A specification for class "numeric_Or_integer" in package 'PANR' seems equivalent to one from package 'HTSanalyzeR' and is not turning on duplicate class definitions for this class
** help
*** installing help indices
** building package indices
** installing vignettes
'Mulder2012-Vignette.Rnw'
** testing if installed package can be loaded
Warning: replacing previous import 'coerce' when loading 'cellHTS2'
Warning: replacing previous import 'initialize' when loading 'cellHTS2'
Warning in .simpleDuplicateClass(def, prev) :
A specification for class "numeric_Or_integer" in package 'PANR' seems equivalent to one from package 'HTSanalyzeR' and is not turning on duplicate class definitions for this class
install for x64
* installing *source* package 'Mulder2012' ...
** testing if installed package can be loaded
Warning: replacing previous import 'coerce' when loading 'cellHTS2'
Warning: replacing previous import 'initialize' when loading 'cellHTS2'
Warning in .simpleDuplicateClass(def, prev) :
A specification for class "numeric_Or_integer" in package 'PANR' seems equivalent to one from package 'HTSanalyzeR' and is not turning on duplicate class definitions for this class
* MD5 sums
packaged installation of 'Mulder2012' as Mulder2012_0.2.1.zip
* DONE (Mulder2012)