ENCODEFig4Band4D 1.0.2 Wolfgang Huber
Snapshot Date: 2012-01-09 10:15:24 -0800 (Mon, 09 Jan 2012) | URL: https://hedgehog.fhcrc.org/bioc-data/trunk/experiment/pkgs/ENCODEFig4Band4D | Last Changed Rev: 1886 / Revision: 1886 | Last Changed Date: 2012-01-09 09:55:07 -0800 (Mon, 09 Jan 2012) |
| lamb2 | Linux (openSUSE 11.4) / x86_64 | [ OK ] | WARNINGS | |
moscato2 | Windows Server 2008 R2 Enterprise SP1 (64-bit) / x64 | OK | WARNINGS | OK |
petty | Mac OS X Snow Leopard (10.6.7) / i386 | OK | WARNINGS | OK |
* checking for file ‘ENCODEFig4Band4D/DESCRIPTION’ ... OK
* preparing ‘ENCODEFig4Band4D’:
* checking DESCRIPTION meta-information ... OK
* installing the package to re-build vignettes
* creating vignettes ... OK
* checking for LF line-endings in source and make files
* checking for empty or unneeded directories
* looking to see if a ‘data/datalist’ file should be added
* building ‘ENCODEFig4Band4D_1.0.2.tar.gz’