xps 1.15.2 Christian Stratowa
Snapshot Date: 2012-03-25 17:01:36 -0700 (Sun, 25 Mar 2012) | URL: https://hedgehog.fhcrc.org/bioconductor/trunk/madman/Rpacks/xps | Last Changed Rev: 63622 / Revision: 64431 | Last Changed Date: 2012-03-08 12:40:29 -0800 (Thu, 08 Mar 2012) |
| lamb2 | Linux (openSUSE 11.4) / x86_64 | OK | OK | |
moscato2 | Windows Server 2008 R2 Enterprise SP1 (64-bit) / x64 | [ ERROR ] | skipped | skipped |
petty | Mac OS X Leopard (10.5.8) / i386 | OK | OK | OK |
* checking for file 'xps/DESCRIPTION' ... OK
* preparing 'xps':
* checking DESCRIPTION meta-information ... OK
* cleaning src
* installing the package to re-build vignettes
-----------------------------------
* installing *source* package 'xps' ...
testing for presence of ROOT...
xps configuration error:
The environment variable ROOTSYS was not found.
Please set ROOTSYS to the directory where ROOT is located.
Please consult the README file for more information.
ERROR: configuration failed for package 'xps'
* removing 'E:/biocbld/bbs-2.10-bioc/tmpdir/RtmpWWuWdU/Rinst1650481e473/xps'
-----------------------------------
ERROR: package installation failed