Back to the "Multiple platform build/check report" A  B  C  D  E  F  G  H  I  J  K  L  M  N  O [P] Q  R  S  T  U  V  W  X  Y  Z 

Package 402/554HostnameOS / ArchBUILDCHECKBUILD BIN
phyloseq 1.0.0
Paul J. McMurdie
Snapshot Date: 2012-03-31 17:01:49 -0700 (Sat, 31 Mar 2012)
URL: https://hedgehog.fhcrc.org/bioconductor/branches/RELEASE_2_10/madman/Rpacks/phyloseq
Last Changed Rev: 64678 / Revision: 64719
Last Changed Date: 2012-03-30 15:05:02 -0700 (Fri, 30 Mar 2012)
lamb2 Linux (openSUSE 11.4) / x86_64  OK  OK 
puck5 Linux (Ubuntu 12.04) / x86_64  OK [ OK ]
moscato2 Windows Server 2008 R2 Enterprise SP1 (64-bit) / x64  OK  OK  OK 
petty Mac OS X Leopard (10.5.8) / i386  OK  OK  OK 

Summary

Package: phyloseq
Version: 1.0.0
Command: /home/hpages/test-puck5/bbs-2.10-bioc/R/bin/R CMD check --no-vignettes --timings phyloseq_1.0.0.tar.gz
StartedAt: 2012-04-01 02:41:40 -0700 (Sun, 01 Apr 2012)
EndedAt: 2012-04-01 02:43:36 -0700 (Sun, 01 Apr 2012)
EllapsedTime: 116.4 seconds
RetCode: 0
Status:  OK 
CheckDir: phyloseq.Rcheck
Warnings: 0

Command output

* using log directory '/loc/home/hpages/test-puck5/bbs-2.10-bioc/meat/phyloseq.Rcheck'
* using R version 2.15.0 RC (2012-03-22 r58802)
* using platform: x86_64-unknown-linux-gnu (64-bit)
* using session charset: ISO8859-1
* using option '--no-vignettes'
* checking for file 'phyloseq/DESCRIPTION' ... OK
* this is package 'phyloseq' version '1.0.0'
* checking package namespace information ... OK
* checking package dependencies ... NOTE
Package which this enhances but not available for checking: 'doParallel'
* checking if this is a source package ... OK
* checking if there is a namespace ... OK
* checking whether package 'phyloseq' can be installed ... OK
* checking installed package size ... OK
* checking package directory ... OK
* checking for portable file names ... OK
* checking for sufficient/correct file permissions ... OK
* checking DESCRIPTION meta-information ... OK
* checking top-level files ... OK
* checking index information ... OK
* checking package subdirectories ... OK
* checking R files for non-ASCII characters ... OK
* checking R files for syntax errors ... OK
* checking whether the package can be loaded ... OK
* checking whether the package can be loaded with stated dependencies ... OK
* checking whether the package can be unloaded cleanly ... OK
* checking whether the namespace can be loaded with stated dependencies ... OK
* checking whether the namespace can be unloaded cleanly ... OK
* checking for unstated dependencies in R code ... OK
* checking S3 generic/method consistency ... OK
* checking replacement functions ... OK
* checking foreign function calls ... OK
* checking R code for possible problems ... NOTE
JSD: no visible binding for global variable 'i'
export_env_file: no visible global function definition for 'ps'
fastUniFrac: no visible binding for global variable 'i'
filter_taxa: no visible binding for global variable 'enterotype'
filter_taxa: no visible binding for global variable 'expr'
originalUniFrac: no visible binding for global variable 'i'
otu2df : trimdf: no visible binding for global variable 'TaxaGroup'
otu2df : trimdf: no visible binding for global variable 'Abundance'
plot_richness_estimates: no visible binding for global variable 'value'
plot_richness_estimates: no visible binding for global variable 'se'
plot_sample_network: no visible binding for global variable 'x'
plot_sample_network: no visible binding for global variable 'y'
plot_taxa_bar: no visible binding for global variable 'Abundance'
taxaplot: no visible binding for global variable 'Abundance'
* checking Rd files ... OK
* checking Rd metadata ... OK
* checking Rd cross-references ... OK
* checking for missing documentation entries ... OK
* checking for code/documentation mismatches ... OK
* checking Rd \usage sections ... OK
* checking Rd contents ... OK
* checking for unstated dependencies in examples ... OK
* checking contents of 'data' directory ... OK
* checking data for non-ASCII characters ... OK
* checking data for ASCII and uncompressed saves ... OK
* checking installed files from 'inst/doc' ... NOTE
The following files should probably not be installed:
  'naturemag.bst'

Consider the use of a .Rinstignore file: see 'Writing R Extensions',
or move the vignette sources from 'inst/doc' to 'vignettes'.
* checking examples ... OK
* checking for unstated dependencies in vignettes ... OK
* checking package vignettes in 'inst/doc' ... OK
* checking running R code from vignettes ... SKIPPED
* checking re-building of vignettes ... SKIPPED
* checking PDF version of manual ... OK

NOTE: There were 3 notes.
See
  '/loc/home/hpages/test-puck5/bbs-2.10-bioc/meat/phyloseq.Rcheck/00check.log'
for details.

phyloseq.Rcheck/00install.out:

* installing *source* package 'phyloseq' ...
** R
** data
** inst
** preparing package for lazy loading
** help
*** installing help indices
** building package indices
** installing vignettes
   'phyloseq_analysis.Rnw' 
   'phyloseq_basics.Rnw' 
** testing if installed package can be loaded

* DONE (phyloseq)

phyloseq.Rcheck/phyloseq-Ex.timings:

nameusersystemelapsed
DPCoA000
JSD000
UniFrac-methods000
access000
assign-otuTable000
assign-sampleData000
assign-speciesarerows000
assign-taxTab0.0000.0000.001
assign-tre000
cca-rda-phyloseq-methods000
data-GlobalPatterns0.0000.0000.001
data-enterotype0.0000.0000.001
data-esophagus000
data-soilrep8.2680.0728.367
distance1.3880.0161.472
edgelist2clique000
envHash2otuTable0.0000.0000.001
estimate_richness0.8280.0400.885
export_env_file000
export_mothur_dist0.0000.0000.001
filter_taxa000
filterfunSample000
genefilterSample-methods0.0000.0000.001
get.component.classes000
getSamples-methods0.0040.0000.028
getSpecies-methods0.0080.0000.030
getTaxa0.2400.0120.294
getVariable0.1840.0040.239
getslots.phyloseq0.1880.0040.227
import000
import_biom000
import_env_file000
import_mothur000
import_mothur_dist000
import_pyrotagger_tab000
import_qiime000
intersect_species000
make_sample_network3.8850.0203.955
merge_phyloseq000
merge_phyloseq_pair-methods0.0000.0000.001
merge_samples-methods000
merge_species-methods000
mt-methods000
nsamples-methods000
nspecies-methods000
ordinate0.0000.0040.000
otuTable-methods000
phyloseq000
plot-taxa-bar000
plot_ordination0.0000.0000.001
plot_phyloseq-methods000
plot_richness_estimates000
plot_sample_network3.3720.0003.394
plot_tree_phyloseq000
prune_samples-methods000
prune_species-methods000
rank.names0.0360.0000.055
reconcile_categories000
reconcile_samples000
reconcile_species-methods000
rm_outlierf000
sample.names-methods000
sample.variables0.0280.0000.049
sampleData-methods000
sampleSums0.0360.0080.095
show-methods000
species.names-methods000
speciesSums0.0400.0040.083
splat.phyloseq.objects000
subset_ord_plot000
subset_samples-methods0.0000.0000.001
subset_species-methods000
taxTab-methods000
taxglom-methods0.0000.0000.001
threshrank2.6600.4283.112
threshrankfun2.2960.3922.710
tip-annotate000
tipglom-methods000
topf000
topk000
topp000
transformcounts2.4800.2842.786
transpose-methods0.7200.3001.041
tre-methods000