Back to the "Multiple platform build/check report" | A B C D E F G H I J K L M N [O] P Q R S T U V W X Y Z |
Package 380/553 | Hostname | OS / Arch | BUILD | CHECK | BUILD BIN | ||||
oneChannelGUI 1.22.12 Raffaele A Calogero
| lamb2 | Linux (openSUSE 11.4) / x86_64 | OK | OK | |||||
moscato2 | Windows Server 2008 R2 Enterprise SP1 (64-bit) / x64 | OK | OK | OK | |||||
petty | Mac OS X Leopard (10.5.8) / i386 | OK | OK | [ OK ] |
Package: oneChannelGUI |
Version: 1.22.12 |
Command: rm -rf oneChannelGUI.buildbin-libdir && mkdir oneChannelGUI.buildbin-libdir && /Users/biocbuild/BBS/utils/build-universal.sh oneChannelGUI_1.22.12.tar.gz /Library/Frameworks/R.framework/Versions/2.15/Resources/bin/R oneChannelGUI.buildbin-libdir |
StartedAt: 2012-09-24 02:22:57 -0700 (Mon, 24 Sep 2012) |
EndedAt: 2012-09-24 02:23:29 -0700 (Mon, 24 Sep 2012) |
EllapsedTime: 32.9 seconds |
RetCode: 0 |
Status: OK |
PackageFile: oneChannelGUI_1.22.12.tgz |
PackageFileSize: 5.788 MiB |
>>>>>>> >>>>>>> INSTALLATION WITH 'R CMD INSTALL --preclean --no-multiarch --library=oneChannelGUI.buildbin-libdir oneChannelGUI_1.22.12.tar.gz' >>>>>>> * installing *source* package 'oneChannelGUI' ... ** R ** data ** inst ** preparing package for lazy loading ** help *** installing help indices ** building package indices ** installing vignettes 'Exon-level.analysis.Rnw' 'RNAseq.Rnw' 'gene-level.analysis.Rnw' 'install.Rnw' 'standAloneFunctions.Rnw' ** testing if installed package can be loaded * DONE (oneChannelGUI)