Back to the "Multiple platform build/check report" A  B  C  D  E  F  G  H  I  J  K  L  M  N [O] P  Q  R  S  T  U  V  W  X  Y  Z 

Package 378/554HostnameOS / ArchBUILDCHECKBUILD BIN
oligoClasses 1.18.0
Benilton Carvalho and Robert Scharpf
Snapshot Date: 2012-03-31 17:01:49 -0700 (Sat, 31 Mar 2012)
URL: https://hedgehog.fhcrc.org/bioconductor/branches/RELEASE_2_10/madman/Rpacks/oligoClasses
Last Changed Rev: 64678 / Revision: 64719
Last Changed Date: 2012-03-30 15:05:02 -0700 (Fri, 30 Mar 2012)
lamb2 Linux (openSUSE 11.4) / x86_64  OK  OK 
puck5 Linux (Ubuntu 12.04) / x86_64  OK [ OK ]
moscato2 Windows Server 2008 R2 Enterprise SP1 (64-bit) / x64  OK  OK  OK 
petty Mac OS X Leopard (10.5.8) / i386  OK  OK  OK 

Summary

Package: oligoClasses
Version: 1.18.0
Command: /home/hpages/test-puck5/bbs-2.10-bioc/R/bin/R CMD check --no-vignettes --timings oligoClasses_1.18.0.tar.gz
StartedAt: 2012-04-01 02:27:26 -0700 (Sun, 01 Apr 2012)
EndedAt: 2012-04-01 02:29:27 -0700 (Sun, 01 Apr 2012)
EllapsedTime: 121.3 seconds
RetCode: 0
Status:  OK 
CheckDir: oligoClasses.Rcheck
Warnings: 0

Command output

* using log directory '/loc/home/hpages/test-puck5/bbs-2.10-bioc/meat/oligoClasses.Rcheck'
* using R version 2.15.0 RC (2012-03-22 r58802)
* using platform: x86_64-unknown-linux-gnu (64-bit)
* using session charset: ISO8859-1
* using option '--no-vignettes'
* checking for file 'oligoClasses/DESCRIPTION' ... OK
* this is package 'oligoClasses' version '1.18.0'
* checking package namespace information ... OK
* checking package dependencies ... NOTE
Packages which this enhances but not available for checking:
  'doMPI' 'doSNOW' 'doParallel' 'doRedis'
* checking if this is a source package ... OK
* checking if there is a namespace ... OK
* checking whether package 'oligoClasses' can be installed ... OK
* checking installed package size ... OK
* checking package directory ... OK
* checking for portable file names ... OK
* checking for sufficient/correct file permissions ... OK
* checking DESCRIPTION meta-information ... OK
* checking top-level files ... OK
* checking index information ... OK
* checking package subdirectories ... OK
* checking R files for non-ASCII characters ... OK
* checking R files for syntax errors ... OK
* checking whether the package can be loaded ... OK
* checking whether the package can be loaded with stated dependencies ... OK
* checking whether the package can be unloaded cleanly ... OK
* checking whether the namespace can be loaded with stated dependencies ... OK
* checking whether the namespace can be unloaded cleanly ... OK
* checking for unstated dependencies in R code ... OK
* checking S3 generic/method consistency ... OK
* checking replacement functions ... OK
* checking foreign function calls ... OK
* checking R code for possible problems ... OK
* checking Rd files ... OK
* checking Rd metadata ... OK
* checking Rd cross-references ... OK
* checking for missing documentation entries ... OK
* checking for code/documentation mismatches ... OK
* checking Rd \usage sections ... OK
* checking Rd contents ... OK
* checking for unstated dependencies in examples ... OK
* checking contents of 'data' directory ... OK
* checking data for non-ASCII characters ... OK
* checking data for ASCII and uncompressed saves ... OK
* checking installed files from 'inst/doc' ... OK
* checking examples ... OK
* checking for unstated dependencies in tests ... OK
* checking tests ...
  Running 'doRUnit.R'
 OK
* checking PDF version of manual ... OK

NOTE: There was 1 note.
See
  '/loc/home/hpages/test-puck5/bbs-2.10-bioc/meat/oligoClasses.Rcheck/00check.log'
for details.

oligoClasses.Rcheck/00install.out:

* installing *source* package 'oligoClasses' ...
** R
** data
** inst
** preparing package for lazy loading
Creating a generic function for 'open' from package 'base' in package 'oligoClasses'
Creating a generic function for 'close' from package 'base' in package 'oligoClasses'
Creating a generic function for 'mean' from package 'base' in package 'oligoClasses'
** help
*** installing help indices
** building package indices
** installing vignettes
** testing if installed package can be loaded

* DONE (oligoClasses)

oligoClasses.Rcheck/oligoClasses-Ex.timings:

nameusersystemelapsed
AlleleSet-class0.2320.0000.235
AssayData-methods0.3440.0080.350
BeadStudioSet-class0.0440.0080.053
CNSet-class0.0440.0000.042
CopyNumberSet-class0.0440.0000.044
FeatureSetExtensions-class0.1680.0000.171
GenomeAnnotatedDataFrame-class0.5800.0760.852
RangedDataCNV-classes0.0000.0000.001
RangedDataCNV-utils0.2960.0040.322
SnpSet-methods0.0400.0000.041
SnpSuperSet-class0.0840.0000.083
affyPlatforms000
batch0.0440.0000.042
celfileDate0.0200.0040.040
checkExists0.0080.0000.005
checkOrder0.1120.0000.119
chromosome-methods0.0040.0000.000
chromosome2integer000
clusterOpts0.1080.0160.185
data-efsExample0.0040.0000.009
data-scqsExample0.0000.0000.006
data-sfsExample0.0000.0000.006
data-sqsExample0.0000.0000.007
db0.0040.0000.000
ff_matrix0.0000.0000.001
ff_or_matrix-class0.0000.0000.001
fileConnections000
findOverlaps0.9120.0481.053
flags0.2200.0000.222
gSet-class0.0000.0000.001
geometry-methods0.1000.0080.162
getBar0.0000.0000.001
i2p_p2i000
integerMatrix000
is.ffmatrix000
isPackageLoaded000
kind0.0920.0160.167
largeObjects0.1440.0000.144
ldOpts0.0000.0040.001
library20.0480.0000.063
list.celfiles0.0280.0000.044
locusLevelData0.0640.0040.071
oligoSetExample0.0880.0000.093
pdPkgFromBioC000
requireAnnotation0.0040.0000.000
splitVec0.0080.0040.024