Back to the "Multiple platform build/check report" A  B  C  D  E  F  G  H  I  J  K  L  M [N] O  P  Q  R  S  T  U  V  W  X  Y  Z 

Package 367/554HostnameOS / ArchBUILDCHECKBUILD BIN
nem 2.32.0
Holger Froehlich
Snapshot Date: 2012-03-31 17:01:49 -0700 (Sat, 31 Mar 2012)
URL: https://hedgehog.fhcrc.org/bioconductor/branches/RELEASE_2_10/madman/Rpacks/nem
Last Changed Rev: 64678 / Revision: 64719
Last Changed Date: 2012-03-30 15:05:02 -0700 (Fri, 30 Mar 2012)
lamb2 Linux (openSUSE 11.4) / x86_64  OK  OK 
puck5 Linux (Ubuntu 12.04) / x86_64  OK [ OK ]
moscato2 Windows Server 2008 R2 Enterprise SP1 (64-bit) / x64  OK  OK  OK 
petty Mac OS X Leopard (10.5.8) / i386  OK  OK  OK 

Summary

Package: nem
Version: 2.32.0
Command: /home/hpages/test-puck5/bbs-2.10-bioc/R/bin/R CMD check --no-vignettes --timings nem_2.32.0.tar.gz
StartedAt: 2012-04-01 02:22:02 -0700 (Sun, 01 Apr 2012)
EndedAt: 2012-04-01 02:23:22 -0700 (Sun, 01 Apr 2012)
EllapsedTime: 79.3 seconds
RetCode: 0
Status:  OK 
CheckDir: nem.Rcheck
Warnings: 0

Command output

* using log directory '/loc/home/hpages/test-puck5/bbs-2.10-bioc/meat/nem.Rcheck'
* using R version 2.15.0 RC (2012-03-22 r58802)
* using platform: x86_64-unknown-linux-gnu (64-bit)
* using session charset: ISO8859-1
* using option '--no-vignettes'
* checking for file 'nem/DESCRIPTION' ... OK
* this is package 'nem' version '2.32.0'
* checking package namespace information ... OK
* checking package dependencies ... OK
* checking if this is a source package ... OK
* checking if there is a namespace ... OK
* checking whether package 'nem' can be installed ... OK
* checking installed package size ... OK
* checking package directory ... OK
* checking for portable file names ... OK
* checking for sufficient/correct file permissions ... OK
* checking DESCRIPTION meta-information ... OK
* checking top-level files ... OK
* checking index information ... OK
* checking package subdirectories ... OK
* checking R files for non-ASCII characters ... OK
* checking R files for syntax errors ... OK
* checking whether the package can be loaded ... OK
* checking whether the package can be loaded with stated dependencies ... OK
* checking whether the package can be unloaded cleanly ... OK
* checking whether the namespace can be loaded with stated dependencies ... OK
* checking whether the namespace can be unloaded cleanly ... OK
* checking for unstated dependencies in R code ... OK
* checking S3 generic/method consistency ... OK
* checking replacement functions ... OK
* checking foreign function calls ... OK
* checking R code for possible problems ... NOTE
get.insertions: warning in transitive.closure(Phinew, mat = TRUE, loop
  = TRUE): partial argument match of 'loop' to 'loops'
moduleNetwork: warning in transitive.closure(modeltotal, mat = TRUE,
  loop = TRUE): partial argument match of 'loop' to 'loops'
nem: no visible global function definition for 'dynoNEM_MCMC'
nem: no visible global function definition for
  'dynoNEM.posteriorEGenePos'
nem.calcSignificance : modify.rand: warning in
  transitive.closure(Phinew, mat = TRUE, loop = TRUE): partial argument
  match of 'loop' to 'loops'
nem.calcSignificance: no visible binding for global variable
  'inference'
nem.calcSignificance: no visible global function definition for
  'registerDoMC'
nem.calcSignificance: no visible global function definition for
  '%dopar%'
nem.calcSignificance: no visible global function definition for
  'foreach'
nem.featureselection: no visible global function definition for
  'registerDoMC'
nem.featureselection: no visible global function definition for
  '%dopar%'
nem.featureselection: no visible global function definition for
  'foreach'
nem.featureselection: no visible binding for global variable 'd'
nemModelSelection: no visible global function definition for
  'registerDoMC'
nemModelSelection: no visible global function definition for '%dopar%'
nemModelSelection: no visible global function definition for 'foreach'
nemModelSelection: no visible binding for global variable 'lam'
nemModelSelection: no visible binding for global variable 'r'
sampleRndNetwork: warning in transitive.closure(S, mat = TRUE, loop =
  FALSE): partial argument match of 'loop' to 'loops'
score: no visible global function definition for 'registerDoMC'
score: no visible global function definition for '%dopar%'
score: no visible global function definition for 'foreach'
score: no visible binding for global variable 'm'
sim.intervention : <anonymous>: no visible global function definition
  for 'dynoNEM.perturb'
* checking Rd files ... OK
* checking Rd metadata ... OK
* checking Rd cross-references ... OK
* checking for missing documentation entries ... OK
* checking for code/documentation mismatches ... OK
* checking Rd \usage sections ... OK
* checking Rd contents ... OK
* checking for unstated dependencies in examples ... OK
* checking contents of 'data' directory ... OK
* checking data for non-ASCII characters ... OK
* checking data for ASCII and uncompressed saves ... OK
* checking line endings in C/C++/Fortran sources/headers ... OK
* checking line endings in Makefiles ... OK
* checking for portable use of $(BLAS_LIBS) and $(LAPACK_LIBS) ... OK
* checking compiled code ... OK
* checking installed files from 'inst/doc' ... OK
* checking examples ... OK
* checking for unstated dependencies in vignettes ... OK
* checking package vignettes in 'inst/doc' ... OK
* checking running R code from vignettes ... SKIPPED
* checking re-building of vignettes ... SKIPPED
* checking PDF version of manual ... OK

NOTE: There was 1 note.
See
  '/loc/home/hpages/test-puck5/bbs-2.10-bioc/meat/nem.Rcheck/00check.log'
for details.

nem.Rcheck/00install.out:

* installing *source* package 'nem' ...
** libs
gcc -std=gnu99 -I/home/hpages/test-puck5/bbs-2.10-bioc/R/include -DNDEBUG  -I/usr/local/include    -fpic  -g -O2  -c MCMC.c -o MCMC.o
gcc -std=gnu99 -I/home/hpages/test-puck5/bbs-2.10-bioc/R/include -DNDEBUG  -I/usr/local/include    -fpic  -g -O2  -c wrapper.c -o wrapper.o
gcc -std=gnu99 -shared -L/usr/local/lib -o nem.so MCMC.o wrapper.o -L/home/hpages/test-puck5/bbs-2.10-bioc/R/lib -lR
installing to /loc/home/hpages/test-puck5/bbs-2.10-bioc/meat/nem.Rcheck/nem/libs
** R
** data
** inst
** preparing package for lazy loading
** help
*** installing help indices
** building package indices
** installing vignettes
   'nem.Rnw' using 'latin1' 
** testing if installed package can be loaded

* DONE (nem)

nem.Rcheck/nem-Ex.timings:

nameusersystemelapsed
BFSlevel000
BoutrosRNAi20020.0320.0000.047
NiederbergerMediator20120.0160.0000.029
SCCgraph0.2880.0040.306
SahinRNAi20080.0080.0000.029
enumerate.models0.0040.0000.004
generateNetwork0.5960.0080.619
infer.edge.type0.3640.0040.396
local.model.prior0.0040.0000.000
nem4.0440.0404.164
nem.bootstrap000
nem.calcSignificance000
nem.consensus000
nem.cont.preprocess0.1600.0080.245
nem.discretize0.0360.0000.057
nem.jackknife000
nemModelSelection0.6240.0080.659
network.AIC0.1840.0000.198
plotEffects0.3880.0080.436
prior.EgeneAttach.EB0.4800.0000.505
prune.graph0.6480.0080.702
quicknem000
selectEGenes0.7240.0040.740
set.default.parameters000
sim.intervention0.1440.0040.164
subsets000
transitive.closure0.4160.0120.456
transitive.reduction0.4280.0040.459