ncdfFlow 1.2.1 M. Jiang
Snapshot Date: 2012-09-23 17:01:39 -0700 (Sun, 23 Sep 2012) | URL: https://hedgehog.fhcrc.org/bioconductor/branches/RELEASE_2_10/madman/Rpacks/ncdfFlow | Last Changed Rev: 64875 / Revision: 69725 | Last Changed Date: 2012-04-04 17:43:02 -0700 (Wed, 04 Apr 2012) |
| lamb2 | Linux (openSUSE 11.4) / x86_64 | OK | OK | |
moscato2 | Windows Server 2008 R2 Enterprise SP1 (64-bit) / x64 | [ ERROR ] | skipped | skipped |
petty | Mac OS X Leopard (10.5.8) / i386 | OK | OK | OK |
* checking for file 'ncdfFlow/DESCRIPTION' ... OK
* preparing 'ncdfFlow':
* checking DESCRIPTION meta-information ... OK
* cleaning src
* installing the package to re-build vignettes
-----------------------------------
* installing *source* package 'ncdfFlow' ...
**********************************************
WARNING: this package has a configure script
It probably needs manual configuration
**********************************************
** libs
gcc -I"E:/biocbld/BBS-2˜1.10-/R/include" -DNDEBUG -I/usr/local/include -O3 -Wall -std=gnu99 -mtune=core2 -c bitOps.c -o bitOps.o
gcc -I"E:/biocbld/BBS-2˜1.10-/R/include" -DNDEBUG -I/usr/local/include -O3 -Wall -std=gnu99 -mtune=core2 -c init.c -o init.o
gcc -I"E:/biocbld/BBS-2˜1.10-/R/include" -DNDEBUG -I/usr/local/include -O3 -Wall -std=gnu99 -mtune=core2 -c netCDF.c -o netCDF.o
netCDF.c:6:20: fatal error: netcdf.h: No such file or directory
compilation terminated.
make: *** [netCDF.o] Error 1
ERROR: compilation failed for package 'ncdfFlow'
* removing 'E:/biocbld/bbs-2.10-bioc/tmpdir/Rtmp6dTYuE/Rinst23981c893942/ncdfFlow'
-----------------------------------
ERROR: package installation failed