methylumi 2.2.0 Sean Davis
Snapshot Date: 2012-09-23 17:01:39 -0700 (Sun, 23 Sep 2012) | URL: https://hedgehog.fhcrc.org/bioconductor/branches/RELEASE_2_10/madman/Rpacks/methylumi | Last Changed Rev: 64678 / Revision: 69725 | Last Changed Date: 2012-03-30 15:05:02 -0700 (Fri, 30 Mar 2012) |
| lamb2 | Linux (openSUSE 11.4) / x86_64 | OK | OK | |
moscato2 | Windows Server 2008 R2 Enterprise SP1 (64-bit) / x64 | OK | OK | [ OK ] |
petty | Mac OS X Leopard (10.5.8) / i386 | OK | OK | OK |
install for i386
* installing *source* package 'methylumi' ...
** R
** data
** inst
** preparing package for lazy loading
Warning: replacing previous import 'image' when loading 'graphics'
in method for 'total.intensity' with signature 'object="MethyLumiSet"': no definition for class "MethyLumiSet"
in method for 'total.intensity' with signature 'object="MethyLumiM"': no definition for class "MethyLumiM"
in method for 'intensitiesByChannel' with signature 'object="MethyLumiSet"': no definition for class "MethyLumiSet"
in method for 'intensitiesByChannel' with signature 'object="MethyLumiM"': no definition for class "MethyLumiM"
in method for 'Cy3.SD' with signature 'object="MethyLumiSet"': no definition for class "MethyLumiSet"
in method for 'Cy3.N' with signature 'object="MethyLumiSet"': no definition for class "MethyLumiSet"
in method for 'Cy5.SD' with signature 'object="MethyLumiSet"': no definition for class "MethyLumiSet"
in method for 'Cy5.N' with signature 'object="MethyLumiSet"': no definition for class "MethyLumiSet"
in method for 'negctls' with signature 'object="MethyLumiSet",channel="character"': no definition for class "MethyLumiSet"
in method for 'negctls' with signature 'object="MethyLumiSet",channel="missing"': no definition for class "MethyLumiSet"
in method for 'negctls' with signature 'object="MethyLumiM",channel="character"': no definition for class "MethyLumiM"
in method for 'negctls' with signature 'object="MethyLumiM",channel="missing"': no definition for class "MethyLumiM"
in method for 'negctls.SD' with signature 'object="MethyLumiSet",channel="character"': no definition for class "MethyLumiSet"
in method for 'negctls.SD' with signature 'object="MethyLumiM",channel="character"': no definition for class "MethyLumiM"
in method for 'negctls.stderr' with signature 'object="MethyLumiSet",channel="character"': no definition for class "MethyLumiSet"
in method for 'negctls.stderr' with signature 'object="MethyLumiSet",channel="missing"': no definition for class "MethyLumiSet"
in method for 'negnorm' with signature 'object="MethyLumiSet",channel="character"': no definition for class "MethyLumiSet"
in method for 'negnorm' with signature 'object="MethyLumiM",channel="character"': no definition for class "MethyLumiM"
in method for 'negnorm' with signature 'object="MethyLumiSet",channel="missing"': no definition for class "MethyLumiSet"
in method for 'negnorm' with signature 'object="MethyLumiM",channel="missing"': no definition for class "MethyLumiM"
in method for 'normctls' with signature 'object="MethyLumiSet"': no definition for class "MethyLumiSet"
in method for 'normctls' with signature 'object="MethyLumiM"': no definition for class "MethyLumiM"
** help
*** installing help indices
** building package indices
** installing vignettes
'methylumi.Rnw'
** testing if installed package can be loaded
Warning: replacing previous import 'image' when loading 'graphics'
install for x64
* installing *source* package 'methylumi' ...
** testing if installed package can be loaded
Warning: replacing previous import 'image' when loading 'graphics'
* MD5 sums
packaged installation of 'methylumi' as methylumi_2.2.0.zip
* DONE (methylumi)