metahdep 1.14.0 John R. Stevens
 | Snapshot Date: 2012-09-23 17:01:39 -0700 (Sun, 23 Sep 2012) |  | URL: https://hedgehog.fhcrc.org/bioconductor/branches/RELEASE_2_10/madman/Rpacks/metahdep |  | Last Changed Rev: 64678 / Revision: 69725 |  | Last Changed Date: 2012-03-30 15:05:02 -0700 (Fri, 30 Mar 2012) |  
  | lamb2  | Linux (openSUSE 11.4) / x86_64  |  OK  |  OK  |  | 
| moscato2  | Windows Server 2008 R2 Enterprise SP1 (64-bit) / x64  |  OK  |  OK  | [ OK ] | 
| petty  | Mac OS X Leopard (10.5.8) / i386  |  OK  |  OK  |  OK  | 
install for i386
* installing *source* package 'metahdep' ...
** libs
gcc  -I"E:/biocbld/BBS-2˜1.10-/R/include" -DNDEBUG          -O3 -Wall  -std=gnu99 -mtune=core2 -c metahdep.c -o metahdep.o
metahdep.c: In function 'get_row_indices2':
metahdep.c:471:5: warning: passing argument 5 of 'metan_binary_search_unique' makes integer from pointer without a cast [enabled by default]
metahdep.c:372:6: note: expected 'char' but argument is of type 'const char *'
gcc -shared -s -static-libgcc -o metahdep.dll tmp.def metahdep.o -LE:/biocbld/BBS-2˜1.10-/R/bin/i386 -lR
installing to E:/biocbld/bbs-2.10-bioc/meat/metahdep.buildbin-libdir/metahdep/libs/i386
** R
** data
** inst
** preparing package for lazy loading
** help
*** installing help indices
** building package indices
** installing vignettes
   'metahdep.Rnw' 
** testing if installed package can be loaded
install for x64
* installing *source* package 'metahdep' ...
** libs
gcc -m64 -I"E:/biocbld/BBS-2˜1.10-/R/include" -DNDEBUG     -I"d:/RCompile/CRANpkg/extralibs64/local/include"     -O2 -Wall  -std=gnu99 -mtune=core2 -c metahdep.c -o metahdep.o
metahdep.c: In function 'get_row_indices2':
metahdep.c:471:5: warning: passing argument 5 of 'metan_binary_search_unique' makes integer from pointer without a cast [enabled by default]
metahdep.c:372:6: note: expected 'char' but argument is of type 'const char *'
gcc -m64 -shared -s -static-libgcc -o metahdep.dll tmp.def metahdep.o -Ld:/RCompile/CRANpkg/extralibs64/local/lib/x64 -Ld:/RCompile/CRANpkg/extralibs64/local/lib -LE:/biocbld/BBS-2~1.10-/R/bin/x64 -lR
installing to E:/biocbld/bbs-2.10-bioc/meat/metahdep.buildbin-libdir/metahdep/libs/x64
** testing if installed package can be loaded
* MD5 sums
packaged installation of 'metahdep' as metahdep_1.14.0.zip
* DONE (metahdep)