metaArray 1.34.0 Hyungwon Choi
Snapshot Date: 2012-09-23 17:01:39 -0700 (Sun, 23 Sep 2012) | URL: https://hedgehog.fhcrc.org/bioconductor/branches/RELEASE_2_10/madman/Rpacks/metaArray | Last Changed Rev: 64678 / Revision: 69725 | Last Changed Date: 2012-03-30 15:05:02 -0700 (Fri, 30 Mar 2012) |
| lamb2 | Linux (openSUSE 11.4) / x86_64 | OK | OK | |
moscato2 | Windows Server 2008 R2 Enterprise SP1 (64-bit) / x64 | OK | OK | [ OK ] |
petty | Mac OS X Leopard (10.5.8) / i386 | OK | OK | OK |
install for i386
* installing *source* package 'metaArray' ...
** libs
gcc -I"E:/biocbld/BBS-2˜1.10-/R/include" -DNDEBUG -DUSEDOUBLE -DWINDOWS -O3 -Wall -std=gnu99 -mtune=core2 -c contr.c -o contr.o
gcc -I"E:/biocbld/BBS-2˜1.10-/R/include" -DNDEBUG -DUSEDOUBLE -DWINDOWS -O3 -Wall -std=gnu99 -mtune=core2 -c dproc.c -o dproc.o
dproc.c: In function 'malloc_CH':
dproc.c:111:21: warning: variable 'num' set but not used [-Wunused-but-set-variable]
dproc.c: In function 'free_CH':
dproc.c:192:16: warning: unused variable 'nc' [-Wunused-variable]
dproc.c:192:12: warning: variable 'nr' set but not used [-Wunused-but-set-variable]
dproc.c:192:7: warning: variable 'num' set but not used [-Wunused-but-set-variable]
gcc -I"E:/biocbld/BBS-2˜1.10-/R/include" -DNDEBUG -DUSEDOUBLE -DWINDOWS -O3 -Wall -std=gnu99 -mtune=core2 -c dproc2.c -o dproc2.o
gcc -I"E:/biocbld/BBS-2˜1.10-/R/include" -DNDEBUG -DUSEDOUBLE -DWINDOWS -O3 -Wall -std=gnu99 -mtune=core2 -c intcor.c -o intcor.o
gcc -I"E:/biocbld/BBS-2˜1.10-/R/include" -DNDEBUG -DUSEDOUBLE -DWINDOWS -O3 -Wall -std=gnu99 -mtune=core2 -c lowess.c -o lowess.o
gcc -I"E:/biocbld/BBS-2˜1.10-/R/include" -DNDEBUG -DUSEDOUBLE -DWINDOWS -O3 -Wall -std=gnu99 -mtune=core2 -c mmath.c -o mmath.o
gcc -I"E:/biocbld/BBS-2˜1.10-/R/include" -DNDEBUG -DUSEDOUBLE -DWINDOWS -O3 -Wall -std=gnu99 -mtune=core2 -c perm.c -o perm.o
gcc -I"E:/biocbld/BBS-2˜1.10-/R/include" -DNDEBUG -DUSEDOUBLE -DWINDOWS -O3 -Wall -std=gnu99 -mtune=core2 -c poe.c -o poe.o
poe.c: In function 'poe_one_iter':
poe.c:131:53: warning: variable 'shift' set but not used [-Wunused-but-set-variable]
poe.c:120:20: warning: variable 'accept' set but not used [-Wunused-but-set-variable]
gcc -shared -s -static-libgcc -o metaArray.dll tmp.def contr.o dproc.o dproc2.o intcor.o lowess.o mmath.o perm.o poe.o -lm -LE:/biocbld/BBS-2˜1.10-/R/bin/i386 -lR
installing to E:/biocbld/bbs-2.10-bioc/meat/metaArray.buildbin-libdir/metaArray/libs/i386
** R
** data
** inst
** preparing package for lazy loading
** help
*** installing help indices
** building package indices
** installing vignettes
'metaArray.Rnw'
** testing if installed package can be loaded
install for x64
* installing *source* package 'metaArray' ...
** libs
gcc -m64 -I"E:/biocbld/BBS-2˜1.10-/R/include" -DNDEBUG -I"d:/RCompile/CRANpkg/extralibs64/local/include" -DUSEDOUBLE -DWINDOWS -O2 -Wall -std=gnu99 -mtune=core2 -c contr.c -o contr.o
gcc -m64 -I"E:/biocbld/BBS-2˜1.10-/R/include" -DNDEBUG -I"d:/RCompile/CRANpkg/extralibs64/local/include" -DUSEDOUBLE -DWINDOWS -O2 -Wall -std=gnu99 -mtune=core2 -c dproc.c -o dproc.o
dproc.c: In function 'malloc_CH':
dproc.c:111:21: warning: variable 'num' set but not used [-Wunused-but-set-variable]
dproc.c: In function 'free_CH':
dproc.c:192:16: warning: unused variable 'nc' [-Wunused-variable]
dproc.c:192:12: warning: variable 'nr' set but not used [-Wunused-but-set-variable]
dproc.c:192:7: warning: variable 'num' set but not used [-Wunused-but-set-variable]
gcc -m64 -I"E:/biocbld/BBS-2˜1.10-/R/include" -DNDEBUG -I"d:/RCompile/CRANpkg/extralibs64/local/include" -DUSEDOUBLE -DWINDOWS -O2 -Wall -std=gnu99 -mtune=core2 -c dproc2.c -o dproc2.o
gcc -m64 -I"E:/biocbld/BBS-2˜1.10-/R/include" -DNDEBUG -I"d:/RCompile/CRANpkg/extralibs64/local/include" -DUSEDOUBLE -DWINDOWS -O2 -Wall -std=gnu99 -mtune=core2 -c intcor.c -o intcor.o
gcc -m64 -I"E:/biocbld/BBS-2˜1.10-/R/include" -DNDEBUG -I"d:/RCompile/CRANpkg/extralibs64/local/include" -DUSEDOUBLE -DWINDOWS -O2 -Wall -std=gnu99 -mtune=core2 -c lowess.c -o lowess.o
gcc -m64 -I"E:/biocbld/BBS-2˜1.10-/R/include" -DNDEBUG -I"d:/RCompile/CRANpkg/extralibs64/local/include" -DUSEDOUBLE -DWINDOWS -O2 -Wall -std=gnu99 -mtune=core2 -c mmath.c -o mmath.o
gcc -m64 -I"E:/biocbld/BBS-2˜1.10-/R/include" -DNDEBUG -I"d:/RCompile/CRANpkg/extralibs64/local/include" -DUSEDOUBLE -DWINDOWS -O2 -Wall -std=gnu99 -mtune=core2 -c perm.c -o perm.o
gcc -m64 -I"E:/biocbld/BBS-2˜1.10-/R/include" -DNDEBUG -I"d:/RCompile/CRANpkg/extralibs64/local/include" -DUSEDOUBLE -DWINDOWS -O2 -Wall -std=gnu99 -mtune=core2 -c poe.c -o poe.o
poe.c: In function 'poe_one_iter':
poe.c:131:53: warning: variable 'shift' set but not used [-Wunused-but-set-variable]
poe.c:120:20: warning: variable 'accept' set but not used [-Wunused-but-set-variable]
gcc -m64 -shared -s -static-libgcc -o metaArray.dll tmp.def contr.o dproc.o dproc2.o intcor.o lowess.o mmath.o perm.o poe.o -lm -Ld:/RCompile/CRANpkg/extralibs64/local/lib/x64 -Ld:/RCompile/CRANpkg/extralibs64/local/lib -LE:/biocbld/BBS-2~1.10-/R/bin/x64 -lR
installing to E:/biocbld/bbs-2.10-bioc/meat/metaArray.buildbin-libdir/metaArray/libs/x64
** testing if installed package can be loaded
* MD5 sums
packaged installation of 'metaArray' as metaArray_1.34.0.zip
* DONE (metaArray)