Back to the "Multiple platform build/check report" A  B  C  D  E  F  G  H  I  J  K  L [M] N  O  P  Q  R  S  T  U  V  W  X  Y  Z 

Package 325/554HostnameOS / ArchBUILDCHECKBUILD BIN
marray 1.34.0
Yee Hwa (Jean) Yang
Snapshot Date: 2012-03-31 17:01:49 -0700 (Sat, 31 Mar 2012)
URL: https://hedgehog.fhcrc.org/bioconductor/branches/RELEASE_2_10/madman/Rpacks/marray
Last Changed Rev: 64678 / Revision: 64719
Last Changed Date: 2012-03-30 15:05:02 -0700 (Fri, 30 Mar 2012)
lamb2 Linux (openSUSE 11.4) / x86_64  OK  OK 
puck5 Linux (Ubuntu 12.04) / x86_64  OK [ OK ]
moscato2 Windows Server 2008 R2 Enterprise SP1 (64-bit) / x64  OK  OK  OK 
petty Mac OS X Leopard (10.5.8) / i386  OK  OK  OK 

Summary

Package: marray
Version: 1.34.0
Command: /home/hpages/test-puck5/bbs-2.10-bioc/R/bin/R CMD check --no-vignettes --timings marray_1.34.0.tar.gz
StartedAt: 2012-04-01 01:59:53 -0700 (Sun, 01 Apr 2012)
EndedAt: 2012-04-01 02:01:02 -0700 (Sun, 01 Apr 2012)
EllapsedTime: 68.5 seconds
RetCode: 0
Status:  OK 
CheckDir: marray.Rcheck
Warnings: 0

Command output

* using log directory '/loc/home/hpages/test-puck5/bbs-2.10-bioc/meat/marray.Rcheck'
* using R version 2.15.0 RC (2012-03-22 r58802)
* using platform: x86_64-unknown-linux-gnu (64-bit)
* using session charset: ISO8859-1
* using option '--no-vignettes'
* checking for file 'marray/DESCRIPTION' ... OK
* this is package 'marray' version '1.34.0'
* checking package namespace information ... OK
* checking package dependencies ... OK
* checking if this is a source package ... OK
* checking if there is a namespace ... OK
* checking whether package 'marray' can be installed ... OK
* checking installed package size ... NOTE
  installed size is  8.1Mb
  sub-directories of 1Mb or more:
    doc         1.7Mb
    swirldata   5.5Mb
* checking package directory ... OK
* checking for portable file names ... OK
* checking for sufficient/correct file permissions ... OK
* checking DESCRIPTION meta-information ... OK
* checking top-level files ... OK
* checking index information ... OK
* checking package subdirectories ... OK
* checking R files for non-ASCII characters ... OK
* checking R files for syntax errors ... OK
* checking whether the package can be loaded ... OK
* checking whether the package can be loaded with stated dependencies ... OK
* checking whether the package can be unloaded cleanly ... OK
* checking whether the namespace can be loaded with stated dependencies ... OK
* checking whether the namespace can be unloaded cleanly ... OK
* checking for unstated dependencies in R code ... OK
* checking S3 generic/method consistency ... OK
* checking replacement functions ... OK
* checking foreign function calls ... OK
* checking R code for possible problems ... NOTE
findID: no visible binding for global variable 'gnames'
findID: no visible global function definition for 'phenoData'
htmlPage: no visible binding for global variable 'Gnames'
maImage: warning in layout(matrix(c(1, 2), 1, 2), width = c(8, 2)):
  partial argument match of 'width' to 'widths'
maTwoSamples: no visible global function definition for 'gpTools'
scale.na: no visible global function definition for 'applyy'
widget.TwoSamples: no visible global function definition for
  'widgetRender'
widget.mapGeneInfo: no visible global function definition for
  'widgetRender'
widget.marrayInfo : inputInfo: warning in assign(newname, newInfo, env
  = .GlobalEnv): partial argument match of 'env' to 'envir'
widget.marrayLayout : inputLayout: warning in assign(newname,
  newLayout, env = .GlobalEnv): partial argument match of 'env' to
  'envir'
widget.marrayRaw : inputRaw: warning in assign(newname, newRaw, env =
  .GlobalEnv): partial argument match of 'env' to 'envir'
* checking Rd files ... OK
* checking Rd metadata ... OK
* checking Rd cross-references ... OK
* checking for missing documentation entries ... OK
* checking for code/documentation mismatches ... OK
* checking Rd \usage sections ... OK
* checking Rd contents ... OK
* checking for unstated dependencies in examples ... OK
* checking contents of 'data' directory ... OK
* checking data for non-ASCII characters ... OK
* checking data for ASCII and uncompressed saves ... OK
* checking installed files from 'inst/doc' ... OK
* checking examples ... OK
* checking for unstated dependencies in vignettes ... OK
* checking package vignettes in 'inst/doc' ... OK
* checking running R code from vignettes ... SKIPPED
* checking re-building of vignettes ... SKIPPED
* checking PDF version of manual ... OK

NOTE: There were 2 notes.
See
  '/loc/home/hpages/test-puck5/bbs-2.10-bioc/meat/marray.Rcheck/00check.log'
for details.

marray.Rcheck/00install.out:

* installing *source* package 'marray' ...
** R
** data
** inst
** preparing package for lazy loading
** help
*** installing help indices
** building package indices
** installing vignettes
   'marray.Rnw' 
   'marrayClasses.Rnw' 
   'marrayClassesShort.Rnw' 
   'marrayInput.Rnw' 
   'marrayNorm.Rnw' 
   'marrayPlots.Rnw' 
** testing if installed package can be loaded

* DONE (marray)

marray.Rcheck/marray-Ex.timings:

nameusersystemelapsed
boxplot0.5200.0120.536
checkTargetInfo0.1320.0040.146
dim0.0000.0000.002
findID0.1120.0080.119
htmlPage0.0960.0000.102
image0.0600.0000.064
ma2D000
maBoxplot000
maColorBar0.0160.0000.014
maCompCoord0.0000.0000.001
maCompInd0.0040.0000.004
maCompLayout0.0080.0000.006
maCompNormA000
maCompPlate0.0080.0000.007
maCoord2Ind0.0040.0000.003
maDefaultPar000
maDotsDefaults0.0040.0000.002
maDotsMatch0.0000.0000.001
maGenControls0.1640.0000.172
maGeneTable0.0640.0000.068
maImage1.0000.0161.020
maImage.func000
maInd2Coord0.0040.0000.004
maLegendLines000
maLoess000
maLoessLines000
maMAD000
maMed000
maNorm2.0480.0002.053
maNorm2D000
maNormLoess000
maNormMAD0.0000.0000.001
maNormMain12.989 0.00013.000
maNormMed000
maNormScale0.3640.0000.366
maNum2Logic000
maPalette0.020.000.02
maPlot2.3520.0082.365
maPlot.func000
maSelectGnames0.0080.0000.005
maText000
maTop000
mapGeneInfo0.0000.0000.001
marrayInfo-class0.0040.0000.000
marrayLayout-class000
marrayNorm-class0.3160.0040.327
marrayRaw-class0.1400.0080.149
opVersionID0.0000.0000.001
plotMA1.8400.0041.851
read.Galfile0.0760.0000.085
read.marrayInfo0.0400.0000.046
read.marrayLayout0.0800.0000.082
read.marrayRaw1.6600.0001.669
rm.na0.0040.0000.001
stat.confband.text0.5920.0080.608
stat.gnames0.3040.0000.309
write.list0.1200.0000.124
write.marray0.0800.0000.081
write.xls0.0880.0000.092