Back to the "Multiple platform build/check report" A  B  C  D  E  F  G  H  I  J  K [L] M  N  O  P  Q  R  S  T  U  V  W  X  Y  Z 

Package 304/554HostnameOS / ArchBUILDCHECKBUILD BIN
limma 3.12.0
Gordon Smyth
Snapshot Date: 2012-03-31 17:01:49 -0700 (Sat, 31 Mar 2012)
URL: https://hedgehog.fhcrc.org/bioconductor/branches/RELEASE_2_10/madman/Rpacks/limma
Last Changed Rev: 64678 / Revision: 64719
Last Changed Date: 2012-03-30 15:05:02 -0700 (Fri, 30 Mar 2012)
lamb2 Linux (openSUSE 11.4) / x86_64  OK  OK 
puck5 Linux (Ubuntu 12.04) / x86_64  OK [ OK ]
moscato2 Windows Server 2008 R2 Enterprise SP1 (64-bit) / x64  OK  OK  OK 
petty Mac OS X Leopard (10.5.8) / i386  OK  OK  OK 

Summary

Package: limma
Version: 3.12.0
Command: /home/hpages/test-puck5/bbs-2.10-bioc/R/bin/R CMD check --no-vignettes --timings limma_3.12.0.tar.gz
StartedAt: 2012-04-01 01:52:42 -0700 (Sun, 01 Apr 2012)
EndedAt: 2012-04-01 01:54:01 -0700 (Sun, 01 Apr 2012)
EllapsedTime: 79.4 seconds
RetCode: 0
Status:  OK 
CheckDir: limma.Rcheck
Warnings: 0

Command output

* using log directory '/loc/home/hpages/test-puck5/bbs-2.10-bioc/meat/limma.Rcheck'
* using R version 2.15.0 RC (2012-03-22 r58802)
* using platform: x86_64-unknown-linux-gnu (64-bit)
* using session charset: ISO8859-1
* using option '--no-vignettes'
* checking for file 'limma/DESCRIPTION' ... OK
* this is package 'limma' version '3.12.0'
* checking package namespace information ... OK
* checking package dependencies ... OK
* checking if this is a source package ... OK
* checking if there is a namespace ... OK
* checking whether package 'limma' can be installed ... OK
* checking installed package size ... OK
* checking package directory ... OK
* checking for portable file names ... OK
* checking for sufficient/correct file permissions ... OK
* checking DESCRIPTION meta-information ... OK
* checking top-level files ... OK
* checking index information ... OK
* checking package subdirectories ... OK
* checking R files for non-ASCII characters ... OK
* checking R files for syntax errors ... OK
* checking whether the package can be loaded ... OK
* checking whether the package can be loaded with stated dependencies ... OK
* checking whether the package can be unloaded cleanly ... OK
* checking whether the namespace can be loaded with stated dependencies ... OK
* checking whether the namespace can be unloaded cleanly ... OK
* checking for unstated dependencies in R code ... OK
* checking S3 generic/method consistency ... OK
* checking replacement functions ... OK
* checking foreign function calls ... OK
* checking R code for possible problems ... OK
* checking Rd files ... OK
* checking Rd metadata ... OK
* checking Rd cross-references ... OK
* checking for missing documentation entries ... OK
* checking for code/documentation mismatches ... OK
* checking Rd \usage sections ... OK
* checking Rd contents ... OK
* checking for unstated dependencies in examples ... OK
* checking line endings in C/C++/Fortran sources/headers ... OK
* checking line endings in Makefiles ... OK
* checking for portable use of $(BLAS_LIBS) and $(LAPACK_LIBS) ... OK
* checking compiled code ... OK
* checking installed files from 'inst/doc' ... OK
* checking examples ... OK
* checking for unstated dependencies in tests ... OK
* checking tests ...
  Running 'limma-Tests.R'
  Comparing 'limma-Tests.Rout' to 'limma-Tests.Rout.save' ...898,899c898,899
< mu+alpha    0.3333333 3.333333e-01  5.551115e-17
< mu+beta    -0.3333333 5.551115e-17  3.333333e-01
---
> mu+alpha    0.3333333 3.333333e-01  9.280771e-17
> mu+beta    -0.3333333 9.280771e-17  3.333333e-01
 OK
* checking for unstated dependencies in vignettes ... OK
* checking package vignettes in 'inst/doc' ... OK
* checking running R code from vignettes ... SKIPPED
* checking re-building of vignettes ... SKIPPED
* checking PDF version of manual ... OK

limma.Rcheck/00install.out:

* installing *source* package 'limma' ...
** libs
gcc -std=gnu99 -I/home/hpages/test-puck5/bbs-2.10-bioc/R/include -DNDEBUG  -I/usr/local/include    -fpic  -g -O2  -c normexp.c -o normexp.o
normexp.c: In function 'fit_saddle_nelder_mead':
normexp.c:153:3: warning: floating constant exceeds range of 'double' [-Woverflow]
gcc -std=gnu99 -shared -L/usr/local/lib -o limma.so normexp.o -L/home/hpages/test-puck5/bbs-2.10-bioc/R/lib -lR
installing to /loc/home/hpages/test-puck5/bbs-2.10-bioc/meat/limma.Rcheck/limma/libs
** R
** inst
** preparing package for lazy loading
** help
*** installing help indices
** building package indices
** installing vignettes
   'limma.Rnw' 
** testing if installed package can be loaded

* DONE (limma)

limma.Rcheck/limma-Ex.timings:

nameusersystemelapsed
LargeDataObject000
PrintLayout0.0040.0000.001
TestResults000
alias2Symbol4.3080.0844.513
arrayWeights000
arrayWeightsQuick000
asMatrixWeights000
auROC0.0000.0000.001
avearrays0.0000.0000.001
avereps000
backgroundcorrect0.0080.0000.007
barcodeplot0.0040.0000.004
blockDiag000
camera0.1440.0000.143
cbind0.0080.0000.005
channel2M0.0000.0000.001
classifytests0.0040.0000.001
contrasts.fit0.0200.0000.019
controlStatus0.0040.0000.007
convest1.1600.0081.171
dim0.0040.0000.001
dupcor000
ebayes0.0120.0000.012
genas0.0640.0000.070
geneSetTest0.0000.0000.001
getSpacing0.0000.0000.001
getlayout0.0000.0000.001
heatdiagram000
helpMethods000
imageplot0.0320.0000.033
intraspotCorrelation000
isfullrank0.0000.0000.001
isnumeric0.0000.0000.001
kooperberg000
limmaUsersGuide0.0040.0000.007
lm.series000
lmFit0.7000.0120.721
lmscFit000
loessfit0.6040.0000.600
ma3x30.0000.0000.001
makeContrasts000
makeunique0.0000.0040.001
merge0.0040.0000.006
mergeScansRG000
modelMatrix0.0040.0000.002
modifyWeights0.0000.0000.001
nec000
normalizeMedianAbsValues0.0040.0000.000
normalizeRobustSpline000
normalizeVSN0.3680.0440.498
normalizebetweenarrays0.0120.0000.012
normalizeprintorder000
normexpfit0.0000.0040.001
normexpfitcontrol000
normexpfitdetectionp000
normexpsignal000
plotDensities000
plotMDS0.0080.0000.011
plotRLDF0.5160.0040.521
plotma0.0120.0000.013
poolvar000
printorder0.0080.0040.012
printtipWeights000
propexpr000
protectMetachar000
qqt0.0000.0040.002
qualwt000
rankSumTestwithCorrelation0.0040.0000.006
read.ilmn000
read.maimages000
readImaGeneHeader000
readgal000
removeext000
roast0.0440.0000.041
romer0.2840.0000.283
selectmodel0.0160.0000.016
squeezeVar000
strsplit2000
subsetting0.0040.0000.003
targetsA2C0.0080.0000.005
topRomer0.0000.0000.001
toptable000
trigammainverse000
trimWhiteSpace0.0000.0000.001
uniquegenelist0.0000.0000.001
unwrapdups0.0000.0000.001
venn0.0240.0000.024
volcanoplot000
weightedmedian000
zscore000