Back to the "Multiple platform build/check report" A  B  C  D  E  F  G  H [I] J  K  L  M  N  O  P  Q  R  S  T  U  V  W  X  Y  Z 

Package 291/554HostnameOS / ArchBUILDCHECKBUILD BIN
isobar 1.2.0
Florian P Breitwieser
Snapshot Date: 2012-03-31 17:01:49 -0700 (Sat, 31 Mar 2012)
URL: https://hedgehog.fhcrc.org/bioconductor/branches/RELEASE_2_10/madman/Rpacks/isobar
Last Changed Rev: 64678 / Revision: 64719
Last Changed Date: 2012-03-30 15:05:02 -0700 (Fri, 30 Mar 2012)
lamb2 Linux (openSUSE 11.4) / x86_64  OK  OK 
puck5 Linux (Ubuntu 12.04) / x86_64  OK [ OK ]
moscato2 Windows Server 2008 R2 Enterprise SP1 (64-bit) / x64  OK  OK  OK 
petty Mac OS X Leopard (10.5.8) / i386  OK  OK  OK 

Summary

Package: isobar
Version: 1.2.0
Command: /home/hpages/test-puck5/bbs-2.10-bioc/R/bin/R CMD check --no-vignettes --timings isobar_1.2.0.tar.gz
StartedAt: 2012-04-01 01:48:07 -0700 (Sun, 01 Apr 2012)
EndedAt: 2012-04-01 01:49:56 -0700 (Sun, 01 Apr 2012)
EllapsedTime: 108.4 seconds
RetCode: 0
Status:  OK 
CheckDir: isobar.Rcheck
Warnings: 0

Command output

* using log directory '/loc/home/hpages/test-puck5/bbs-2.10-bioc/meat/isobar.Rcheck'
* using R version 2.15.0 RC (2012-03-22 r58802)
* using platform: x86_64-unknown-linux-gnu (64-bit)
* using session charset: ISO8859-1
* using option '--no-vignettes'
* checking for file 'isobar/DESCRIPTION' ... OK
* this is package 'isobar' version '1.2.0'
* checking package namespace information ... OK
* checking package dependencies ... OK
* checking if this is a source package ... OK
* checking if there is a namespace ... OK
* checking whether package 'isobar' can be installed ... OK
* checking installed package size ... OK
* checking package directory ... OK
* checking for portable file names ... OK
* checking for sufficient/correct file permissions ... OK
* checking DESCRIPTION meta-information ... OK
* checking top-level files ... OK
* checking index information ... OK
* checking package subdirectories ... OK
* checking R files for non-ASCII characters ... OK
* checking R files for syntax errors ... OK
* checking whether the package can be loaded ... OK
* checking whether the package can be loaded with stated dependencies ... OK
* checking whether the package can be unloaded cleanly ... OK
* checking whether the namespace can be loaded with stated dependencies ... OK
* checking whether the namespace can be unloaded cleanly ... OK
* checking for unstated dependencies in R code ... OK
* checking S3 generic/method consistency ... OK
* checking replacement functions ... OK
* checking foreign function calls ... OK
* checking R code for possible problems ... NOTE
.DEPR.get.seqlength: no visible global function definition for
  'read.fasta'
.create.or.load.xls.peptide.tbl : <anonymous>: no visible binding for
  global variable 'quant.tbl'
.create.or.load.xls.protein.tbl : <anonymous>: no visible binding for
  global variable 'ibspectra'
.create.or.load.xls.protein.tbl : <anonymous>: no visible binding for
  global variable 'protein.tbl'
.get.or.load: no visible binding for global variable 'do.load'
.parse.spectrum : <anonymous>: no visible binding for '<<-' assignment
  to 'observedMasses'
.parse.spectrum : <anonymous>: no visible binding for global variable
  'observedMasses'
.parse.spectrum : <anonymous>: no visible binding for '<<-' assignment
  to 'observedIntensities'
.parse.spectrum : <anonymous>: no visible binding for global variable
  'observedIntensities'
fitGumbel : gumbel.fit: no visible global function definition for
  'Gumbel'
getProteinInfoFromBioDb: no visible global function definition for
  'dbConnect'
getProteinInfoFromBioDb: no visible global function definition for
  'dbGetQuery'
getProteinInfoFromBioDb: no visible global function definition for
  'dbDisconnect'
shared.ratios.sign: no visible binding for global variable 'ratio'
shared.ratios.sign: no visible binding for global variable 'proteins'
shared.ratios.sign: no visible binding for global variable 'g'
* checking Rd files ... OK
* checking Rd metadata ... OK
* checking Rd cross-references ... OK
* checking for missing documentation entries ... OK
* checking for code/documentation mismatches ... OK
* checking Rd \usage sections ... OK
* checking Rd contents ... OK
* checking for unstated dependencies in examples ... OK
* checking contents of 'data' directory ... OK
* checking data for non-ASCII characters ... OK
* checking data for ASCII and uncompressed saves ... OK
* checking installed files from 'inst/doc' ... OK
* checking examples ... OK
* checking for unstated dependencies in vignettes ... OK
* checking package vignettes in 'inst/doc' ... OK
* checking running R code from vignettes ... SKIPPED
* checking re-building of vignettes ... SKIPPED
* checking PDF version of manual ... OK

NOTE: There was 1 note.
See
  '/loc/home/hpages/test-puck5/bbs-2.10-bioc/meat/isobar.Rcheck/00check.log'
for details.

isobar.Rcheck/00install.out:

* installing *source* package 'isobar' ...
** R
** data
** inst
** preparing package for lazy loading
in method for 'coerce' with signature '"ProteinGroup","data.frame.concise"': no definition for class "data.frame.concise"
in method for 'coerce' with signature '"IBSpectra","data.frame.concise"': no definition for class "data.frame.concise"
in method for 'coerce' with signature '"MSnSet","IBSpectra"': no definition for class "MSnSet"
in method for 'coerce' with signature '"IBSpectra","MSnSet"': no definition for class "MSnSet"
** help
*** installing help indices
** building package indices
** installing vignettes
   'isobar-devel.Rnw' 
   'isobar.Rnw' using 'UTF-8' 
** testing if installed package can be loaded

* DONE (isobar)

isobar.Rcheck/isobar-Ex.timings:

nameusersystemelapsed
IBSpectra-class0.5080.0120.527
NoiseModel-class15.909 0.02815.960
ProteinGroup-class0.1880.0080.202
calculate.dNSAF0.4000.0000.411
calculate.emPAI0.5000.0160.536
fit-distr0.7160.0240.824
groupMemberPeptides0.2960.0040.307
isobar-analysis0.2040.0040.225
isobar-data0.1840.0000.191
isobar-import8.7600.0368.807
isobar-log2.2850.0082.298
isobar-plots1.3040.0081.319
isobar-preprocessing1.2760.0241.310
number.ranges000
peptide.count0.4680.0080.482
proteinInfo-methods0.1840.0000.191
ratio-summ0.2320.0080.252
sanitize000
subsetIBSpectra2.6840.0122.703