Back to the "Multiple platform build/check report" A  B  C  D  E  F  G [H] I  J  K  L  M  N  O  P  Q  R  S  T  U  V  W  X  Y  Z 

Package 243/518HostnameOS / ArchBUILDCHECKBUILD BIN
hexbin 1.29.0
Nicholas Lewin-Koh
Snapshot Date: 2011-11-06 07:21:31 -0800 (Sun, 06 Nov 2011)
URL: https://hedgehog.fhcrc.org/bioconductor/trunk/madman/Rpacks/hexbin
Last Changed Rev: 59924 / Revision: 60085
Last Changed Date: 2011-10-31 16:12:28 -0700 (Mon, 31 Oct 2011)
lamb2 Linux (openSUSE 11.4) / x86_64  OK  OK 
moscato2 Windows Server 2008 R2 Enterprise SP1 (64-bit) / x64 [ OK ] OK  OK 
petty Mac OS X Snow Leopard (10.6.7) / i386  OK  OK  OK 

Summary

Package: hexbin
Version: 1.29.0
Command: chmod a+r hexbin -R && E:\biocbld\bbs-2.10-bioc\R\bin\R.exe CMD build --keep-empty-dirs --no-resave-data hexbin
StartedAt: 2011-11-06 13:44:48 -0800 (Sun, 06 Nov 2011)
EndedAt: 2011-11-06 13:45:12 -0800 (Sun, 06 Nov 2011)
EllapsedTime: 24.1 seconds
RetCode: 0
Status:  OK  
PackageFile: hexbin_1.29.0.tar.gz
PackageFileSize: 553.5 KiB

Command output

* checking for file 'hexbin/DESCRIPTION' ... OK
* preparing 'hexbin':
* checking DESCRIPTION meta-information ... OK
* cleaning src
* installing the package to re-build vignettes
* creating vignettes ... OK
* cleaning src
* checking for LF line-endings in source and make files
* checking for empty or unneeded directories
* looking to see if a 'data/datalist' file should be added
* building 'hexbin_1.29.0.tar.gz'