Back to the "Multiple platform build/check report" A  B  C  D  E  F [G] H  I  J  K  L  M  N  O  P  Q  R  S  T  U  V  W  X  Y  Z 

Package 201/554HostnameOS / ArchBUILDCHECKBUILD BIN
gaia 2.0.0
S. Morganella
Snapshot Date: 2012-03-31 17:01:49 -0700 (Sat, 31 Mar 2012)
URL: https://hedgehog.fhcrc.org/bioconductor/branches/RELEASE_2_10/madman/Rpacks/gaia
Last Changed Rev: 64704 / Revision: 64719
Last Changed Date: 2012-03-31 08:28:39 -0700 (Sat, 31 Mar 2012)
lamb2 Linux (openSUSE 11.4) / x86_64  ERROR  skipped 
puck5 Linux (Ubuntu 12.04) / x86_64 [ ERROR ] skipped 
moscato2 Windows Server 2008 R2 Enterprise SP1 (64-bit) / x64  ERROR  skipped  skipped 
petty Mac OS X Leopard (10.5.8) / i386  ERROR  skipped  skipped 

Summary

Package: gaia
Version: 2.0.0
Command: /home/hpages/test-puck5/bbs-2.10-bioc/R/bin/R CMD build --keep-empty-dirs --no-resave-data gaia
StartedAt: 2012-03-31 22:05:18 -0700 (Sat, 31 Mar 2012)
EndedAt: 2012-03-31 22:05:19 -0700 (Sat, 31 Mar 2012)
EllapsedTime: 0.7 seconds
RetCode: 1
Status:  ERROR 
PackageFile: None
PackageFileSize: NA

Command output

* checking for file 'gaia/DESCRIPTION' ... OK
* preparing 'gaia':
* checking DESCRIPTION meta-information ... OK
* installing the package to re-build vignettes
      -----------------------------------
* installing *source* package 'gaia' ...
** R
Error in .install_package_code_files(".", instdir) : 
files in 'Collate' field missing from '/tmp/RtmpmlSQKE/Rbuild1946336892c9/gaia/R':
  qvalue.R
ERROR: unable to collate and parse R files for package 'gaia'
* removing '/tmp/RtmpmlSQKE/Rinst194648b71d32/gaia'
      -----------------------------------
ERROR: package installation failed