Back to the "Multiple platform build/check report" A  B  C  D  E [F] G  H  I  J  K  L  M  N  O  P  Q  R  S  T  U  V  W  X  Y  Z 

Package 182/553HostnameOS / ArchBUILDCHECKBUILD BIN
flowCore 1.22.3
M.Jiang
Snapshot Date: 2012-09-23 17:01:39 -0700 (Sun, 23 Sep 2012)
URL: https://hedgehog.fhcrc.org/bioconductor/branches/RELEASE_2_10/madman/Rpacks/flowCore
Last Changed Rev: 68002 / Revision: 69725
Last Changed Date: 2012-07-24 11:45:34 -0700 (Tue, 24 Jul 2012)
lamb2 Linux (openSUSE 11.4) / x86_64  OK  OK 
moscato2 Windows Server 2008 R2 Enterprise SP1 (64-bit) / x64  OK  OK  OK 
petty Mac OS X Leopard (10.5.8) / i386  OK [ OK ] OK 

Summary

Package: flowCore
Version: 1.22.3
Command: /Library/Frameworks/R.framework/Versions/2.15/Resources/bin/R CMD check --no-vignettes --timings --no-multiarch flowCore_1.22.3.tar.gz
StartedAt: 2012-09-24 00:03:57 -0700 (Mon, 24 Sep 2012)
EndedAt: 2012-09-24 00:07:31 -0700 (Mon, 24 Sep 2012)
EllapsedTime: 214.6 seconds
RetCode: 0
Status:  OK 
CheckDir: flowCore.Rcheck
Warnings: 0

Command output

* using log directory '/Users/biocbuild/bbs-2.10-bioc/meat/flowCore.Rcheck'
* using R version 2.15.1 (2012-06-22)
* using platform: i386-apple-darwin9.8.0 (32-bit)
* using session charset: ASCII
* using option '--no-vignettes'
* checking for file 'flowCore/DESCRIPTION' ... OK
* this is package 'flowCore' version '1.22.3'
* checking package namespace information ... OK
* checking package dependencies ... OK
* checking if this is a source package ... OK
* checking if there is a namespace ... OK
* checking whether package 'flowCore' can be installed ... OK
* checking installed package size ... NOTE
  installed size is  8.7Mb
  sub-directories of 1Mb or more:
    data      5.0Mb
    doc       1.2Mb
    extdata   1.1Mb
* checking package directory ... OK
* checking for portable file names ... OK
* checking for sufficient/correct file permissions ... OK
* checking DESCRIPTION meta-information ... OK
* checking top-level files ... OK
* checking index information ... OK
* checking package subdirectories ... OK
* checking R files for non-ASCII characters ... OK
* checking R files for syntax errors ... OK
* checking whether the package can be loaded ... OK
* checking whether the package can be loaded with stated dependencies ... OK
* checking whether the package can be unloaded cleanly ... OK
* checking whether the namespace can be loaded with stated dependencies ... OK
* checking whether the namespace can be unloaded cleanly ... OK
* checking for unstated dependencies in R code ... OK
* checking S3 generic/method consistency ... OK
* checking replacement functions ... OK
* checking foreign function calls ... OK
* checking R code for possible problems ... OK
* checking Rd files ... OK
* checking Rd metadata ... OK
* checking Rd cross-references ... OK
* checking for missing documentation entries ... OK
* checking for code/documentation mismatches ... OK
* checking Rd \usage sections ... OK
* checking Rd contents ... OK
* checking for unstated dependencies in examples ... OK
* checking contents of 'data' directory ... OK
* checking data for non-ASCII characters ... OK
* checking data for ASCII and uncompressed saves ... OK
* checking line endings in C/C++/Fortran sources/headers ... OK
* checking line endings in Makefiles ... OK
* checking for portable use of $(BLAS_LIBS) and $(LAPACK_LIBS) ... OK
* checking compiled code ... OK
* checking sizes of PDF files under 'inst/doc' ... OK
* checking installed files from 'inst/doc' ... OK
* checking examples ... OK
* checking for unstated dependencies in vignettes ... OK
* checking package vignettes in 'inst/doc' ... OK
* checking running R code from vignettes ... SKIPPED
* checking re-building of vignettes ... SKIPPED
* checking PDF version of manual ... OK

NOTE: There was 1 note.
See
  '/Users/biocbuild/bbs-2.10-bioc/meat/flowCore.Rcheck/00check.log'
for details.

flowCore.Rcheck/00install.out:

* installing *source* package 'flowCore' ...
** libs
*** arch - i386
g++ -arch i386 -I/Library/Frameworks/R.framework/Versions/2.15/Resources/include -I/Library/Frameworks/R.framework/Versions/2.15/Resources/include/i386 -DNDEBUG  -I/usr/local/include    -fPIC  -g -O2 -Wall -fasm-blocks  -c FastLogicle.cpp -o FastLogicle.o
g++ -arch i386 -I/Library/Frameworks/R.framework/Versions/2.15/Resources/include -I/Library/Frameworks/R.framework/Versions/2.15/Resources/include/i386 -DNDEBUG  -I/usr/local/include    -fPIC  -g -O2 -Wall -fasm-blocks  -c Logicle.cpp -o Logicle.o
gcc -arch i386 -std=gnu99 -I/Library/Frameworks/R.framework/Versions/2.15/Resources/include -I/Library/Frameworks/R.framework/Versions/2.15/Resources/include/i386 -DNDEBUG  -I/usr/local/include    -fPIC  -g -O2 -Wall -pedantic  -c biexponential.c -o biexponential.o
gcc -arch i386 -std=gnu99 -I/Library/Frameworks/R.framework/Versions/2.15/Resources/include -I/Library/Frameworks/R.framework/Versions/2.15/Resources/include/i386 -DNDEBUG  -I/usr/local/include    -fPIC  -g -O2 -Wall -pedantic  -c inPolygon.c -o inPolygon.o
gcc -arch i386 -std=gnu99 -I/Library/Frameworks/R.framework/Versions/2.15/Resources/include -I/Library/Frameworks/R.framework/Versions/2.15/Resources/include/i386 -DNDEBUG  -I/usr/local/include    -fPIC  -g -O2 -Wall -pedantic  -c inPolytope.c -o inPolytope.o
gcc -arch i386 -std=gnu99 -I/Library/Frameworks/R.framework/Versions/2.15/Resources/include -I/Library/Frameworks/R.framework/Versions/2.15/Resources/include/i386 -DNDEBUG  -I/usr/local/include    -fPIC  -g -O2 -Wall -pedantic  -c init.c -o init.o
g++ -arch i386 -I/Library/Frameworks/R.framework/Versions/2.15/Resources/include -I/Library/Frameworks/R.framework/Versions/2.15/Resources/include/i386 -DNDEBUG  -I/usr/local/include    -fPIC  -g -O2 -Wall -fasm-blocks  -c logicleTransform.cpp -o logicleTransform.o
g++ -arch i386 -dynamiclib -Wl,-headerpad_max_install_names -undefined dynamic_lookup -single_module -multiply_defined suppress -L/usr/local/lib -o flowCore.so FastLogicle.o Logicle.o biexponential.o inPolygon.o inPolytope.o init.o logicleTransform.o -F/Library/Frameworks/R.framework/.. -framework R -Wl,-framework -Wl,CoreFoundation
installing to /Users/biocbuild/bbs-2.10-bioc/meat/flowCore.Rcheck/flowCore/libs/i386
** R
** data
** inst
** preparing package for lazy loading
Creating a new generic function for 'filter' in package 'flowCore'
** help
*** installing help indices
** building package indices
** installing vignettes
   'HowTo-flowCore.Rnw' 
** testing if installed package can be loaded

* DONE (flowCore)

flowCore.Rcheck/flowCore-Ex.timings:

nameusersystemelapsed
EHtrans-class0.1910.0210.225
Subset-methods1.1490.1191.273
actionItem-class0.0020.0000.002
arcsinhTransform0.1830.0290.212
asinht-class0.0600.0190.080
biexponentialTransform10.203 2.08212.372
boundaryFilter-class0.3320.0610.394
characterOrTransformation-class0.0010.0000.002
coerce0.1270.0370.166
compensateActionItem-class0.0010.0010.001
compensateView-class0.0010.0000.001
compensatedParameter-class0.3500.1210.473
compensation-class0.7560.2601.019
curv1Filter-class0.5570.1910.751
curv2Filter-class3.6250.5804.212
dg1polynomial-class0.0720.0170.090
each_col-methods0.0870.0320.120
ellipsoidGate0.1480.0320.181
exponential-class0.0490.0130.063
expressionFilter-class0.1400.0530.193
fcReference-class0.0010.0010.001
filter-methods1.2670.1241.399
filter-on-methods0.2460.0380.286
filterList-class0.010.000.01
filterResult-class0.0010.0010.001
filterResultList-class1.9600.6602.651
filterSet-class0.0700.0040.074
filterSummary-class0.1790.0720.254
filterSummaryList-class1.6080.3922.007
flowFrame-class5.6470.6966.381
flowSet-class4.8720.6025.887
fsApply0.3380.1240.468
gateActionItem-class0.0010.0010.001
gateView-class0.0010.0000.001
hyperlog-class1.9900.0222.014
identifier-methods0.0410.0120.054
inverseLogicleTransform0.9620.1061.071
invsplitscale-class0.0520.0140.065
keyword-methods1.2820.2581.546
kmeansFilter0.4300.0750.506
linearTransform0.1020.0370.139
lnTransform3.5151.1244.669
logTransform0.1020.0330.136
logarithm-class0.0710.0210.094
logicalFilterResult-class0.0010.0000.001
logicleTransform1.4700.1701.647
manyFilterResult-class0.0010.0010.001
multipleFilterResult-class0.0000.0000.001
norm2Filter-class0.2810.0440.326
normalizeActionItem-class0.0010.0000.001
normalizeView-class0.0010.0010.001
parameters-methods0.0510.0140.065
polygonGate0.1260.0370.165
quadGate0.3530.0670.421
quadratic-class0.0500.0150.065
quadraticTransform0.0680.0240.095
ratio-class0.0580.0240.091
read.FCS0.0950.0160.112
read.FCSheader0.0100.0070.016
read.flowSet0.2040.0810.285
rectangleGate0.1900.0350.226
sampleFilter-class0.0970.0310.128
scaleTransform0.0730.0270.102
singleParameterTransform-class0.0010.0000.001
sinht-class0.0650.0190.084
split-methods2.2420.3752.646
splitScaleTransform3.4141.1984.654
splitscale-class0.0660.0160.082
squareroot-class0.0680.0200.088
subsettingActionItem-class0.0010.0000.001
subsettingView-class0.0010.0010.001
timeFilter-class2.6190.3292.965
transform-class0.0020.0000.003
transformActionItem-class0.0010.0010.001
transformFilter-class0.2030.0390.242
transformList-class0.9450.1021.049
transformMap-class0.0010.0010.001
transformView-class0.0010.0000.001
truncateTransform0.0840.0350.118
unitytransform-class0.0430.0130.056
view-class0.0010.0000.001
workFlow-class0.0010.0010.002
write.FCS0.1580.0250.184
write.flowSet1.7110.2021.932