Back to the "Multiple platform build/check report" A  B  C  D [E] F  G  H  I  J  K  L  M  N  O  P  Q  R  S  T  U  V  W  X  Y  Z 

Package 156/532HostnameOS / ArchBUILDCHECKBUILD BIN
edd 1.33.0
Vince Carey
Snapshot Date: 2012-02-28 17:01:26 -0800 (Tue, 28 Feb 2012)
URL: https://hedgehog.fhcrc.org/bioconductor/trunk/madman/Rpacks/edd
Last Changed Rev: 59924 / Revision: 63265
Last Changed Date: 2011-10-31 16:12:28 -0700 (Mon, 31 Oct 2011)
lamb2 Linux (openSUSE 11.4) / x86_64  OK  OK 
moscato2 Windows Server 2008 R2 Enterprise SP1 (64-bit) / x64  OK  OK  OK 
petty Mac OS X Snow Leopard (10.6.7) / i386  OK [ OK ] OK 

Summary

Package: edd
Version: 1.33.0
Command: /Library/Frameworks/R.framework/Versions/2.15/Resources/bin/R CMD check --no-vignettes --timings --no-multiarch edd_1.33.0.tar.gz
StartedAt: 2012-02-29 00:24:44 -0800 (Wed, 29 Feb 2012)
EndedAt: 2012-02-29 00:26:16 -0800 (Wed, 29 Feb 2012)
EllapsedTime: 92.4 seconds
RetCode: 0
Status:  OK 
CheckDir: edd.Rcheck
Warnings: 0

Command output

* using log directory '/Users/biocbuild/bbs-2.10-bioc/meat/edd.Rcheck'
* using R Under development (unstable) (2012-02-12 r58325)
* using platform: i386-apple-darwin9.8.0 (32-bit)
* using session charset: ASCII
* using option '--no-vignettes'
* checking for file 'edd/DESCRIPTION' ... OK
* this is package 'edd' version '1.33.0'
* checking package namespace information ... OK
* checking package dependencies ... OK
* checking if this is a source package ... OK
* checking if there is a namespace ... OK
* checking whether package 'edd' can be installed ... OK
* checking installed package size ... OK
* checking package directory ... OK
* checking for portable file names ... OK
* checking for sufficient/correct file permissions ... OK
* checking DESCRIPTION meta-information ... OK
* checking top-level files ... OK
* checking index information ... OK
* checking package subdirectories ... OK
* checking R files for non-ASCII characters ... OK
* checking R files for syntax errors ... OK
* checking whether the package can be loaded ... OK
* checking whether the package can be loaded with stated dependencies ... OK
* checking whether the package can be unloaded cleanly ... OK
* checking whether the namespace can be loaded with stated dependencies ... OK
* checking whether the namespace can be unloaded cleanly ... OK
* checking for unstated dependencies in R code ... OK
* checking S3 generic/method consistency ... OK
* checking replacement functions ... OK
* checking foreign function calls ... OK
* checking R code for possible problems ... NOTE
latEDtable: warning in matrix(x, nr = dd[1], nc = dd[2]): partial
  argument match of 'nr' to 'nrow'
latEDtable: warning in matrix(x, nr = dd[1], nc = dd[2]): partial
  argument match of 'nc' to 'ncol'
latEDtable: warning in matrix(x, nr = 1): partial argument match of
  'nr' to 'nrow'
makeCandmat.raw: warning in matrix(NA, nr = nRowPerCand * ncand, nc =
  nPerRow): partial argument match of 'nr' to 'nrow'
makeCandmat.raw: warning in matrix(NA, nr = nRowPerCand * ncand, nc =
  nPerRow): partial argument match of 'nc' to 'ncol'
mkt: warning in matrix(NA, nr = 140, nc = 50): partial argument match
  of 'nr' to 'nrow'
mkt: warning in matrix(NA, nr = 140, nc = 50): partial argument match
  of 'nc' to 'ncol'
* checking Rd files ... NOTE
prepare_Rd: maxKSp.Rd:20-21: Dropping empty section \details
* checking Rd metadata ... OK
* checking Rd cross-references ... OK
* checking for missing documentation entries ... OK
* checking for code/documentation mismatches ... OK
* checking Rd \usage sections ... OK
* checking Rd contents ... OK
* checking for unstated dependencies in examples ... OK
* checking sizes of PDF files under 'inst/doc' ... OK
* checking installed files from 'inst/doc' ... OK
* checking examples ... OK
* checking for unstated dependencies in vignettes ... OK
* checking package vignettes in 'inst/doc' ... OK
* checking running R code from vignettes ... SKIPPED
* checking re-building of vignettes ... SKIPPED
* checking PDF version of manual ... OK

NOTE: There were 2 notes.
See
  '/Users/biocbuild/bbs-2.10-bioc/meat/edd.Rcheck/00check.log'
for details.

edd.Rcheck/00install.out:

* installing *source* package 'edd' ...
** R
** inst
** preparing package for lazy loading
** help
*** installing help indices
** building package indices
** installing vignettes
   'HOWTO-edd.Rnw' 
   'eddDetails.Rnw' 
** testing if installed package can be loaded

* DONE (edd)

edd.Rcheck/edd-Ex.timings:

nameusersystemelapsed
centerScale0.0070.0000.007
edd15.544 0.10915.655
eddDist-class0.0040.0010.004
eddObsolete22.956 0.07223.031
flatQQNorm0.0040.0000.004
latEDtable3.7540.0153.769
makeCandmat.raw0.0020.0010.002
maxKSp0.0380.0000.038
plotED0.0350.0090.044