cnvGSA 1.0.0 Robert Ziman
Snapshot Date: 2012-09-23 17:01:39 -0700 (Sun, 23 Sep 2012) | URL: https://hedgehog.fhcrc.org/bioconductor/branches/RELEASE_2_10/madman/Rpacks/cnvGSA | Last Changed Rev: 65137 / Revision: 69725 | Last Changed Date: 2012-04-13 13:01:11 -0700 (Fri, 13 Apr 2012) |
| lamb2 | Linux (openSUSE 11.4) / x86_64 | OK | OK | |
moscato2 | Windows Server 2008 R2 Enterprise SP1 (64-bit) / x64 | OK | OK | OK |
petty | Mac OS X Leopard (10.5.8) / i386 | OK | OK | [ OK ] |
>>>>>>>
>>>>>>> INSTALLATION WITH 'R CMD INSTALL --preclean --no-multiarch --library=cnvGSA.buildbin-libdir cnvGSA_1.0.0.tar.gz'
>>>>>>>
* installing *source* package 'cnvGSA' ...
** R
** inst
** preparing package for lazy loading
Creating a generic function for 'summary' from package 'base' in package 'cnvGSA'
** help
*** installing help indices
** building package indices
** installing vignettes
'cnvGSA-vignette.Rnw'
** testing if installed package can be loaded
* DONE (cnvGSA)