Back to the "Multiple platform build/check report" A  B [C] D  E  F  G  H  I  J  K  L  M  N  O  P  Q  R  S  T  U  V  W  X  Y  Z 

Package 90/554HostnameOS / ArchBUILDCHECKBUILD BIN
cellHTS2 2.20.0
Joseph Barry
Snapshot Date: 2012-03-31 17:01:49 -0700 (Sat, 31 Mar 2012)
URL: https://hedgehog.fhcrc.org/bioconductor/branches/RELEASE_2_10/madman/Rpacks/cellHTS2
Last Changed Rev: 64678 / Revision: 64719
Last Changed Date: 2012-03-30 15:05:02 -0700 (Fri, 30 Mar 2012)
lamb2 Linux (openSUSE 11.4) / x86_64  OK  OK 
puck5 Linux (Ubuntu 12.04) / x86_64  OK [ OK ]
moscato2 Windows Server 2008 R2 Enterprise SP1 (64-bit) / x64  OK  OK  OK 
petty Mac OS X Leopard (10.5.8) / i386  OK  OK  OK 

Summary

Package: cellHTS2
Version: 2.20.0
Command: /home/hpages/test-puck5/bbs-2.10-bioc/R/bin/R CMD check --no-vignettes --timings cellHTS2_2.20.0.tar.gz
StartedAt: 2012-04-01 00:07:06 -0700 (Sun, 01 Apr 2012)
EndedAt: 2012-04-01 00:11:15 -0700 (Sun, 01 Apr 2012)
EllapsedTime: 248.9 seconds
RetCode: 0
Status:  OK 
CheckDir: cellHTS2.Rcheck
Warnings: 0

Command output

* using log directory '/loc/home/hpages/test-puck5/bbs-2.10-bioc/meat/cellHTS2.Rcheck'
* using R version 2.15.0 RC (2012-03-22 r58802)
* using platform: x86_64-unknown-linux-gnu (64-bit)
* using session charset: ISO8859-1
* using option '--no-vignettes'
* checking for file 'cellHTS2/DESCRIPTION' ... OK
* this is package 'cellHTS2' version '2.20.0'
* checking package namespace information ... OK
* checking package dependencies ... OK
* checking if this is a source package ... OK
* checking if there is a namespace ... OK
* checking whether package 'cellHTS2' can be installed ... OK
* checking installed package size ... NOTE
  installed size is  5.8Mb
  sub-directories of 1Mb or more:
    KcViab   2.0Mb
    doc      1.7Mb
* checking package directory ... OK
* checking for portable file names ... OK
* checking for sufficient/correct file permissions ... OK
* checking DESCRIPTION meta-information ... OK
* checking top-level files ... OK
* checking index information ... OK
* checking package subdirectories ... OK
* checking R files for non-ASCII characters ... OK
* checking R files for syntax errors ... OK
* checking whether the package can be loaded ... OK
* checking whether the package can be loaded with stated dependencies ... OK
* checking whether the package can be unloaded cleanly ... OK
* checking whether the namespace can be loaded with stated dependencies ... OK
* checking whether the namespace can be unloaded cleanly ... OK
* checking for unstated dependencies in R code ... OK
* checking S3 generic/method consistency ... OK
* checking replacement functions ... OK
* checking foreign function calls ... OK
* checking R code for possible problems ... OK
* checking Rd files ... OK
* checking Rd metadata ... OK
* checking Rd cross-references ... OK
* checking for missing documentation entries ... OK
* checking for code/documentation mismatches ... OK
* checking Rd \usage sections ... OK
* checking Rd contents ... OK
* checking for unstated dependencies in examples ... OK
* checking contents of 'data' directory ... OK
* checking data for non-ASCII characters ... OK
* checking data for ASCII and uncompressed saves ... OK
* checking installed files from 'inst/doc' ... OK
* checking examples ... OK
* checking for unstated dependencies in tests ... OK
* checking tests ...
  Running 'test.R'
 OK
* checking for unstated dependencies in vignettes ... NOTE
'library' or 'require' calls not declared from:
  'GO.db' 'KEGG.db'
* checking package vignettes in 'inst/doc' ... OK
* checking running R code from vignettes ... SKIPPED
* checking re-building of vignettes ... SKIPPED
* checking PDF version of manual ... OK

NOTE: There were 2 notes.
See
  '/loc/home/hpages/test-puck5/bbs-2.10-bioc/meat/cellHTS2.Rcheck/00check.log'
for details.

cellHTS2.Rcheck/00install.out:

* installing *source* package 'cellHTS2' ...
** R
** data
** inst
** preparing package for lazy loading
Scalable Robust Estimators with High Breakdown Point (version 1.3-01)
Creating a generic function for 'lines' from package 'graphics' in package 'cellHTS2'
** help
*** installing help indices
** building package indices
** installing vignettes
   'cellhts2.Rnw' 
   'cellhts2Complete.Rnw' 
   'twoChannels.Rnw' 
   'twoWay.Rnw' 
** testing if installed package can be loaded
Scalable Robust Estimators with High Breakdown Point (version 1.3-01)

* DONE (cellHTS2)

cellHTS2.Rcheck/cellHTS2-Ex.timings:

nameusersystemelapsed
Bscore3.8560.0163.890
ROC-class0.2800.0040.286
ROC0.9200.0000.933
annotate1.0880.0041.094
bdgpbiomart0.1720.0000.180
buildCellHTS20.2480.0040.252
cellHTS-class2.1240.0002.144
configurationAsScreenPlot2.3090.0082.328
configure0.7400.0040.748
convertOldCellHTS0.9440.0000.960
convertWellCoordinates000
data-KcViab0.1280.0000.136
data-KcViabSmall0.0080.0040.019
data-dualCh0.0120.0000.023
data-oldKcViabSmall0.0120.0000.021
getAlphaNumeric0.0000.0000.001
getDynamicRange0.5800.0000.592
getEnVisionRawData0.0280.0040.035
getMeasureRepAgreement0.5720.0000.582
getTopTable1.3360.0001.350
getZfactor0.3600.0000.374
imageScreen0.9920.0001.002
normalizePlates1.5880.0001.606
oneRowPerId0.0040.0000.003
plotSpatialEffects2.4120.0042.428
readHTAnalystData1.0200.0001.026
readPlateList0.7720.0040.784
rsa0.8240.0040.845
scoreReplicates0.8280.0040.841
scores2calls0.8640.0040.879
setSettings0.0000.0040.005
spatialNormalization1.3010.0041.314
summarizeChannels1.4320.0001.443
summarizeReplicates0.8040.0040.816
templateDescriptionFile0.0000.0000.001
updateCellHTS0.1640.0000.174
write.tabdel0.0720.0040.087
writeReport0.0080.0040.023
writeTab0.0320.0000.040