a4Base 1.4.1 Tobias Verbeke
Snapshot Date: 2012-09-23 17:01:39 -0700 (Sun, 23 Sep 2012) | URL: https://hedgehog.fhcrc.org/bioconductor/branches/RELEASE_2_10/madman/Rpacks/a4Base | Last Changed Rev: 64885 / Revision: 69725 | Last Changed Date: 2012-04-05 01:22:31 -0700 (Thu, 05 Apr 2012) |
| lamb2 | Linux (openSUSE 11.4) / x86_64 | OK | OK | |
moscato2 | Windows Server 2008 R2 Enterprise SP1 (64-bit) / x64 | OK | OK | OK |
petty | Mac OS X Leopard (10.5.8) / i386 | OK | OK | [ OK ] |
>>>>>>>
>>>>>>> INSTALLATION WITH 'R CMD INSTALL --preclean --no-multiarch --library=a4Base.buildbin-libdir a4Base_1.4.1.tar.gz'
>>>>>>>
* installing *source* package 'a4Base' ...
** R
** data
** inst
** preparing package for lazy loading
** help
*** installing help indices
** building package indices
** testing if installed package can be loaded
* DONE (a4Base)