VariantAnnotation 1.2.0 Valerie Obenchain
Snapshot Date: 2012-03-31 17:01:49 -0700 (Sat, 31 Mar 2012) | URL: https://hedgehog.fhcrc.org/bioconductor/branches/RELEASE_2_10/madman/Rpacks/VariantAnnotation | Last Changed Rev: 64678 / Revision: 64719 | Last Changed Date: 2012-03-30 15:05:02 -0700 (Fri, 30 Mar 2012) |
| lamb2 | Linux (openSUSE 11.4) / x86_64 | OK | OK | |
puck5 | Linux (Ubuntu 12.04) / x86_64 | OK | [ OK ] | |
moscato2 | Windows Server 2008 R2 Enterprise SP1 (64-bit) / x64 | OK | OK | OK |
petty | Mac OS X Leopard (10.5.8) / i386 | OK | OK | OK |
* using log directory '/loc/home/hpages/test-puck5/bbs-2.10-bioc/meat/VariantAnnotation.Rcheck'
* using R version 2.15.0 RC (2012-03-22 r58802)
* using platform: x86_64-unknown-linux-gnu (64-bit)
* using session charset: ISO8859-1
* using option '--no-vignettes'
* checking for file 'VariantAnnotation/DESCRIPTION' ... OK
* checking extension type ... Package
* this is package 'VariantAnnotation' version '1.2.0'
* checking package namespace information ... OK
* checking package dependencies ... OK
* checking if this is a source package ... OK
* checking if there is a namespace ... OK
* checking whether package 'VariantAnnotation' can be installed ... OK
* checking installed package size ... OK
* checking package directory ... OK
* checking for portable file names ... OK
* checking for sufficient/correct file permissions ... OK
* checking DESCRIPTION meta-information ... OK
* checking top-level files ... OK
* checking index information ... OK
* checking package subdirectories ... OK
* checking R files for non-ASCII characters ... OK
* checking R files for syntax errors ... OK
* checking whether the package can be loaded ... OK
* checking whether the package can be loaded with stated dependencies ... OK
* checking whether the package can be unloaded cleanly ... OK
* checking whether the namespace can be loaded with stated dependencies ... OK
* checking whether the namespace can be unloaded cleanly ... OK
* checking for unstated dependencies in R code ... OK
* checking S3 generic/method consistency ... OK
* checking replacement functions ... OK
* checking foreign function calls ... OK
* checking R code for possible problems ... OK
* checking Rd files ... OK
* checking Rd metadata ... OK
* checking Rd cross-references ... OK
* checking for missing documentation entries ... OK
* checking for code/documentation mismatches ... OK
* checking Rd \usage sections ... OK
* checking Rd contents ... OK
* checking for unstated dependencies in examples ... OK
* checking contents of 'data' directory ... OK
* checking data for non-ASCII characters ... OK
* checking data for ASCII and uncompressed saves ... OK
* checking line endings in C/C++/Fortran sources/headers ... OK
* checking line endings in Makefiles ... OK
* checking for portable compilation flags in Makevars ... OK
* checking for portable use of $(BLAS_LIBS) and $(LAPACK_LIBS) ... OK
* checking compiled code ... OK
* checking installed files from 'inst/doc' ... OK
* checking examples ... OK
* checking for unstated dependencies in tests ... OK
* checking tests ...
Running 'VariantAnnotation_unit_tests.R'
OK
* checking for unstated dependencies in vignettes ... OK
* checking package vignettes in 'inst/doc' ... OK
* checking running R code from vignettes ... SKIPPED
* checking re-building of vignettes ... SKIPPED
* checking PDF version of manual ... OK
* installing *source* package 'VariantAnnotation' ...
** libs
gcc -std=gnu99 -I/home/hpages/test-puck5/bbs-2.10-bioc/R/include -DNDEBUG -D_USE_KNETFILE -D_FILE_OFFSET_BITS=64 -D_LARGEFILE64_SOURCE -I/usr/local/include -I"/loc/home/hpages/test-puck5/bbs-2.10-bioc/R/library/IRanges/include" -I"/loc/home/hpages/test-puck5/bbs-2.10-bioc/R/library/Biostrings/include" -I"/loc/home/hpages/test-puck5/bbs-2.10-bioc/R/library/Rsamtools/include" -fpic -g -O2 -c Biostrings_stubs.c -o Biostrings_stubs.o
gcc -std=gnu99 -I/home/hpages/test-puck5/bbs-2.10-bioc/R/include -DNDEBUG -D_USE_KNETFILE -D_FILE_OFFSET_BITS=64 -D_LARGEFILE64_SOURCE -I/usr/local/include -I"/loc/home/hpages/test-puck5/bbs-2.10-bioc/R/library/IRanges/include" -I"/loc/home/hpages/test-puck5/bbs-2.10-bioc/R/library/Biostrings/include" -I"/loc/home/hpages/test-puck5/bbs-2.10-bioc/R/library/Rsamtools/include" -fpic -g -O2 -c IRanges_stubs.c -o IRanges_stubs.o
gcc -std=gnu99 -I/home/hpages/test-puck5/bbs-2.10-bioc/R/include -DNDEBUG -D_USE_KNETFILE -D_FILE_OFFSET_BITS=64 -D_LARGEFILE64_SOURCE -I/usr/local/include -I"/loc/home/hpages/test-puck5/bbs-2.10-bioc/R/library/IRanges/include" -I"/loc/home/hpages/test-puck5/bbs-2.10-bioc/R/library/Biostrings/include" -I"/loc/home/hpages/test-puck5/bbs-2.10-bioc/R/library/Rsamtools/include" -fpic -g -O2 -c R_init_VariantAnnotation.c -o R_init_VariantAnnotation.o
gcc -std=gnu99 -I/home/hpages/test-puck5/bbs-2.10-bioc/R/include -DNDEBUG -D_USE_KNETFILE -D_FILE_OFFSET_BITS=64 -D_LARGEFILE64_SOURCE -I/usr/local/include -I"/loc/home/hpages/test-puck5/bbs-2.10-bioc/R/library/IRanges/include" -I"/loc/home/hpages/test-puck5/bbs-2.10-bioc/R/library/Biostrings/include" -I"/loc/home/hpages/test-puck5/bbs-2.10-bioc/R/library/Rsamtools/include" -fpic -g -O2 -c dna_hash.c -o dna_hash.o
gcc -std=gnu99 -I/home/hpages/test-puck5/bbs-2.10-bioc/R/include -DNDEBUG -D_USE_KNETFILE -D_FILE_OFFSET_BITS=64 -D_LARGEFILE64_SOURCE -I/usr/local/include -I"/loc/home/hpages/test-puck5/bbs-2.10-bioc/R/library/IRanges/include" -I"/loc/home/hpages/test-puck5/bbs-2.10-bioc/R/library/Biostrings/include" -I"/loc/home/hpages/test-puck5/bbs-2.10-bioc/R/library/Rsamtools/include" -fpic -g -O2 -c rle.c -o rle.o
gcc -std=gnu99 -I/home/hpages/test-puck5/bbs-2.10-bioc/R/include -DNDEBUG -D_USE_KNETFILE -D_FILE_OFFSET_BITS=64 -D_LARGEFILE64_SOURCE -I/usr/local/include -I"/loc/home/hpages/test-puck5/bbs-2.10-bioc/R/library/IRanges/include" -I"/loc/home/hpages/test-puck5/bbs-2.10-bioc/R/library/Biostrings/include" -I"/loc/home/hpages/test-puck5/bbs-2.10-bioc/R/library/Rsamtools/include" -fpic -g -O2 -c utilities.c -o utilities.o
gcc -std=gnu99 -I/home/hpages/test-puck5/bbs-2.10-bioc/R/include -DNDEBUG -D_USE_KNETFILE -D_FILE_OFFSET_BITS=64 -D_LARGEFILE64_SOURCE -I/usr/local/include -I"/loc/home/hpages/test-puck5/bbs-2.10-bioc/R/library/IRanges/include" -I"/loc/home/hpages/test-puck5/bbs-2.10-bioc/R/library/Biostrings/include" -I"/loc/home/hpages/test-puck5/bbs-2.10-bioc/R/library/Rsamtools/include" -fpic -g -O2 -c vcffile.c -o vcffile.o
gcc -std=gnu99 -I/home/hpages/test-puck5/bbs-2.10-bioc/R/include -DNDEBUG -D_USE_KNETFILE -D_FILE_OFFSET_BITS=64 -D_LARGEFILE64_SOURCE -I/usr/local/include -I"/loc/home/hpages/test-puck5/bbs-2.10-bioc/R/library/IRanges/include" -I"/loc/home/hpages/test-puck5/bbs-2.10-bioc/R/library/Biostrings/include" -I"/loc/home/hpages/test-puck5/bbs-2.10-bioc/R/library/Rsamtools/include" -fpic -g -O2 -c vcftype.c -o vcftype.o
gcc -std=gnu99 -I/home/hpages/test-puck5/bbs-2.10-bioc/R/include -DNDEBUG -D_USE_KNETFILE -D_FILE_OFFSET_BITS=64 -D_LARGEFILE64_SOURCE -I/usr/local/include -I"/loc/home/hpages/test-puck5/bbs-2.10-bioc/R/library/IRanges/include" -I"/loc/home/hpages/test-puck5/bbs-2.10-bioc/R/library/Biostrings/include" -I"/loc/home/hpages/test-puck5/bbs-2.10-bioc/R/library/Rsamtools/include" -fpic -g -O2 -c writevcf.c -o writevcf.o
gcc -std=gnu99 -shared -L/usr/local/lib -o VariantAnnotation.so Biostrings_stubs.o IRanges_stubs.o R_init_VariantAnnotation.o dna_hash.o rle.o utilities.o vcffile.o vcftype.o writevcf.o /loc/home/hpages/test-puck5/bbs-2.10-bioc/R/library/Rsamtools/usrlib//libbam.a /loc/home/hpages/test-puck5/bbs-2.10-bioc/R/library/Rsamtools/usrlib//libbcf.a /loc/home/hpages/test-puck5/bbs-2.10-bioc/R/library/Rsamtools/usrlib//libtabix.a -lz -lz -L/home/hpages/test-puck5/bbs-2.10-bioc/R/lib -lR
installing to /loc/home/hpages/test-puck5/bbs-2.10-bioc/meat/VariantAnnotation.Rcheck/VariantAnnotation/libs
** R
** data
** inst
** preparing package for lazy loading
** help
*** installing help indices
** building package indices
** installing vignettes
'VariantAnnotation.Rnw'
** testing if installed package can be loaded
* DONE (VariantAnnotation)