Back to the "Multiple platform build/check report" A  B  C  D  E  F  G  H  I  J  K  L  M  N  O  P  Q  R  S [T] U  V  W  X  Y  Z 

Package 537/554HostnameOS / ArchBUILDCHECKBUILD BIN
TypeInfo 1.22.0
Duncan Temple Lang
Snapshot Date: 2012-03-31 17:01:49 -0700 (Sat, 31 Mar 2012)
URL: https://hedgehog.fhcrc.org/bioconductor/branches/RELEASE_2_10/madman/Rpacks/TypeInfo
Last Changed Rev: 64678 / Revision: 64719
Last Changed Date: 2012-03-30 15:05:02 -0700 (Fri, 30 Mar 2012)
lamb2 Linux (openSUSE 11.4) / x86_64  OK  OK 
puck5 Linux (Ubuntu 12.04) / x86_64  OK [ OK ]
moscato2 Windows Server 2008 R2 Enterprise SP1 (64-bit) / x64  OK  OK  OK 
petty Mac OS X Leopard (10.5.8) / i386  OK  OK  OK 

Summary

Package: TypeInfo
Version: 1.22.0
Command: /home/hpages/test-puck5/bbs-2.10-bioc/R/bin/R CMD check --no-vignettes --timings TypeInfo_1.22.0.tar.gz
StartedAt: 2012-04-01 03:47:14 -0700 (Sun, 01 Apr 2012)
EndedAt: 2012-04-01 03:47:36 -0700 (Sun, 01 Apr 2012)
EllapsedTime: 21.7 seconds
RetCode: 0
Status:  OK 
CheckDir: TypeInfo.Rcheck
Warnings: 0

Command output

* using log directory '/loc/home/hpages/test-puck5/bbs-2.10-bioc/meat/TypeInfo.Rcheck'
* using R version 2.15.0 RC (2012-03-22 r58802)
* using platform: x86_64-unknown-linux-gnu (64-bit)
* using session charset: ISO8859-1
* using option '--no-vignettes'
* checking for file 'TypeInfo/DESCRIPTION' ... OK
* this is package 'TypeInfo' version '1.22.0'
* checking package namespace information ... OK
* checking package dependencies ... OK
* checking if this is a source package ... OK
* checking if there is a namespace ... OK
* checking whether package 'TypeInfo' can be installed ... OK
* checking installed package size ... OK
* checking package directory ... OK
* checking for portable file names ... OK
* checking for sufficient/correct file permissions ... OK
* checking DESCRIPTION meta-information ... OK
* checking top-level files ... OK
* checking index information ... OK
* checking package subdirectories ... OK
* checking R files for non-ASCII characters ... OK
* checking R files for syntax errors ... OK
* checking whether the package can be loaded ... OK
* checking whether the package can be loaded with stated dependencies ... OK
* checking whether the package can be unloaded cleanly ... OK
* checking whether the namespace can be loaded with stated dependencies ... OK
* checking whether the namespace can be unloaded cleanly ... OK
* checking for unstated dependencies in R code ... OK
* checking S3 generic/method consistency ... OK
* checking replacement functions ... OK
* checking foreign function calls ... OK
* checking R code for possible problems ... OK
* checking Rd files ... OK
* checking Rd metadata ... OK
* checking Rd cross-references ... OK
* checking for missing documentation entries ... OK
* checking for code/documentation mismatches ... OK
* checking Rd \usage sections ... OK
* checking Rd contents ... OK
* checking for unstated dependencies in examples ... OK
* checking installed files from 'inst/doc' ... NOTE
The following files should probably not be installed:
  'Rnews.sty', 'TypeSpecificationConcept.tex'

Consider the use of a .Rinstignore file: see 'Writing R Extensions',
or move the vignette sources from 'inst/doc' to 'vignettes'.
* checking examples ... OK
* checking for unstated dependencies in tests ... OK
* checking tests ...
  Running 'copyEnv.R'
  Running 'copySubstitute.R'
 OK
* checking for unstated dependencies in vignettes ... OK
* checking package vignettes in 'inst/doc' ... OK
* checking running R code from vignettes ... SKIPPED
* checking re-building of vignettes ... SKIPPED
* checking PDF version of manual ... OK

NOTE: There was 1 note.
See
  '/loc/home/hpages/test-puck5/bbs-2.10-bioc/meat/TypeInfo.Rcheck/00check.log'
for details.

TypeInfo.Rcheck/00install.out:

* installing *source* package 'TypeInfo' ...
** R
** inst
** preparing package for lazy loading
** help
*** installing help indices
** building package indices
** installing vignettes
   'TypeInfoNews.Rnw' 
** testing if installed package can be loaded

* DONE (TypeInfo)

TypeInfo.Rcheck/TypeInfo-Ex.timings:

nameusersystemelapsed
DynamicTypeTest-class0.0160.0000.019
IndependentTypeSpecification-class0.0840.0000.084
IndependentTypeSpecification0.0200.0000.021
NamedTypeTest-class0.0080.0000.005
ReturnTypeSpecification0.0080.0000.008
SimultaneousTypeSpecification0.0080.0000.009
TypedSignature0.0040.0000.003
checkArgs0.0000.0000.001
hasParameterType0.0200.0000.018
rewriteTypeCheck000
showTypeInfo0.0040.0000.004