TargetSearch 1.12.3 Alvaro Cuadros-Inostroza
 | Snapshot Date: 2012-09-23 17:01:39 -0700 (Sun, 23 Sep 2012) |  | URL: https://hedgehog.fhcrc.org/bioconductor/branches/RELEASE_2_10/madman/Rpacks/TargetSearch |  | Last Changed Rev: 68507 / Revision: 69725 |  | Last Changed Date: 2012-08-16 06:11:32 -0700 (Thu, 16 Aug 2012) |  
  | lamb2  | Linux (openSUSE 11.4) / x86_64  |  OK  |  OK  |  | 
| moscato2  | Windows Server 2008 R2 Enterprise SP1 (64-bit) / x64  |  OK  |  OK  | [ OK ] | 
| petty  | Mac OS X Leopard (10.5.8) / i386  |  OK  |  OK  |  OK  | 
install for i386
* installing *source* package 'TargetSearch' ...
** libs
gcc  -I"E:/biocbld/BBS-2˜1.10-/R/include" -DNDEBUG          -O3 -Wall  -std=gnu99 -mtune=core2 -c Rinit.c -o Rinit.o
gcc  -I"E:/biocbld/BBS-2˜1.10-/R/include" -DNDEBUG          -O3 -Wall  -std=gnu99 -mtune=core2 -c file.c -o file.o
gcc  -I"E:/biocbld/BBS-2˜1.10-/R/include" -DNDEBUG          -O3 -Wall  -std=gnu99 -mtune=core2 -c find_peaks.c -o find_peaks.o
gcc  -I"E:/biocbld/BBS-2˜1.10-/R/include" -DNDEBUG          -O3 -Wall  -std=gnu99 -mtune=core2 -c getLine.c -o getLine.o
gcc  -I"E:/biocbld/BBS-2˜1.10-/R/include" -DNDEBUG          -O3 -Wall  -std=gnu99 -mtune=core2 -c hpf.c -o hpf.o
gcc  -I"E:/biocbld/BBS-2˜1.10-/R/include" -DNDEBUG          -O3 -Wall  -std=gnu99 -mtune=core2 -c netcdf_peak_finding.c -o netcdf_peak_finding.o
gcc  -I"E:/biocbld/BBS-2˜1.10-/R/include" -DNDEBUG          -O3 -Wall  -std=gnu99 -mtune=core2 -c peakExtraction.c -o peakExtraction.o
gcc  -I"E:/biocbld/BBS-2˜1.10-/R/include" -DNDEBUG          -O3 -Wall  -std=gnu99 -mtune=core2 -c ppc.c -o ppc.o
gcc -shared -s -static-libgcc -o TargetSearch.dll tmp.def Rinit.o file.o find_peaks.o getLine.o hpf.o netcdf_peak_finding.o peakExtraction.o ppc.o -LE:/biocbld/BBS-2˜1.10-/R/bin/i386 -lR
installing to E:/biocbld/bbs-2.10-bioc/meat/TargetSearch.buildbin-libdir/TargetSearch/libs/i386
** R
** inst
** preparing package for lazy loading
** help
*** installing help indices
** building package indices
** installing vignettes
   'RICorrection.Rnw' 
   'TargetSearch.Rnw' 
** testing if installed package can be loaded
install for x64
* installing *source* package 'TargetSearch' ...
** libs
gcc -m64 -I"E:/biocbld/BBS-2˜1.10-/R/include" -DNDEBUG     -I"d:/RCompile/CRANpkg/extralibs64/local/include"     -O2 -Wall  -std=gnu99 -mtune=core2 -c Rinit.c -o Rinit.o
gcc -m64 -I"E:/biocbld/BBS-2˜1.10-/R/include" -DNDEBUG     -I"d:/RCompile/CRANpkg/extralibs64/local/include"     -O2 -Wall  -std=gnu99 -mtune=core2 -c file.c -o file.o
gcc -m64 -I"E:/biocbld/BBS-2˜1.10-/R/include" -DNDEBUG     -I"d:/RCompile/CRANpkg/extralibs64/local/include"     -O2 -Wall  -std=gnu99 -mtune=core2 -c find_peaks.c -o find_peaks.o
gcc -m64 -I"E:/biocbld/BBS-2˜1.10-/R/include" -DNDEBUG     -I"d:/RCompile/CRANpkg/extralibs64/local/include"     -O2 -Wall  -std=gnu99 -mtune=core2 -c getLine.c -o getLine.o
gcc -m64 -I"E:/biocbld/BBS-2˜1.10-/R/include" -DNDEBUG     -I"d:/RCompile/CRANpkg/extralibs64/local/include"     -O2 -Wall  -std=gnu99 -mtune=core2 -c hpf.c -o hpf.o
gcc -m64 -I"E:/biocbld/BBS-2˜1.10-/R/include" -DNDEBUG     -I"d:/RCompile/CRANpkg/extralibs64/local/include"     -O2 -Wall  -std=gnu99 -mtune=core2 -c netcdf_peak_finding.c -o netcdf_peak_finding.o
gcc -m64 -I"E:/biocbld/BBS-2˜1.10-/R/include" -DNDEBUG     -I"d:/RCompile/CRANpkg/extralibs64/local/include"     -O2 -Wall  -std=gnu99 -mtune=core2 -c peakExtraction.c -o peakExtraction.o
gcc -m64 -I"E:/biocbld/BBS-2˜1.10-/R/include" -DNDEBUG     -I"d:/RCompile/CRANpkg/extralibs64/local/include"     -O2 -Wall  -std=gnu99 -mtune=core2 -c ppc.c -o ppc.o
gcc -m64 -shared -s -static-libgcc -o TargetSearch.dll tmp.def Rinit.o file.o find_peaks.o getLine.o hpf.o netcdf_peak_finding.o peakExtraction.o ppc.o -Ld:/RCompile/CRANpkg/extralibs64/local/lib/x64 -Ld:/RCompile/CRANpkg/extralibs64/local/lib -LE:/biocbld/BBS-2~1.10-/R/bin/x64 -lR
installing to E:/biocbld/bbs-2.10-bioc/meat/TargetSearch.buildbin-libdir/TargetSearch/libs/x64
** testing if installed package can be loaded
* MD5 sums
packaged installation of 'TargetSearch' as TargetSearch_1.12.3.zip
* DONE (TargetSearch)