Back to the "Multiple platform build/check report" A  B  C  D  E  F  G  H  I  J  K  L  M  N  O  P  Q  R [S] T  U  V  W  X  Y  Z 

Package 519/554HostnameOS / ArchBUILDCHECKBUILD BIN
Streamer 1.2.0
Martin Morgan
Snapshot Date: 2012-03-31 17:01:49 -0700 (Sat, 31 Mar 2012)
URL: https://hedgehog.fhcrc.org/bioconductor/branches/RELEASE_2_10/madman/Rpacks/Streamer
Last Changed Rev: 64678 / Revision: 64719
Last Changed Date: 2012-03-30 15:05:02 -0700 (Fri, 30 Mar 2012)
lamb2 Linux (openSUSE 11.4) / x86_64  OK  OK 
puck5 Linux (Ubuntu 12.04) / x86_64  OK [ OK ]
moscato2 Windows Server 2008 R2 Enterprise SP1 (64-bit) / x64  OK  OK  OK 
petty Mac OS X Leopard (10.5.8) / i386  OK  OK  OK 

Summary

Package: Streamer
Version: 1.2.0
Command: /home/hpages/test-puck5/bbs-2.10-bioc/R/bin/R CMD check --no-vignettes --timings Streamer_1.2.0.tar.gz
StartedAt: 2012-04-01 03:39:58 -0700 (Sun, 01 Apr 2012)
EndedAt: 2012-04-01 03:40:29 -0700 (Sun, 01 Apr 2012)
EllapsedTime: 30.7 seconds
RetCode: 0
Status:  OK 
CheckDir: Streamer.Rcheck
Warnings: 0

Command output

* using log directory '/loc/home/hpages/test-puck5/bbs-2.10-bioc/meat/Streamer.Rcheck'
* using R version 2.15.0 RC (2012-03-22 r58802)
* using platform: x86_64-unknown-linux-gnu (64-bit)
* using session charset: ISO8859-1
* using option '--no-vignettes'
* checking for file 'Streamer/DESCRIPTION' ... OK
* checking extension type ... Package
* this is package 'Streamer' version '1.2.0'
* checking package namespace information ... OK
* checking package dependencies ... OK
* checking if this is a source package ... OK
* checking if there is a namespace ... OK
* checking whether package 'Streamer' can be installed ... OK
* checking installed package size ... OK
* checking package directory ... OK
* checking for portable file names ... OK
* checking for sufficient/correct file permissions ... OK
* checking DESCRIPTION meta-information ... OK
* checking top-level files ... OK
* checking index information ... OK
* checking package subdirectories ... OK
* checking R files for non-ASCII characters ... OK
* checking R files for syntax errors ... OK
* checking whether the package can be loaded ... OK
* checking whether the package can be loaded with stated dependencies ... OK
* checking whether the package can be unloaded cleanly ... OK
* checking whether the namespace can be loaded with stated dependencies ... OK
* checking whether the namespace can be unloaded cleanly ... OK
* checking for unstated dependencies in R code ... OK
* checking S3 generic/method consistency ... OK
* checking replacement functions ... OK
* checking foreign function calls ... OK
* checking R code for possible problems ... OK
* checking Rd files ... OK
* checking Rd metadata ... OK
* checking Rd cross-references ... OK
* checking for missing documentation entries ... OK
* checking for code/documentation mismatches ... OK
* checking Rd \usage sections ... OK
* checking Rd contents ... OK
* checking for unstated dependencies in examples ... OK
* checking line endings in C/C++/Fortran sources/headers ... OK
* checking line endings in Makefiles ... OK
* checking for portable use of $(BLAS_LIBS) and $(LAPACK_LIBS) ... OK
* checking compiled code ... OK
* checking installed files from 'inst/doc' ... OK
* checking examples ... OK
* checking for unstated dependencies in tests ... OK
* checking tests ...
  Running 'unit_tests.R'
 OK
* checking for unstated dependencies in vignettes ... OK
* checking package vignettes in 'inst/doc' ... OK
* checking running R code from vignettes ... SKIPPED
* checking re-building of vignettes ... SKIPPED
* checking PDF version of manual ... OK

Streamer.Rcheck/00install.out:

* installing *source* package 'Streamer' ...
** libs
gcc -std=gnu99 -I/home/hpages/test-puck5/bbs-2.10-bioc/R/include -DNDEBUG  -I/usr/local/include    -fpic  -g -O2  -c R_init_Streamer.c -o R_init_Streamer.o
gcc -std=gnu99 -I/home/hpages/test-puck5/bbs-2.10-bioc/R/include -DNDEBUG  -I/usr/local/include    -fpic  -g -O2  -c raw_input.c -o raw_input.o
gcc -std=gnu99 -shared -L/usr/local/lib -o Streamer.so R_init_Streamer.o raw_input.o -L/home/hpages/test-puck5/bbs-2.10-bioc/R/lib -lR
installing to /loc/home/hpages/test-puck5/bbs-2.10-bioc/meat/Streamer.Rcheck/Streamer/libs
** R
** inst
** preparing package for lazy loading
** help
*** installing help indices
** building package indices
** installing vignettes
   'Streamer.Rnw' 
** testing if installed package can be loaded

* DONE (Streamer)

Streamer.Rcheck/Streamer-Ex.timings:

nameusersystemelapsed
BufferInt-class0.0040.0000.003
ConnectionProducer-class0.0000.0000.001
Consumer-class0.0000.0040.001
Downsample-class000
NetCDFFile-class000
NetCDFInput-class0.0000.0000.001
ParallelConnector-class0.0040.0000.001
Producer-class0.0000.0000.001
RawInput-class0.0120.0080.024
RawToChar-class0.0000.0000.001
ReadLinesInput-class0.0000.0000.001
Rev-class0.0000.0000.001
Stream-class000
Streamer-class0.0000.0040.001
Streamer-package0.1440.0040.151
TConnector-class0.0600.0000.066
TOut-class0.0000.0000.001
UserFunction-class0.0680.0000.074
Utility-class0.0000.0000.001
YConnector-class0.0280.0040.042
connect0.0960.0000.100
reset000
status000
stream0.0560.0040.066
yield000