Back to the "Multiple platform build/check report" A  B  C  D  E  F  G  H  I  J  K  L  M  N  O  P  Q [R] S  T  U  V  W  X  Y  Z 

Package 453/532HostnameOS / ArchBUILDCHECKBUILD BIN
RTools4TB 1.11.1
Aurelie Bergon
Snapshot Date: 2012-02-28 17:01:26 -0800 (Tue, 28 Feb 2012)
URL: https://hedgehog.fhcrc.org/bioconductor/trunk/madman/Rpacks/RTools4TB
Last Changed Rev: 60018 / Revision: 63265
Last Changed Date: 2011-11-02 12:08:14 -0700 (Wed, 02 Nov 2011)
lamb2 Linux (openSUSE 11.4) / x86_64  OK  OK 
moscato2 Windows Server 2008 R2 Enterprise SP1 (64-bit) / x64  OK  OK [ OK ]
petty Mac OS X Snow Leopard (10.6.7) / i386  OK  OK  OK 

Summary

Package: RTools4TB
Version: 1.11.1
Command: rm -rf RTools4TB.buildbin-libdir && mkdir RTools4TB.buildbin-libdir && E:\biocbld\bbs-2.10-bioc\R\bin\R.exe CMD INSTALL --build --merge-multiarch --library=RTools4TB.buildbin-libdir RTools4TB_1.11.1.tar.gz
StartedAt: 2012-02-29 02:46:45 -0800 (Wed, 29 Feb 2012)
EndedAt: 2012-02-29 02:47:05 -0800 (Wed, 29 Feb 2012)
EllapsedTime: 19.9 seconds
RetCode: 0
Status:  OK  
PackageFile: RTools4TB_1.11.1.zip
PackageFileSize: 601.3 KiB

Command output


install for i386

* installing *source* package 'RTools4TB' ...
** libs
gcc -m32 -I"E:/biocbld/BBS-2˜1.10-/R/include" -DNDEBUG     -I"d:/RCompile/CRANpkg/extralibs64/local/include"     -O3 -Wall  -std=gnu99 -mtune=core2 -c dbf.c -o dbf.o
gcc -m32 -shared -s -static-libgcc -o RTools4TB.dll tmp.def dbf.o -Ld:/RCompile/CRANpkg/extralibs64/local/lib/i386 -Ld:/RCompile/CRANpkg/extralibs64/local/lib -LE:/biocbld/BBS-2˜1.10-/R/bin/i386 -lR
installing to E:/biocbld/bbs-2.10-bioc/meat/RTools4TB.buildbin-libdir/RTools4TB/libs/i386
** R
** data
** inst
** preparing package for lazy loading
** help
*** installing help indices
** building package indices
** installing vignettes
   'RTools4TB.Rnw' 
** testing if installed package can be loaded

add DLL for x64

* installing *source* package 'RTools4TB' ...
** libs
gcc -m64 -I"E:/biocbld/BBS-2˜1.10-/R/include" -DNDEBUG     -I"d:/RCompile/CRANpkg/extralibs64/local/include"     -O2 -Wall  -std=gnu99 -mtune=core2 -c dbf.c -o dbf.o
dbf.c: In function 'dbf_':
dbf.c:675:4: warning: format '%ld' expects argument of type 'long int', but argument 3 has type 'time_t' [-Wformat]
gcc -m64 -shared -s -static-libgcc -o RTools4TB.dll tmp.def dbf.o -Ld:/RCompile/CRANpkg/extralibs64/local/lib/x64 -Ld:/RCompile/CRANpkg/extralibs64/local/lib -LE:/biocbld/BBS-2˜1.10-/R/bin/x64 -lR
installing to E:/biocbld/bbs-2.10-bioc/meat/RTools4TB.buildbin-libdir/RTools4TB/libs/x64
** testing if installed package can be loaded
* MD5 sums
packaged installation of 'RTools4TB' as RTools4TB_1.11.1.zip

* DONE (RTools4TB)