Back to the "Multiple platform build/check report" A  B  C  D  E  F  G  H  I  J  K  L  M  N  O  P  Q [R] S  T  U  V  W  X  Y  Z 

Package 464/554HostnameOS / ArchBUILDCHECKBUILD BIN
RNAither 2.4.0
Nora Rieber
Snapshot Date: 2012-03-31 17:01:49 -0700 (Sat, 31 Mar 2012)
URL: https://hedgehog.fhcrc.org/bioconductor/branches/RELEASE_2_10/madman/Rpacks/RNAither
Last Changed Rev: 64678 / Revision: 64719
Last Changed Date: 2012-03-30 15:05:02 -0700 (Fri, 30 Mar 2012)
lamb2 Linux (openSUSE 11.4) / x86_64  OK  OK 
puck5 Linux (Ubuntu 12.04) / x86_64  OK [ OK ]
moscato2 Windows Server 2008 R2 Enterprise SP1 (64-bit) / x64  OK  OK  OK 
petty Mac OS X Leopard (10.5.8) / i386  OK  OK  OK 

Summary

Package: RNAither
Version: 2.4.0
Command: /home/hpages/test-puck5/bbs-2.10-bioc/R/bin/R CMD check --no-vignettes --timings RNAither_2.4.0.tar.gz
StartedAt: 2012-04-01 03:11:10 -0700 (Sun, 01 Apr 2012)
EndedAt: 2012-04-01 03:16:20 -0700 (Sun, 01 Apr 2012)
EllapsedTime: 309.8 seconds
RetCode: 0
Status:  OK 
CheckDir: RNAither.Rcheck
Warnings: 0

Command output

* using log directory '/loc/home/hpages/test-puck5/bbs-2.10-bioc/meat/RNAither.Rcheck'
* using R version 2.15.0 RC (2012-03-22 r58802)
* using platform: x86_64-unknown-linux-gnu (64-bit)
* using session charset: ISO8859-1
* using option '--no-vignettes'
* checking for file 'RNAither/DESCRIPTION' ... OK
* this is package 'RNAither' version '2.4.0'
* checking package namespace information ... OK
* checking package dependencies ... OK
* checking if this is a source package ... OK
* checking if there is a namespace ... OK
* checking whether package 'RNAither' can be installed ... OK
* checking installed package size ... OK
* checking package directory ... OK
* checking for portable file names ... OK
* checking for sufficient/correct file permissions ... OK
* checking DESCRIPTION meta-information ... OK
* checking top-level files ... OK
* checking index information ... OK
* checking package subdirectories ... NOTE
Found the following CITATION file(s) in a non-standard place:
  inst/extdata/CITATION
Most likely 'inst/CITATION' should be used instead.
* checking R files for non-ASCII characters ... OK
* checking R files for syntax errors ... OK
* checking whether the package can be loaded ... OK
* checking whether the package can be loaded with stated dependencies ... OK
* checking whether the package can be unloaded cleanly ... OK
* checking whether the namespace can be loaded with stated dependencies ... OK
* checking whether the namespace can be unloaded cleanly ... OK
* checking for unstated dependencies in R code ... OK
* checking S3 generic/method consistency ... OK
* checking replacement functions ... OK
* checking foreign function calls ... OK
* checking R code for possible problems ... OK
* checking Rd files ... OK
* checking Rd metadata ... OK
* checking Rd cross-references ... OK
* checking for missing documentation entries ... OK
* checking for code/documentation mismatches ... OK
* checking Rd \usage sections ... OK
* checking Rd contents ... OK
* checking for unstated dependencies in examples ... OK
* checking contents of 'data' directory ... OK
* checking data for non-ASCII characters ... OK
* checking data for ASCII and uncompressed saves ... OK
* checking installed files from 'inst/doc' ... OK
* checking examples ... OK
* checking for unstated dependencies in vignettes ... OK
* checking package vignettes in 'inst/doc' ... OK
* checking running R code from vignettes ... SKIPPED
* checking re-building of vignettes ... SKIPPED
* checking PDF version of manual ... OK

NOTE: There was 1 note.
See
  '/loc/home/hpages/test-puck5/bbs-2.10-bioc/meat/RNAither.Rcheck/00check.log'
for details.

RNAither.Rcheck/00install.out:

* installing *source* package 'RNAither' ...
** R
** data
** inst
** preparing package for lazy loading

groupGOTerms: 	GOBPTerm, GOMFTerm, GOCCTerm environments built.
Scalable Robust Estimators with High Breakdown Point (version 1.3-01)
** help
*** installing help indices
** building package indices
** installing vignettes
   'vignetteRNAither.Rnw' 
** testing if installed package can be loaded

groupGOTerms: 	GOBPTerm, GOMFTerm, GOCCTerm environments built.
Scalable Robust Estimators with High Breakdown Point (version 1.3-01)

* DONE (RNAither)

RNAither.Rcheck/RNAither-Ex.timings:

nameusersystemelapsed
BScore0.0480.0000.059
DRQualControl0.0320.0000.044
LiWongRank0.0760.0080.102
MannWhitney0.0360.0040.053
RankProduct0.4080.0000.420
SNRQualControl0.0400.0000.051
Ttest0.0360.0040.053
ZPRIMEQualControl0.0480.0080.070
ZScore0.0200.0040.036
ZScorePerScreen0.0160.0040.030
ZScorePlot0.0520.0160.088
ZScorePlotTwo0.0440.0000.056
channelPlot0.0360.0000.048
closestToZero0.0040.0000.009
compareHits0.0760.0080.107
compareReplicaPlates0.0280.0000.039
compareReplicateSD0.1680.0040.184
compareReplicateSDPerScreen0.2440.0000.259
compareReplicates0.1120.0080.131
controlDensity0.0600.0000.078
controlDensityPerPlate0.3240.0040.343
controlDensityPerScreen0.0720.0040.091
controlNorm0.0160.0000.029
createSubset0.0040.0000.015
discardLabtek0.0080.0000.013
discardWells0.0040.0000.013
divNorm0.0200.0040.035
divideChannels0.0080.0000.013
eraseDataSetColumn0.0160.0080.030
findReplicates0.0080.0040.023
furthestFromZero0.0040.0040.011
generateDatasetFile0.0160.0000.015
generateRepMatNoFilter0.0120.0000.019
generateReplicateMat0.0200.0000.025
gseaAnalysis 3.532 0.02441.545
hitselectionPval0.0440.0000.058
hitselectionZscore0.0520.0000.069
hitselectionZscorePval0.0480.0000.060
incorporatepValVec0.0280.0080.056
indexSubset0.0000.0040.011
joinDatasetFiles0.020.000.03
joinDatasets0.0080.0000.014
lowessNorm0.0120.0040.026
mainAnalysis27.822 0.34061.806
makeBoxplot4PlateType0.0560.0000.065
makeBoxplotControls0.0360.0000.047
makeBoxplotControlsPerPlate0.1040.0000.115
makeBoxplotControlsPerScreen0.060.000.07
makeBoxplotPerPlate0.0520.0040.069
makeBoxplotPerScreen0.0400.0000.049
multTestAdjust0.0040.0000.010
numCellQualControl0.0320.0080.055
orderGeneIDs0.0800.0000.088
percCellQualControl0.0360.0000.049
plotBar0.1280.0040.144
plotControlHisto0.0680.0040.086
plotControlHistoPerplate0.2840.0000.296
plotControlHistoPerscreen0.1480.0040.161
plotHisto0.0240.0040.041
plotHistoPerplate0.0720.0000.083
plotHistoPerscreen0.0400.0000.053
plotQQ0.0240.0000.038
plotQQperplate0.0720.0040.084
plotQQperscreen0.0320.0080.052
quantileNormalization0.0240.0000.037
replicatesCV0.0440.0040.061
replicatesSpearmancor0.0240.0000.036
rms0.0040.0040.010
rnaither8.7250.0488.885
saveDataset0.0160.0040.034
saveOldIntensityColumns0.0080.0000.010
savepValVec0.0040.0000.010
spatialDistrib0.5080.0080.535
spatialDistribHits0.5000.0120.533
subtractBackground0.0120.0000.023
sumChannels0.0200.0000.033
summarizeReps0.0880.0000.091
summarizeRepsNoFiltering0.0760.0040.085
trim0.0000.0080.020
varAdjust0.0120.0040.024
vennDiag0.0840.0160.126
volcanoPlot0.0600.0040.077