>>>>>>>
>>>>>>> INSTALLATION WITH 'R CMD INSTALL --preclean --no-multiarch --library=RBGL.buildbin-libdir RBGL_1.32.1.tar.gz'
>>>>>>>
* installing *source* package 'RBGL' ...
removing exploded boost header source...
found rbgl_trimmed_boost_1_49_0 header sources and tar archive;
using what is there.
** libs
*** arch - i386
g++ -arch i386 -I/Library/Frameworks/R.framework/Versions/2.15/Resources/include -I/Library/Frameworks/R.framework/Versions/2.15/Resources/include/i386 -DNDEBUG -I/usr/local/include -Irbgl_trimmed_boost_1_49_0 -fPIC -g -O2 -Wall -fasm-blocks -c bbc.cpp -o bbc.o
In file included from rbgl_trimmed_boost_1_49_0/boost/graph/graph_concepts.hpp:26,
from rbgl_trimmed_boost_1_49_0/boost/graph/detail/adjacency_list.hpp:31,
from rbgl_trimmed_boost_1_49_0/boost/graph/adjacency_list.hpp:337,
from RBGL.hpp:37,
from bbc.cpp:1:
rbgl_trimmed_boost_1_49_0/boost/concept/detail/concept_def.hpp:34:1: warning: "BOOST_concept" redefined
In file included from rbgl_trimmed_boost_1_49_0/boost/graph/buffer_concepts.hpp:9,
from rbgl_trimmed_boost_1_49_0/boost/graph/graph_concepts.hpp:21,
from rbgl_trimmed_boost_1_49_0/boost/graph/detail/adjacency_list.hpp:31,
from rbgl_trimmed_boost_1_49_0/boost/graph/adjacency_list.hpp:337,
from RBGL.hpp:37,
from bbc.cpp:1:
rbgl_trimmed_boost_1_49_0/boost/concept/detail/concept_def.hpp:34:1: warning: this is the location of the previous definition
g++ -arch i386 -I/Library/Frameworks/R.framework/Versions/2.15/Resources/include -I/Library/Frameworks/R.framework/Versions/2.15/Resources/include/i386 -DNDEBUG -I/usr/local/include -Irbgl_trimmed_boost_1_49_0 -fPIC -g -O2 -Wall -fasm-blocks -c cliques.cpp -o cliques.o
In file included from rbgl_trimmed_boost_1_49_0/boost/graph/graph_concepts.hpp:26,
from rbgl_trimmed_boost_1_49_0/boost/graph/detail/adjacency_list.hpp:31,
from rbgl_trimmed_boost_1_49_0/boost/graph/adjacency_list.hpp:337,
from RBGL.hpp:37,
from cliques.cpp:1:
rbgl_trimmed_boost_1_49_0/boost/concept/detail/concept_def.hpp:34:1: warning: "BOOST_concept" redefined
In file included from rbgl_trimmed_boost_1_49_0/boost/graph/buffer_concepts.hpp:9,
from rbgl_trimmed_boost_1_49_0/boost/graph/graph_concepts.hpp:21,
from rbgl_trimmed_boost_1_49_0/boost/graph/detail/adjacency_list.hpp:31,
from rbgl_trimmed_boost_1_49_0/boost/graph/adjacency_list.hpp:337,
from RBGL.hpp:37,
from cliques.cpp:1:
rbgl_trimmed_boost_1_49_0/boost/concept/detail/concept_def.hpp:34:1: warning: this is the location of the previous definition
g++ -arch i386 -I/Library/Frameworks/R.framework/Versions/2.15/Resources/include -I/Library/Frameworks/R.framework/Versions/2.15/Resources/include/i386 -DNDEBUG -I/usr/local/include -Irbgl_trimmed_boost_1_49_0 -fPIC -g -O2 -Wall -fasm-blocks -c clusteringCoef.cpp -o clusteringCoef.o
In file included from rbgl_trimmed_boost_1_49_0/boost/graph/graph_concepts.hpp:26,
from rbgl_trimmed_boost_1_49_0/boost/graph/detail/adjacency_list.hpp:31,
from rbgl_trimmed_boost_1_49_0/boost/graph/adjacency_list.hpp:337,
from RBGL.hpp:37,
from clusteringCoef.cpp:1:
rbgl_trimmed_boost_1_49_0/boost/concept/detail/concept_def.hpp:34:1: warning: "BOOST_concept" redefined
In file included from rbgl_trimmed_boost_1_49_0/boost/graph/buffer_concepts.hpp:9,
from rbgl_trimmed_boost_1_49_0/boost/graph/graph_concepts.hpp:21,
from rbgl_trimmed_boost_1_49_0/boost/graph/detail/adjacency_list.hpp:31,
from rbgl_trimmed_boost_1_49_0/boost/graph/adjacency_list.hpp:337,
from RBGL.hpp:37,
from clusteringCoef.cpp:1:
rbgl_trimmed_boost_1_49_0/boost/concept/detail/concept_def.hpp:34:1: warning: this is the location of the previous definition
g++ -arch i386 -I/Library/Frameworks/R.framework/Versions/2.15/Resources/include -I/Library/Frameworks/R.framework/Versions/2.15/Resources/include/i386 -DNDEBUG -I/usr/local/include -Irbgl_trimmed_boost_1_49_0 -fPIC -g -O2 -Wall -fasm-blocks -c dominatorTree.cpp -o dominatorTree.o
In file included from rbgl_trimmed_boost_1_49_0/boost/graph/graph_concepts.hpp:26,
from rbgl_trimmed_boost_1_49_0/boost/graph/detail/adjacency_list.hpp:31,
from rbgl_trimmed_boost_1_49_0/boost/graph/adjacency_list.hpp:337,
from RBGL.hpp:37,
from dominatorTree.cpp:1:
rbgl_trimmed_boost_1_49_0/boost/concept/detail/concept_def.hpp:34:1: warning: "BOOST_concept" redefined
In file included from rbgl_trimmed_boost_1_49_0/boost/graph/buffer_concepts.hpp:9,
from rbgl_trimmed_boost_1_49_0/boost/graph/graph_concepts.hpp:21,
from rbgl_trimmed_boost_1_49_0/boost/graph/detail/adjacency_list.hpp:31,
from rbgl_trimmed_boost_1_49_0/boost/graph/adjacency_list.hpp:337,
from RBGL.hpp:37,
from dominatorTree.cpp:1:
rbgl_trimmed_boost_1_49_0/boost/concept/detail/concept_def.hpp:34:1: warning: this is the location of the previous definition
g++ -arch i386 -I/Library/Frameworks/R.framework/Versions/2.15/Resources/include -I/Library/Frameworks/R.framework/Versions/2.15/Resources/include/i386 -DNDEBUG -I/usr/local/include -Irbgl_trimmed_boost_1_49_0 -fPIC -g -O2 -Wall -fasm-blocks -c edmonds_optimum_branching.cpp -o edmonds_optimum_branching.o
In file included from rbgl_trimmed_boost_1_49_0/boost/graph/graph_concepts.hpp:26,
from rbgl_trimmed_boost_1_49_0/boost/graph/detail/adjacency_list.hpp:31,
from rbgl_trimmed_boost_1_49_0/boost/graph/adjacency_list.hpp:337,
from RBGL.hpp:37,
from edmonds_optimum_branching.cpp:1:
rbgl_trimmed_boost_1_49_0/boost/concept/detail/concept_def.hpp:34:1: warning: "BOOST_concept" redefined
In file included from rbgl_trimmed_boost_1_49_0/boost/graph/buffer_concepts.hpp:9,
from rbgl_trimmed_boost_1_49_0/boost/graph/graph_concepts.hpp:21,
from rbgl_trimmed_boost_1_49_0/boost/graph/detail/adjacency_list.hpp:31,
from rbgl_trimmed_boost_1_49_0/boost/graph/adjacency_list.hpp:337,
from RBGL.hpp:37,
from edmonds_optimum_branching.cpp:1:
rbgl_trimmed_boost_1_49_0/boost/concept/detail/concept_def.hpp:34:1: warning: this is the location of the previous definition
g++ -arch i386 -I/Library/Frameworks/R.framework/Versions/2.15/Resources/include -I/Library/Frameworks/R.framework/Versions/2.15/Resources/include/i386 -DNDEBUG -I/usr/local/include -Irbgl_trimmed_boost_1_49_0 -fPIC -g -O2 -Wall -fasm-blocks -c hcs.cpp -o hcs.o
In file included from rbgl_trimmed_boost_1_49_0/boost/graph/graph_concepts.hpp:26,
from rbgl_trimmed_boost_1_49_0/boost/graph/detail/adjacency_list.hpp:31,
from rbgl_trimmed_boost_1_49_0/boost/graph/adjacency_list.hpp:337,
from RBGL.hpp:37,
from hcs.cpp:1:
rbgl_trimmed_boost_1_49_0/boost/concept/detail/concept_def.hpp:34:1: warning: "BOOST_concept" redefined
In file included from rbgl_trimmed_boost_1_49_0/boost/graph/buffer_concepts.hpp:9,
from rbgl_trimmed_boost_1_49_0/boost/graph/graph_concepts.hpp:21,
from rbgl_trimmed_boost_1_49_0/boost/graph/detail/adjacency_list.hpp:31,
from rbgl_trimmed_boost_1_49_0/boost/graph/adjacency_list.hpp:337,
from RBGL.hpp:37,
from hcs.cpp:1:
rbgl_trimmed_boost_1_49_0/boost/concept/detail/concept_def.hpp:34:1: warning: this is the location of the previous definition
rbgl_trimmed_boost_1_49_0/boost/graph/detail/adjacency_list.hpp: In function 'typename boost::graph_traits::edges_size_type boost::min_cut(VertexListGraph&, OutputIterator, OutputIterator) [with VertexListGraph = const R_adjacency_list, OutputIterator = std::back_insert_iterator > >]':
rbgl_trimmed_boost_1_49_0/boost/graph/detail/adjacency_list.hpp:272: warning: 'p.boost::property, boost::no_property> > >::.boost::property, boost::no_property> >::.boost::property, boost::no_property>::m_value.boost::detail::edge_desc_impl::.boost::detail::edge_base::m_target' is used uninitialized in this function
rbgl_trimmed_boost_1_49_0/boost/graph/detail/adjacency_list.hpp:2203: note: 'p.boost::property, boost::no_property> > >::.boost::property, boost::no_property> >::.boost::property, boost::no_property>::m_value.boost::detail::edge_desc_impl::.boost::detail::edge_base::m_target' was declared here
rbgl_trimmed_boost_1_49_0/boost/graph/detail/adjacency_list.hpp:272: warning: 'p.boost::property, boost::no_property> > >::.boost::property, boost::no_property> >::.boost::property, boost::no_property>::m_value.boost::detail::edge_desc_impl::.boost::detail::edge_base::m_source' is used uninitialized in this function
rbgl_trimmed_boost_1_49_0/boost/graph/detail/adjacency_list.hpp:2203: note: 'p.boost::property, boost::no_property> > >::.boost::property, boost::no_property> >::.boost::property, boost::no_property>::m_value.boost::detail::edge_desc_impl::.boost::detail::edge_base::m_source' was declared here
rbgl_trimmed_boost_1_49_0/boost/graph/detail/adjacency_list.hpp:272: warning: 'p.boost::property, boost::no_property> > >::.boost::property, boost::no_property> >::.boost::property, boost::no_property>::m_value.boost::detail::edge_desc_impl::.boost::detail::edge_base::m_target' is used uninitialized in this function
rbgl_trimmed_boost_1_49_0/boost/graph/detail/adjacency_list.hpp:2203: note: 'p.boost::property, boost::no_property> > >::.boost::property, boost::no_property> >::.boost::property, boost::no_property>::m_value.boost::detail::edge_desc_impl::.boost::detail::edge_base::m_target' was declared here
rbgl_trimmed_boost_1_49_0/boost/graph/detail/adjacency_list.hpp:272: warning: 'p.boost::property, boost::no_property> > >::.boost::property, boost::no_property> >::.boost::property, boost::no_property>::m_value.boost::detail::edge_desc_impl::.boost::detail::edge_base::m_source' is used uninitialized in this function
rbgl_trimmed_boost_1_49_0/boost/graph/detail/adjacency_list.hpp:2203: note: 'p.boost::property, boost::no_property> > >::.boost::property, boost::no_property> >::.boost::property, boost::no_property>::m_value.boost::detail::edge_desc_impl::.boost::detail::edge_base::m_source' was declared here
rbgl_trimmed_boost_1_49_0/boost/graph/edge_connectivity.hpp:32: warning: 'p' may be used uninitialized in this function
rbgl_trimmed_boost_1_49_0/boost/graph/edge_connectivity.hpp:32: note: 'p' was declared here
g++ -arch i386 -I/Library/Frameworks/R.framework/Versions/2.15/Resources/include -I/Library/Frameworks/R.framework/Versions/2.15/Resources/include/i386 -DNDEBUG -I/usr/local/include -Irbgl_trimmed_boost_1_49_0 -fPIC -g -O2 -Wall -fasm-blocks -c incrConnComp.cpp -o incrConnComp.o
In file included from rbgl_trimmed_boost_1_49_0/boost/graph/graph_concepts.hpp:26,
from rbgl_trimmed_boost_1_49_0/boost/graph/detail/adjacency_list.hpp:31,
from rbgl_trimmed_boost_1_49_0/boost/graph/adjacency_list.hpp:337,
from RBGL.hpp:37,
from incrConnComp.cpp:1:
rbgl_trimmed_boost_1_49_0/boost/concept/detail/concept_def.hpp:34:1: warning: "BOOST_concept" redefined
In file included from rbgl_trimmed_boost_1_49_0/boost/graph/buffer_concepts.hpp:9,
from rbgl_trimmed_boost_1_49_0/boost/graph/graph_concepts.hpp:21,
from rbgl_trimmed_boost_1_49_0/boost/graph/detail/adjacency_list.hpp:31,
from rbgl_trimmed_boost_1_49_0/boost/graph/adjacency_list.hpp:337,
from RBGL.hpp:37,
from incrConnComp.cpp:1:
rbgl_trimmed_boost_1_49_0/boost/concept/detail/concept_def.hpp:34:1: warning: this is the location of the previous definition
incrConnComp.cpp: In function 'SEXPREC* BGL_incr_comp_internal(SEXPREC*, SEXPREC*, SEXPREC*, E_IC_METHOD)':
incrConnComp.cpp:74: warning: unused variable 'child_index'
g++ -arch i386 -I/Library/Frameworks/R.framework/Versions/2.15/Resources/include -I/Library/Frameworks/R.framework/Versions/2.15/Resources/include/i386 -DNDEBUG -I/usr/local/include -Irbgl_trimmed_boost_1_49_0 -fPIC -g -O2 -Wall -fasm-blocks -c interfaces.cpp -o interfaces.o
In file included from rbgl_trimmed_boost_1_49_0/boost/graph/graph_concepts.hpp:26,
from rbgl_trimmed_boost_1_49_0/boost/graph/detail/adjacency_list.hpp:31,
from rbgl_trimmed_boost_1_49_0/boost/graph/adjacency_list.hpp:337,
from RBGL.hpp:37,
from interfaces.cpp:1:
rbgl_trimmed_boost_1_49_0/boost/concept/detail/concept_def.hpp:34:1: warning: "BOOST_concept" redefined
In file included from rbgl_trimmed_boost_1_49_0/boost/graph/buffer_concepts.hpp:9,
from rbgl_trimmed_boost_1_49_0/boost/graph/graph_concepts.hpp:21,
from rbgl_trimmed_boost_1_49_0/boost/graph/detail/adjacency_list.hpp:31,
from rbgl_trimmed_boost_1_49_0/boost/graph/adjacency_list.hpp:337,
from RBGL.hpp:37,
from interfaces.cpp:1:
rbgl_trimmed_boost_1_49_0/boost/concept/detail/concept_def.hpp:34:1: warning: this is the location of the previous definition
rbgl_trimmed_boost_1_49_0/boost/graph/detail/adjacency_list.hpp: In function 'typename boost::graph_traits::degree_size_type boost::edge_connectivity(VertexListGraph&, OutputIterator) [with VertexListGraph = Graph_ud, OutputIterator = std::back_insert_iterator, std::allocator > > >]':
rbgl_trimmed_boost_1_49_0/boost/graph/detail/adjacency_list.hpp:272: warning: 'p.boost::property, boost::no_property> > >::.boost::property, boost::no_property> >::.boost::property, boost::no_property>::m_value.boost::detail::edge_desc_impl::.boost::detail::edge_base::m_target' is used uninitialized in this function
rbgl_trimmed_boost_1_49_0/boost/graph/detail/adjacency_list.hpp:2203: note: 'p.boost::property, boost::no_property> > >::.boost::property, boost::no_property> >::.boost::property, boost::no_property>::m_value.boost::detail::edge_desc_impl::.boost::detail::edge_base::m_target' was declared here
rbgl_trimmed_boost_1_49_0/boost/graph/detail/adjacency_list.hpp:272: warning: 'p.boost::property, boost::no_property> > >::.boost::property, boost::no_property> >::.boost::property, boost::no_property>::m_value.boost::detail::edge_desc_impl::.boost::detail::edge_base::m_source' is used uninitialized in this function
rbgl_trimmed_boost_1_49_0/boost/graph/detail/adjacency_list.hpp:2203: note: 'p.boost::property, boost::no_property> > >::.boost::property, boost::no_property> >::.boost::property, boost::no_property>::m_value.boost::detail::edge_desc_impl::.boost::detail::edge_base::m_source' was declared here
rbgl_trimmed_boost_1_49_0/boost/graph/detail/adjacency_list.hpp:272: warning: 'p.boost::property, boost::no_property> > >::.boost::property, boost::no_property> >::.boost::property, boost::no_property>::m_value.boost::detail::edge_desc_impl::.boost::detail::edge_base::m_target' is used uninitialized in this function
rbgl_trimmed_boost_1_49_0/boost/graph/detail/adjacency_list.hpp:2203: note: 'p.boost::property, boost::no_property> > >::.boost::property, boost::no_property> >::.boost::property, boost::no_property>::m_value.boost::detail::edge_desc_impl::.boost::detail::edge_base::m_target' was declared here
rbgl_trimmed_boost_1_49_0/boost/graph/detail/adjacency_list.hpp:272: warning: 'p.boost::property, boost::no_property> > >::.boost::property, boost::no_property> >::.boost::property, boost::no_property>::m_value.boost::detail::edge_desc_impl::.boost::detail::edge_base::m_source' is used uninitialized in this function
rbgl_trimmed_boost_1_49_0/boost/graph/detail/adjacency_list.hpp:2203: note: 'p.boost::property, boost::no_property> > >::.boost::property, boost::no_property> >::.boost::property, boost::no_property>::m_value.boost::detail::edge_desc_impl::.boost::detail::edge_base::m_source' was declared here
rbgl_trimmed_boost_1_49_0/boost/graph/edge_connectivity.hpp:32: warning: 'p' may be used uninitialized in this function
rbgl_trimmed_boost_1_49_0/boost/graph/edge_connectivity.hpp:32: note: 'p' was declared here
g++ -arch i386 -I/Library/Frameworks/R.framework/Versions/2.15/Resources/include -I/Library/Frameworks/R.framework/Versions/2.15/Resources/include/i386 -DNDEBUG -I/usr/local/include -Irbgl_trimmed_boost_1_49_0 -fPIC -g -O2 -Wall -fasm-blocks -c minST.cpp -o minST.o
In file included from rbgl_trimmed_boost_1_49_0/boost/graph/graph_concepts.hpp:26,
from rbgl_trimmed_boost_1_49_0/boost/graph/detail/adjacency_list.hpp:31,
from rbgl_trimmed_boost_1_49_0/boost/graph/adjacency_list.hpp:337,
from RBGL.hpp:37,
from minST.cpp:1:
rbgl_trimmed_boost_1_49_0/boost/concept/detail/concept_def.hpp:34:1: warning: "BOOST_concept" redefined
In file included from rbgl_trimmed_boost_1_49_0/boost/graph/buffer_concepts.hpp:9,
from rbgl_trimmed_boost_1_49_0/boost/graph/graph_concepts.hpp:21,
from rbgl_trimmed_boost_1_49_0/boost/graph/detail/adjacency_list.hpp:31,
from rbgl_trimmed_boost_1_49_0/boost/graph/adjacency_list.hpp:337,
from RBGL.hpp:37,
from minST.cpp:1:
rbgl_trimmed_boost_1_49_0/boost/concept/detail/concept_def.hpp:34:1: warning: this is the location of the previous definition
g++ -arch i386 -I/Library/Frameworks/R.framework/Versions/2.15/Resources/include -I/Library/Frameworks/R.framework/Versions/2.15/Resources/include/i386 -DNDEBUG -I/usr/local/include -Irbgl_trimmed_boost_1_49_0 -fPIC -g -O2 -Wall -fasm-blocks -c mincut.cpp -o mincut.o
In file included from rbgl_trimmed_boost_1_49_0/boost/graph/graph_concepts.hpp:26,
from rbgl_trimmed_boost_1_49_0/boost/graph/detail/adjacency_list.hpp:31,
from rbgl_trimmed_boost_1_49_0/boost/graph/adjacency_list.hpp:337,
from RBGL.hpp:37,
from mincut.cpp:1:
rbgl_trimmed_boost_1_49_0/boost/concept/detail/concept_def.hpp:34:1: warning: "BOOST_concept" redefined
In file included from rbgl_trimmed_boost_1_49_0/boost/graph/buffer_concepts.hpp:9,
from rbgl_trimmed_boost_1_49_0/boost/graph/graph_concepts.hpp:21,
from rbgl_trimmed_boost_1_49_0/boost/graph/detail/adjacency_list.hpp:31,
from rbgl_trimmed_boost_1_49_0/boost/graph/adjacency_list.hpp:337,
from RBGL.hpp:37,
from mincut.cpp:1:
rbgl_trimmed_boost_1_49_0/boost/concept/detail/concept_def.hpp:34:1: warning: this is the location of the previous definition
rbgl_trimmed_boost_1_49_0/boost/graph/push_relabel_max_flow.hpp: In member function 'void boost::detail::push_relabel::discharge(typename boost::graph_traits::vertex_descriptor) [with Graph = boost::adjacency_list, boost::no_property> > >, boost::no_property, boost::listS>, EdgeCapacityMap = boost::adj_list_edge_property_map, boost::no_property> > >, boost::edge_capacity_t>, ResidualCapacityEdgeMap = boost::adj_list_edge_property_map, boost::no_property> > >, boost::edge_residual_capacity_t>, ReverseEdgeMap = boost::adj_list_edge_property_map, const boost::detail::edge_desc_impl&, long unsigned int, const boost::property, boost::no_property> > >, boost::edge_reverse_t>, VertexIndexMap = boost::vec_adj_list_vertex_id_map, FlowValue = double]':
rbgl_trimmed_boost_1_49_0/boost/graph/push_relabel_max_flow.hpp:347: warning: 'min_edge_iter.boost::detail::out_edge_iter<__gnu_cxx::__normal_iterator, boost::no_property> > > >*, std::vector, boost::no_property> > > >, std::allocator, boost::no_property> > > > > > >, long unsigned int, boost::detail::edge_desc_impl, int>::m_src' may be used uninitialized in this function
rbgl_trimmed_boost_1_49_0/boost/graph/push_relabel_max_flow.hpp:347: note: 'min_edge_iter.boost::detail::out_edge_iter<__gnu_cxx::__normal_iterator, boost::no_property> > > >*, std::vector, boost::no_property> > > >, std::allocator, boost::no_property> > > > > > >, long unsigned int, boost::detail::edge_desc_impl, int>::m_src' was declared here
rbgl_trimmed_boost_1_49_0/boost/graph/detail/adjacency_list.hpp: In function 'SEXPREC* BGL_max_flow_internal(SEXPREC*, SEXPREC*, SEXPREC*, SEXPREC*, SEXPREC*, SEXPREC*, E_MF_METHOD)':
rbgl_trimmed_boost_1_49_0/boost/graph/detail/adjacency_list.hpp:272: warning: 'p.boost::property, boost::no_property> > >::.boost::property, boost::no_property> >::.boost::property, boost::no_property>::m_value.boost::detail::edge_desc_impl::.boost::detail::edge_base::m_target' is used uninitialized in this function
rbgl_trimmed_boost_1_49_0/boost/graph/detail/adjacency_list.hpp:2203: note: 'p.boost::property, boost::no_property> > >::.boost::property, boost::no_property> >::.boost::property, boost::no_property>::m_value.boost::detail::edge_desc_impl::.boost::detail::edge_base::m_target' was declared here
rbgl_trimmed_boost_1_49_0/boost/graph/detail/adjacency_list.hpp:272: warning: 'p.boost::property, boost::no_property> > >::.boost::property, boost::no_property> >::.boost::property, boost::no_property>::m_value.boost::detail::edge_desc_impl::.boost::detail::edge_base::m_source' is used uninitialized in this function
rbgl_trimmed_boost_1_49_0/boost/graph/detail/adjacency_list.hpp:2203: note: 'p.boost::property, boost::no_property> > >::.boost::property, boost::no_property> >::.boost::property, boost::no_property>::m_value.boost::detail::edge_desc_impl::.boost::detail::edge_base::m_source' was declared here
rbgl_trimmed_boost_1_49_0/boost/graph/detail/adjacency_list.hpp:272: warning: 'p.boost::property, boost::no_property> > >::.boost::property, boost::no_property> >::.boost::property, boost::no_property>::m_value.boost::detail::edge_desc_impl::.boost::detail::edge_base::m_target' is used uninitialized in this function
rbgl_trimmed_boost_1_49_0/boost/graph/detail/adjacency_list.hpp:2203: note: 'p.boost::property, boost::no_property> > >::.boost::property, boost::no_property> >::.boost::property, boost::no_property>::m_value.boost::detail::edge_desc_impl::.boost::detail::edge_base::m_target' was declared here
rbgl_trimmed_boost_1_49_0/boost/graph/detail/adjacency_list.hpp:272: warning: 'p.boost::property, boost::no_property> > >::.boost::property, boost::no_property> >::.boost::property, boost::no_property>::m_value.boost::detail::edge_desc_impl::.boost::detail::edge_base::m_source' is used uninitialized in this function
rbgl_trimmed_boost_1_49_0/boost/graph/detail/adjacency_list.hpp:2203: note: 'p.boost::property, boost::no_property> > >::.boost::property, boost::no_property> >::.boost::property, boost::no_property>::m_value.boost::detail::edge_desc_impl::.boost::detail::edge_base::m_source' was declared here
rbgl_trimmed_boost_1_49_0/boost/graph/detail/adjacency_list.hpp: In function 'typename boost::graph_traits::edges_size_type boost::min_cut(VertexListGraph&, OutputIterator, OutputIterator) [with VertexListGraph = Graph_ud, OutputIterator = std::back_insert_iterator > >]':
rbgl_trimmed_boost_1_49_0/boost/graph/detail/adjacency_list.hpp:272: warning: 'p.boost::property, boost::no_property> > >::.boost::property, boost::no_property> >::.boost::property, boost::no_property>::m_value.boost::detail::edge_desc_impl::.boost::detail::edge_base::m_target' is used uninitialized in this function
rbgl_trimmed_boost_1_49_0/boost/graph/detail/adjacency_list.hpp:2203: note: 'p.boost::property, boost::no_property> > >::.boost::property, boost::no_property> >::.boost::property, boost::no_property>::m_value.boost::detail::edge_desc_impl::.boost::detail::edge_base::m_target' was declared here
rbgl_trimmed_boost_1_49_0/boost/graph/detail/adjacency_list.hpp:272: warning: 'p.boost::property, boost::no_property> > >::.boost::property, boost::no_property> >::.boost::property, boost::no_property>::m_value.boost::detail::edge_desc_impl::.boost::detail::edge_base::m_source' is used uninitialized in this function
rbgl_trimmed_boost_1_49_0/boost/graph/detail/adjacency_list.hpp:2203: note: 'p.boost::property, boost::no_property> > >::.boost::property, boost::no_property> >::.boost::property, boost::no_property>::m_value.boost::detail::edge_desc_impl::.boost::detail::edge_base::m_source' was declared here
rbgl_trimmed_boost_1_49_0/boost/graph/detail/adjacency_list.hpp:272: warning: 'p.boost::property, boost::no_property> > >::.boost::property, boost::no_property> >::