Back to the "Multiple platform build/check report" A  B  C  D  E  F  G  H  I  J  K  L  M  N  O  P  Q [R] S  T  U  V  W  X  Y  Z 

Package 430/554HostnameOS / ArchBUILDCHECKBUILD BIN
R453Plus1Toolbox 1.6.0
Hans-Ulrich Klein
Snapshot Date: 2012-03-31 17:01:49 -0700 (Sat, 31 Mar 2012)
URL: https://hedgehog.fhcrc.org/bioconductor/branches/RELEASE_2_10/madman/Rpacks/R453Plus1Toolbox
Last Changed Rev: 64678 / Revision: 64719
Last Changed Date: 2012-03-30 15:05:02 -0700 (Fri, 30 Mar 2012)
lamb2 Linux (openSUSE 11.4) / x86_64  OK  OK 
puck5 Linux (Ubuntu 12.04) / x86_64  OK [ OK ]
moscato2 Windows Server 2008 R2 Enterprise SP1 (64-bit) / x64  OK  OK  OK 
petty Mac OS X Leopard (10.5.8) / i386  OK  OK  OK 

Summary

Package: R453Plus1Toolbox
Version: 1.6.0
Command: /home/hpages/test-puck5/bbs-2.10-bioc/R/bin/R CMD check --no-vignettes --timings R453Plus1Toolbox_1.6.0.tar.gz
StartedAt: 2012-04-01 02:55:18 -0700 (Sun, 01 Apr 2012)
EndedAt: 2012-04-01 02:58:49 -0700 (Sun, 01 Apr 2012)
EllapsedTime: 211.0 seconds
RetCode: 0
Status:  OK 
CheckDir: R453Plus1Toolbox.Rcheck
Warnings: 0

Command output

* using log directory '/loc/home/hpages/test-puck5/bbs-2.10-bioc/meat/R453Plus1Toolbox.Rcheck'
* using R version 2.15.0 RC (2012-03-22 r58802)
* using platform: x86_64-unknown-linux-gnu (64-bit)
* using session charset: ISO8859-1
* using option '--no-vignettes'
* checking for file 'R453Plus1Toolbox/DESCRIPTION' ... OK
* checking extension type ... Package
* this is package 'R453Plus1Toolbox' version '1.6.0'
* checking package namespace information ... OK
* checking package dependencies ... OK
* checking if this is a source package ... OK
* checking if there is a namespace ... OK
* checking whether package 'R453Plus1Toolbox' can be installed ... OK
* checking installed package size ... OK
* checking package directory ... OK
* checking for portable file names ... OK
* checking for sufficient/correct file permissions ... OK
* checking DESCRIPTION meta-information ... OK
* checking top-level files ... OK
* checking index information ... OK
* checking package subdirectories ... OK
* checking R files for non-ASCII characters ... OK
* checking R files for syntax errors ... OK
* checking whether the package can be loaded ... OK
* checking whether the package can be loaded with stated dependencies ... OK
* checking whether the package can be unloaded cleanly ... OK
* checking whether the namespace can be loaded with stated dependencies ... OK
* checking whether the namespace can be unloaded cleanly ... OK
* checking for unstated dependencies in R code ... OK
* checking S3 generic/method consistency ... OK
* checking replacement functions ... OK
* checking foreign function calls ... OK
* checking R code for possible problems ... NOTE
.getEnsemblInfo: no visible binding for global variable 'cds_length'
.getEnsemblInfo: no visible binding for global variable
  'ensembl_transcript_id'
.getMutations: no visible binding for global variable 'PatternStart'
.getMutations: no visible binding for global variable 'PatternEnd'
.htmlReport: no visible binding for global variable 'VarFreqForward'
.htmlReport: no visible binding for global variable 'VarFreqReverse'
.plotVariants: no visible binding for global variable 'mutation'
* checking Rd files ... OK
* checking Rd metadata ... OK
* checking Rd cross-references ... OK
* checking for missing documentation entries ... OK
* checking for code/documentation mismatches ... OK
* checking Rd \usage sections ... OK
* checking Rd contents ... OK
* checking for unstated dependencies in examples ... OK
* checking contents of 'data' directory ... OK
* checking data for non-ASCII characters ... OK
* checking data for ASCII and uncompressed saves ... OK
* checking line endings in C/C++/Fortran sources/headers ... OK
* checking line endings in Makefiles ... OK
* checking for portable use of $(BLAS_LIBS) and $(LAPACK_LIBS) ... OK
* checking compiled code ... OK
* checking installed files from 'inst/doc' ... OK
* checking examples ... OK
* checking for unstated dependencies in vignettes ... OK
* checking package vignettes in 'inst/doc' ... OK
* checking running R code from vignettes ... SKIPPED
* checking re-building of vignettes ... SKIPPED
* checking PDF version of manual ... OK

NOTE: There was 1 note.
See
  '/loc/home/hpages/test-puck5/bbs-2.10-bioc/meat/R453Plus1Toolbox.Rcheck/00check.log'
for details.

R453Plus1Toolbox.Rcheck/00install.out:

* installing *source* package 'R453Plus1Toolbox' ...
** libs
gcc -std=gnu99 -I/home/hpages/test-puck5/bbs-2.10-bioc/R/include -DNDEBUG  -I/usr/local/include    -fpic  -g -O2  -c readSFF.c -o readSFF.o
readSFF.c: In function 'readSFF':
readSFF.c:46:8: warning: ignoring return value of 'fread', declared with attribute warn_unused_result [-Wunused-result]
gcc -std=gnu99 -shared -L/usr/local/lib -o R453Plus1Toolbox.so readSFF.o -L/home/hpages/test-puck5/bbs-2.10-bioc/R/lib -lR
installing to /loc/home/hpages/test-puck5/bbs-2.10-bioc/meat/R453Plus1Toolbox.Rcheck/R453Plus1Toolbox/libs
** R
** data
** inst
** preparing package for lazy loading
Warning: replacing previous import 'boxplot' when loading 'graphics'
** help
*** installing help indices
** building package indices
** installing vignettes
   'vignette.Rnw' 
** testing if installed package can be loaded
Warning: replacing previous import 'boxplot' when loading 'graphics'

* DONE (R453Plus1Toolbox)

R453Plus1Toolbox.Rcheck/R453Plus1Toolbox-Ex.timings:

nameusersystemelapsed
AVASet-class0.0880.0080.106
AVASet0.0200.0040.034
AnnotatedVariants-class0.0040.0000.002
MapperSet-class0.0400.0000.049
MapperSet0.0120.0000.023
SFFContainer-class0.0000.0000.001
SFFRead-class0.0000.0040.000
alignShortReads0.8760.0040.886
annotateVariants0.0000.0000.001
assayDataAmp0.0040.0000.017
avaSetExample0.0200.0000.025
avaSetFiltered0.0320.0080.049
avaSetFiltered_annot0.0000.0040.019
breakpoints0.0040.0000.017
calculateTiTv0.0120.0040.026
captureArray0.0000.0000.014
coverageOnTarget0.3400.0200.382
demultiplexReads0.3560.0000.365
detectBreakpoints0.4600.0000.466
fDataAmp0.0240.0000.030
featureDataAmp0.0280.0000.035
filterChimericReads1.6920.0041.731
genomeSequencerMIDs0.0440.0000.042
getAlignedReads0.1400.0000.158
getVariantPercentages0.0480.0040.063
htmlReport3.8200.0604.195
mapperSetExample0.0040.0040.016
mergeBreakpoints6.2730.0406.350
mutationInfo0.0000.0040.015
plotAmpliconCoverage000
plotChimericReads3.9600.0003.969
plotVariants0.0040.0000.004
plotVariationFrequency000
readSFF000
readsOnTarget0.4520.0080.477
referenceSequences0.0120.0000.022
regions0.0040.0000.013
removeLinker0.0240.0000.026
sequenceCaptureLinkers0.0040.0000.006
setVariantFilter0.0800.0040.094
variants0.0040.0000.013