Back to the "Multiple platform build/check report" A  B  C  D  E  F  G  H  I  J  K  L  M  N  O [P] Q  R  S  T  U  V  W  X  Y  Z 

Package 395/554HostnameOS / ArchBUILDCHECKBUILD BIN
PCpheno 1.18.0
Nolwenn Le Meur
Snapshot Date: 2012-03-31 17:01:49 -0700 (Sat, 31 Mar 2012)
URL: https://hedgehog.fhcrc.org/bioconductor/branches/RELEASE_2_10/madman/Rpacks/PCpheno
Last Changed Rev: 64678 / Revision: 64719
Last Changed Date: 2012-03-30 15:05:02 -0700 (Fri, 30 Mar 2012)
lamb2 Linux (openSUSE 11.4) / x86_64  OK  OK 
puck5 Linux (Ubuntu 12.04) / x86_64  OK [ OK ]
moscato2 Windows Server 2008 R2 Enterprise SP1 (64-bit) / x64  OK  OK  OK 
petty Mac OS X Leopard (10.5.8) / i386  OK  OK  OK 

Summary

Package: PCpheno
Version: 1.18.0
Command: /home/hpages/test-puck5/bbs-2.10-bioc/R/bin/R CMD check --no-vignettes --timings PCpheno_1.18.0.tar.gz
StartedAt: 2012-04-01 02:38:45 -0700 (Sun, 01 Apr 2012)
EndedAt: 2012-04-01 02:41:38 -0700 (Sun, 01 Apr 2012)
EllapsedTime: 172.4 seconds
RetCode: 0
Status:  OK 
CheckDir: PCpheno.Rcheck
Warnings: 0

Command output

* using log directory '/loc/home/hpages/test-puck5/bbs-2.10-bioc/meat/PCpheno.Rcheck'
* using R version 2.15.0 RC (2012-03-22 r58802)
* using platform: x86_64-unknown-linux-gnu (64-bit)
* using session charset: ISO8859-1
* using option '--no-vignettes'
* checking for file 'PCpheno/DESCRIPTION' ... OK
* checking extension type ... Package
* this is package 'PCpheno' version '1.18.0'
* checking package namespace information ... OK
* checking package dependencies ... OK
* checking if this is a source package ... OK
* checking if there is a namespace ... OK
* checking whether package 'PCpheno' can be installed ... OK
* checking installed package size ... OK
* checking package directory ... OK
* checking for portable file names ... OK
* checking for sufficient/correct file permissions ... OK
* checking DESCRIPTION meta-information ... OK
* checking top-level files ... OK
* checking index information ... OK
* checking package subdirectories ... OK
* checking R files for non-ASCII characters ... OK
* checking R files for syntax errors ... OK
* checking whether the package can be loaded ... OK
* checking whether the package can be loaded with stated dependencies ... OK
* checking whether the package can be unloaded cleanly ... OK
* checking whether the namespace can be loaded with stated dependencies ... OK
* checking whether the namespace can be unloaded cleanly ... OK
* checking for unstated dependencies in R code ... OK
* checking S3 generic/method consistency ... OK
* checking replacement functions ... OK
* checking foreign function calls ... OK
* checking R code for possible problems ... OK
* checking Rd files ... OK
* checking Rd metadata ... OK
* checking Rd cross-references ... OK
* checking for missing documentation entries ... OK
* checking for code/documentation mismatches ... OK
* checking Rd \usage sections ... OK
* checking Rd contents ... OK
* checking for unstated dependencies in examples ... OK
* checking contents of 'data' directory ... OK
* checking data for non-ASCII characters ... OK
* checking data for ASCII and uncompressed saves ... OK
* checking installed files from 'inst/doc' ... OK
* checking examples ... OK
* checking for unstated dependencies in vignettes ... OK
* checking package vignettes in 'inst/doc' ... OK
* checking running R code from vignettes ... SKIPPED
* checking re-building of vignettes ... SKIPPED
* checking PDF version of manual ... OK

PCpheno.Rcheck/00install.out:

* installing *source* package 'PCpheno' ...
** R
** data
** inst
** preparing package for lazy loading
No methods found in "BiocGenerics" for requests: plot

*** Deprecation warning ***:
The package 'ppiData' is deprecated and will not be supported after Bioconductor release 2.11


** help
*** installing help indices
** building package indices
** installing vignettes
   'PCpheno.Rnw' 
** testing if installed package can be loaded
No methods found in "BiocGenerics" for requests: plot

*** Deprecation warning ***:
The package 'ppiData' is deprecated and will not be supported after Bioconductor release 2.11



* DONE (PCpheno)

PCpheno.Rcheck/PCpheno-Ex.timings:

nameusersystemelapsed
CoHyperGResult-class0.7680.0160.840
Dudley0.0160.0000.059
Giaever0.1360.0080.206
HI0.0040.0040.030
KEGG2SCISI0.3880.0200.448
Kastenmayer0.020.000.04
Lesage0.0120.0000.033
Osterberg0.0280.0040.055
SGDphenoL0.0480.0040.072
YEASTOHNOLOG0.0120.0000.056
buildFDMat0.1920.0080.266
categoryToEntrezBuilder0.2880.0040.362
complexStatus0.7640.0440.875
deResult-class0.0960.0000.150
densityEstimate1.2360.0201.302
getDescr0.6560.0120.686
getFDgene0.1280.0040.190
graphTheory5.9370.1086.104
gtResult-class4.3320.3044.697
overlap0.0000.0000.001
plot1.1000.0521.238
ppiInteraction4.3320.0284.422
reduceM000
truncName000