Back to the "Multiple platform build/check report" A  B  C  D  E  F  G  H  I  J  K  L  M  N  O [P] Q  R  S  T  U  V  W  X  Y  Z 

Package 378/546HostnameOS / ArchBUILDCHECKBUILD BIN
PAN 1.1.1
Xin Wang
Snapshot Date: 2012-03-19 17:01:15 -0700 (Mon, 19 Mar 2012)
URL: https://hedgehog.fhcrc.org/bioconductor/trunk/madman/Rpacks/PAN
Last Changed Rev: 61047 / Revision: 64130
Last Changed Date: 2011-12-01 09:30:33 -0800 (Thu, 01 Dec 2011)
lamb2 Linux (openSUSE 11.4) / x86_64  OK [ OK ]
moscato2 Windows Server 2008 R2 Enterprise SP1 (64-bit) / x64  OK  OK  OK 
petty Mac OS X Leopard (10.5.8) / i386  OK  OK  OK 

Summary

Package: PAN
Version: 1.1.1
Command: /home/biocbuild/bbs-2.10-bioc/R/bin/R CMD check --no-vignettes --timings PAN_1.1.1.tar.gz
StartedAt: 2012-03-20 02:11:51 -0700 (Tue, 20 Mar 2012)
EndedAt: 2012-03-20 02:12:52 -0700 (Tue, 20 Mar 2012)
EllapsedTime: 60.8 seconds
RetCode: 0
Status:  OK 
CheckDir: PAN.Rcheck
Warnings: 0

Command output

* using log directory ‘/loc/home/biocbuild/bbs-2.10-bioc/meat/PAN.Rcheck’
* using R version 2.15.0 beta (2012-03-15 r58759)
* using platform: x86_64-unknown-linux-gnu (64-bit)
* using session charset: UTF-8
* using option ‘--no-vignettes’
* checking for file ‘PAN/DESCRIPTION’ ... OK
* checking extension type ... Package
* this is package ‘PAN’ version ‘1.1.1’
* checking package namespace information ... OK
* checking package dependencies ... OK
* checking if this is a source package ... OK
* checking if there is a namespace ... OK
* checking whether package ‘PAN’ can be installed ... OK
* checking installed package size ... OK
* checking package directory ... OK
* checking for portable file names ... OK
* checking for sufficient/correct file permissions ... OK
* checking DESCRIPTION meta-information ... OK
* checking top-level files ... OK
* checking index information ... OK
* checking package subdirectories ... OK
* checking R files for non-ASCII characters ... OK
* checking R files for syntax errors ... OK
* checking whether the package can be loaded ... OK
* checking whether the package can be loaded with stated dependencies ... OK
* checking whether the package can be unloaded cleanly ... OK
* checking whether the namespace can be loaded with stated dependencies ... OK
* checking whether the namespace can be unloaded cleanly ... OK
* checking for unstated dependencies in R code ... OK
* checking S3 generic/method consistency ... OK
* checking replacement functions ... OK
* checking foreign function calls ... OK
* checking R code for possible problems ... OK
* checking Rd files ... OK
* checking Rd metadata ... OK
* checking Rd cross-references ... OK
* checking for missing documentation entries ... OK
* checking for code/documentation mismatches ... OK
* checking Rd \usage sections ... OK
* checking Rd contents ... OK
* checking for unstated dependencies in examples ... OK
* checking contents of ‘data’ directory ... OK
* checking data for non-ASCII characters ... OK
* checking data for ASCII and uncompressed saves ... OK
* checking installed files from ‘inst/doc’ ... OK
* checking examples ... OK
* checking for unstated dependencies in vignettes ... OK
* checking package vignettes in ‘inst/doc’ ... OK
* checking running R code from vignettes ... SKIPPED
* checking re-building of vignettes ... SKIPPED
* checking PDF version of manual ... OK

PAN.Rcheck/00install.out:

* installing *source* package ‘PAN’ ...
** R
** data
** inst
** preparing package for lazy loading
** help
*** installing help indices
** building package indices
** installing vignettes
   ‘PAN-Vignette.Rnw’ 
** testing if installed package can be loaded

* DONE (PAN)

PAN.Rcheck/PAN-Ex.timings:

nameusersystemelapsed
BetaMixture-class0.0000.0000.001
PAN-class000
assoScore0.0640.0000.121
buildPAN1.5880.0401.711
cosineSim0.0040.0000.003
data-Bakal20070.0160.0040.021
exportPAN000
fitBM000
fitNULL28.761 0.06429.692
infer0.8680.0160.919
permNULL0.0760.0040.082
pvclustModule000
sigModules000
summarize0.0080.0040.015
view0.2730.0000.272
viewLegend000
viewNestedModules000
viewPAN000