Mulcom 1.6.0 Claudio Isella
 | Snapshot Date: 2012-09-23 17:01:39 -0700 (Sun, 23 Sep 2012) |  | URL: https://hedgehog.fhcrc.org/bioconductor/branches/RELEASE_2_10/madman/Rpacks/Mulcom |  | Last Changed Rev: 64678 / Revision: 69725 |  | Last Changed Date: 2012-03-30 15:05:02 -0700 (Fri, 30 Mar 2012) |  
  | lamb2  | Linux (openSUSE 11.4) / x86_64  |  OK  |  OK  |  | 
| moscato2  | Windows Server 2008 R2 Enterprise SP1 (64-bit) / x64  |  OK  |  OK  | [ OK ] | 
| petty  | Mac OS X Leopard (10.5.8) / i386  |  OK  |  OK  |  OK  | 
install for i386
* installing *source* package 'Mulcom' ...
** libs
g++  -I"E:/biocbld/BBS-2˜1.10-/R/include" -DNDEBUG          -O2 -Wall  -mtune=core2 -c mulLibs.cc -o mulLibs.o
mulLibs.cc: In function 'void Single_SimulationC(double*, double*, double*, double*, double*, double*, int*, int*, int*, int*, int*)':
mulLibs.cc:708:33: warning: statement has no effect [-Wunused-value]
mulLibs.cc: In function 'void Complete_SimulationC(double*, int*, double*, double*, int*, int*, int*, int*, int*)':
mulLibs.cc:1022:50: warning: comparison between signed and unsigned integer expressions [-Wsign-compare]
mulLibs.cc:1023:68: warning: comparison between signed and unsigned integer expressions [-Wsign-compare]
g++ -shared -s -static-libgcc -o Mulcom.dll tmp.def mulLibs.o -LE:/biocbld/BBS-2˜1.10-/R/bin/i386 -lR
installing to E:/biocbld/bbs-2.10-bioc/meat/Mulcom.buildbin-libdir/Mulcom/libs/i386
** R
** data
** inst
** preparing package for lazy loading
** help
*** installing help indices
** building package indices
** installing vignettes
   'MulcomVignette.Rnw' 
** testing if installed package can be loaded
install for x64
* installing *source* package 'Mulcom' ...
** libs
g++ -m64 -I"E:/biocbld/BBS-2˜1.10-/R/include" -DNDEBUG     -I"d:/RCompile/CRANpkg/extralibs64/local/include"     -O2 -Wall  -mtune=core2 -c mulLibs.cc -o mulLibs.o
mulLibs.cc: In function 'void Single_SimulationC(double*, double*, double*, double*, double*, double*, int*, int*, int*, int*, int*)':
mulLibs.cc:708:33: warning: statement has no effect [-Wunused-value]
mulLibs.cc: In function 'void Complete_SimulationC(double*, int*, double*, double*, int*, int*, int*, int*, int*)':
mulLibs.cc:1022:50: warning: comparison between signed and unsigned integer expressions [-Wsign-compare]
mulLibs.cc:1023:68: warning: comparison between signed and unsigned integer expressions [-Wsign-compare]
g++ -m64 -shared -s -static-libgcc -o Mulcom.dll tmp.def mulLibs.o -Ld:/RCompile/CRANpkg/extralibs64/local/lib/x64 -Ld:/RCompile/CRANpkg/extralibs64/local/lib -LE:/biocbld/BBS-2˜1.10-/R/bin/x64 -lR
installing to E:/biocbld/bbs-2.10-bioc/meat/Mulcom.buildbin-libdir/Mulcom/libs/x64
** testing if installed package can be loaded
* MD5 sums
packaged installation of 'Mulcom' as Mulcom_1.6.0.zip
* DONE (Mulcom)