Back to the "Multiple platform build/check report" A  B  C  D  E  F  G  H  I  J  K  L [M] N  O  P  Q  R  S  T  U  V  W  X  Y  Z 

Package 322/554HostnameOS / ArchBUILDCHECKBUILD BIN
MANOR 1.28.0
Pierre Neuvial
Snapshot Date: 2012-03-31 17:01:49 -0700 (Sat, 31 Mar 2012)
URL: https://hedgehog.fhcrc.org/bioconductor/branches/RELEASE_2_10/madman/Rpacks/MANOR
Last Changed Rev: 64678 / Revision: 64719
Last Changed Date: 2012-03-30 15:05:02 -0700 (Fri, 30 Mar 2012)
lamb2 Linux (openSUSE 11.4) / x86_64  OK  OK 
puck5 Linux (Ubuntu 12.04) / x86_64  OK [ OK ]
moscato2 Windows Server 2008 R2 Enterprise SP1 (64-bit) / x64  OK  OK  OK 
petty Mac OS X Leopard (10.5.8) / i386  OK  OK  OK 

Summary

Package: MANOR
Version: 1.28.0
Command: /home/hpages/test-puck5/bbs-2.10-bioc/R/bin/R CMD check --no-vignettes --timings MANOR_1.28.0.tar.gz
StartedAt: 2012-04-01 01:59:02 -0700 (Sun, 01 Apr 2012)
EndedAt: 2012-04-01 01:59:35 -0700 (Sun, 01 Apr 2012)
EllapsedTime: 33.0 seconds
RetCode: 0
Status:  OK 
CheckDir: MANOR.Rcheck
Warnings: 0

Command output

* using log directory '/loc/home/hpages/test-puck5/bbs-2.10-bioc/meat/MANOR.Rcheck'
* using R version 2.15.0 RC (2012-03-22 r58802)
* using platform: x86_64-unknown-linux-gnu (64-bit)
* using session charset: ISO8859-1
* using option '--no-vignettes'
* checking for file 'MANOR/DESCRIPTION' ... OK
* this is package 'MANOR' version '1.28.0'
* checking package namespace information ... OK
* checking package dependencies ... OK
* checking if this is a source package ... OK
* checking if there is a namespace ... OK
* checking whether package 'MANOR' can be installed ... OK
* checking installed package size ... OK
* checking package directory ... OK
* checking for portable file names ... OK
* checking for sufficient/correct file permissions ... OK
* checking DESCRIPTION meta-information ... OK
* checking top-level files ... OK
* checking index information ... OK
* checking package subdirectories ... OK
* checking R files for non-ASCII characters ... OK
* checking R files for syntax errors ... OK
* checking whether the package can be loaded ... OK
* checking whether the package can be loaded with stated dependencies ... OK
* checking whether the package can be unloaded cleanly ... OK
* checking whether the namespace can be loaded with stated dependencies ... OK
* checking whether the namespace can be unloaded cleanly ... OK
* checking for unstated dependencies in R code ... OK
* checking S3 generic/method consistency ... OK
* checking replacement functions ... OK
* checking foreign function calls ... OK
* checking R code for possible problems ... OK
* checking Rd files ... OK
* checking Rd metadata ... OK
* checking Rd cross-references ... OK
* checking for missing documentation entries ... OK
* checking for code/documentation mismatches ... OK
* checking Rd \usage sections ... OK
* checking Rd contents ... OK
* checking for unstated dependencies in examples ... OK
* checking contents of 'data' directory ... OK
* checking data for non-ASCII characters ... OK
* checking data for ASCII and uncompressed saves ... OK
* checking line endings in C/C++/Fortran sources/headers ... OK
* checking line endings in Makefiles ... OK
* checking for portable use of $(BLAS_LIBS) and $(LAPACK_LIBS) ... OK
* checking compiled code ... NOTE
File '/loc/home/hpages/test-puck5/bbs-2.10-bioc/meat/MANOR.Rcheck/MANOR/libs/MANOR.so':
  Found 'exit', possibly from 'exit' (C)
    Object: 'exememo.o'
  Found 'putchar', possibly from 'putchar' (C)
    Object: 'lib_io.o'
  Found 'puts', possibly from 'printf' (C), 'puts' (C)
    Object: 'lib_io.o'
  Found 'stderr', possibly from 'stderr' (C)
    Objects: 'Rnem_exe.o', 'exememo.o', 'nem_alg.o', 'nem_mod.o',
      'nem_nei.o'

Compiled code should not call functions which might terminate R nor
write to stdout/stderr instead of to the console.

See 'Writing portable packages' in the 'Writing R Extensions' manual.
* checking installed files from 'inst/doc' ... NOTE
The following files should probably not be installed:
  'html.sty', 'natbib.sty'

Consider the use of a .Rinstignore file: see 'Writing R Extensions',
or move the vignette sources from 'inst/doc' to 'vignettes'.
* checking examples ... OK
* checking for unstated dependencies in vignettes ... OK
* checking package vignettes in 'inst/doc' ... OK
* checking running R code from vignettes ... SKIPPED
* checking re-building of vignettes ... SKIPPED
* checking PDF version of manual ... OK

NOTE: There were 2 notes.
See
  '/loc/home/hpages/test-puck5/bbs-2.10-bioc/meat/MANOR.Rcheck/00check.log'
for details.

MANOR.Rcheck/00install.out:

* installing *source* package 'MANOR' ...
** libs
gcc -std=gnu99 -I/home/hpages/test-puck5/bbs-2.10-bioc/R/include -DNDEBUG  -I/usr/local/include    -fpic  -g -O2  -c Rnem_arg.c -o Rnem_arg.o
gcc -std=gnu99 -I/home/hpages/test-puck5/bbs-2.10-bioc/R/include -DNDEBUG  -I/usr/local/include    -fpic  -g -O2  -c Rnem_exe.c -o Rnem_exe.o
Rnem_exe.c: In function 'MakeErrinfo':
Rnem_exe.c:216:20: warning: cast from pointer to integer of different size [-Wpointer-to-int-cast]
gcc -std=gnu99 -I/home/hpages/test-puck5/bbs-2.10-bioc/R/include -DNDEBUG  -I/usr/local/include    -fpic  -g -O2  -c exememo.c -o exememo.o
gcc -std=gnu99 -I/home/hpages/test-puck5/bbs-2.10-bioc/R/include -DNDEBUG  -I/usr/local/include    -fpic  -g -O2  -c lib_io.c -o lib_io.o
lib_io.c: In function 'AskFloat':
lib_io.c:283:13: warning: ignoring return value of 'gets', declared with attribute warn_unused_result [-Wunused-result]
lib_io.c: In function 'AskInteger':
lib_io.c:235:13: warning: ignoring return value of 'gets', declared with attribute warn_unused_result [-Wunused-result]
lib_io.c: In function 'AskFileToWrite':
lib_io.c:158:13: warning: ignoring return value of 'gets', declared with attribute warn_unused_result [-Wunused-result]
lib_io.c: In function 'AskFileToRead':
lib_io.c:107:13: warning: ignoring return value of 'gets', declared with attribute warn_unused_result [-Wunused-result]
lib_io.c: In function 'ReadOpeningComments':
lib_io.c:82:14: warning: ignoring return value of 'fgets', declared with attribute warn_unused_result [-Wunused-result]
In file included from /usr/include/stdio.h:934:0,
                 from lib_io.c:17:
In function 'gets',
    inlined from 'AskFileToRead' at lib_io.c:107:13:
/usr/include/x86_64-linux-gnu/bits/stdio2.h:230:3: warning: call to '__gets_warn' declared with attribute warning: please use fgets or getline instead, gets can't specify buffer size [enabled by default]
In function 'gets',
    inlined from 'AskFileToWrite' at lib_io.c:158:13:
/usr/include/x86_64-linux-gnu/bits/stdio2.h:230:3: warning: call to '__gets_warn' declared with attribute warning: please use fgets or getline instead, gets can't specify buffer size [enabled by default]
gcc -std=gnu99 -I/home/hpages/test-puck5/bbs-2.10-bioc/R/include -DNDEBUG  -I/usr/local/include    -fpic  -g -O2  -c nem_alg.c -o nem_alg.o
gcc -std=gnu99 -I/home/hpages/test-puck5/bbs-2.10-bioc/R/include -DNDEBUG  -I/usr/local/include    -fpic  -g -O2  -c nem_hlp.c -o nem_hlp.o
gcc -std=gnu99 -I/home/hpages/test-puck5/bbs-2.10-bioc/R/include -DNDEBUG  -I/usr/local/include    -fpic  -g -O2  -c nem_mod.c -o nem_mod.o
gcc -std=gnu99 -I/home/hpages/test-puck5/bbs-2.10-bioc/R/include -DNDEBUG  -I/usr/local/include    -fpic  -g -O2  -c nem_nei.c -o nem_nei.o
gcc -std=gnu99 -I/home/hpages/test-puck5/bbs-2.10-bioc/R/include -DNDEBUG  -I/usr/local/include    -fpic  -g -O2  -c nem_rnd.c -o nem_rnd.o
gcc -std=gnu99 -I/home/hpages/test-puck5/bbs-2.10-bioc/R/include -DNDEBUG  -I/usr/local/include    -fpic  -g -O2  -c nem_ver.c -o nem_ver.o
gcc -std=gnu99 -shared -L/usr/local/lib -o MANOR.so Rnem_arg.o Rnem_exe.o exememo.o lib_io.o nem_alg.o nem_hlp.o nem_mod.o nem_nei.o nem_rnd.o nem_ver.o -L/home/hpages/test-puck5/bbs-2.10-bioc/R/lib -lR
installing to /loc/home/hpages/test-puck5/bbs-2.10-bioc/meat/MANOR.Rcheck/MANOR/libs
** R
** data
** inst
** preparing package for lazy loading
** help
*** installing help indices
** building package indices
** installing vignettes
   'MANOR.Rnw' 
** testing if installed package can be loaded

* DONE (MANOR)

MANOR.Rcheck/MANOR-Ex.timings:

nameusersystemelapsed
arrayTrend0.5240.0040.538
detectSB0.5040.0000.860
flag.arrayCGH1.5640.0161.596
flag.summary0.1320.0080.155
flags0.1120.0000.126
genome.plot0.5400.0000.543
import0.3080.0000.314
nem2.3720.0082.385
norm1.0640.0121.091
qscore.arrayCGH0.1000.0000.111
qscore.summary0.6640.0040.682
qscores0.6480.0000.658
report.plot1.1920.0081.204
sort0.2520.0000.260
spatial0.3080.0000.321
to.flag0.5600.0000.563