Back to the "Multiple platform build/check report" A  B  C  D  E  F  G  H [I] J  K  L  M  N  O  P  Q  R  S  T  U  V  W  X  Y  Z 

Package 289/554HostnameOS / ArchBUILDCHECKBUILD BIN
IRanges 1.14.1
Bioconductor Package Maintainer
Snapshot Date: 2012-03-31 17:01:49 -0700 (Sat, 31 Mar 2012)
URL: https://hedgehog.fhcrc.org/bioconductor/branches/RELEASE_2_10/madman/Rpacks/IRanges
Last Changed Rev: 64702 / Revision: 64719
Last Changed Date: 2012-03-31 07:20:24 -0700 (Sat, 31 Mar 2012)
lamb2 Linux (openSUSE 11.4) / x86_64  OK  WARNINGS 
puck5 Linux (Ubuntu 12.04) / x86_64 [ OK ] WARNINGS 
moscato2 Windows Server 2008 R2 Enterprise SP1 (64-bit) / x64  OK  WARNINGS  OK 
petty Mac OS X Leopard (10.5.8) / i386  OK  WARNINGS  OK 

Summary

Package: IRanges
Version: 1.14.1
Command: /home/hpages/test-puck5/bbs-2.10-bioc/R/bin/R CMD build --keep-empty-dirs --no-resave-data IRanges
StartedAt: 2012-03-31 20:06:02 -0700 (Sat, 31 Mar 2012)
EndedAt: 2012-03-31 20:06:49 -0700 (Sat, 31 Mar 2012)
EllapsedTime: 46.7 seconds
RetCode: 0
Status:  OK 
PackageFile: IRanges_1.14.1.tar.gz
PackageFileSize: 644.6 KiB

Command output

* checking for file 'IRanges/DESCRIPTION' ... OK
* preparing 'IRanges':
* checking DESCRIPTION meta-information ... OK
* cleaning src
* installing the package to re-build vignettes
* creating vignettes ... OK
* cleaning src
* checking for LF line-endings in source and make files
* checking for empty or unneeded directories
* building 'IRanges_1.14.1.tar.gz'