Back to the "Multiple platform build/check report" A  B  C  D  E  F  G [H] I  J  K  L  M  N  O  P  Q  R  S  T  U  V  W  X  Y  Z 

Package 264/554HostnameOS / ArchBUILDCHECKBUILD BIN
HilbertVisGUI 1.14.0
Simon Anders
Snapshot Date: 2012-03-31 17:01:49 -0700 (Sat, 31 Mar 2012)
URL: https://hedgehog.fhcrc.org/bioconductor/branches/RELEASE_2_10/madman/Rpacks/HilbertVisGUI
Last Changed Rev: 64678 / Revision: 64719
Last Changed Date: 2012-03-30 15:05:02 -0700 (Fri, 30 Mar 2012)
lamb2 Linux (openSUSE 11.4) / x86_64  OK  OK 
puck5 Linux (Ubuntu 12.04) / x86_64 [ ERROR ] skipped 
moscato2 Windows Server 2008 R2 Enterprise SP1 (64-bit) / x64  OK  OK  OK 
petty Mac OS X Leopard (10.5.8) / i386  OK  OK  OK 

Summary

Package: HilbertVisGUI
Version: 1.14.0
Command: /home/hpages/test-puck5/bbs-2.10-bioc/R/bin/R CMD build --keep-empty-dirs --no-resave-data HilbertVisGUI
StartedAt: 2012-03-31 21:13:03 -0700 (Sat, 31 Mar 2012)
EndedAt: 2012-03-31 21:13:05 -0700 (Sat, 31 Mar 2012)
EllapsedTime: 1.7 seconds
RetCode: 1
Status:  ERROR 
PackageFile: None
PackageFileSize: NA

Command output

* checking for file 'HilbertVisGUI/DESCRIPTION' ... OK
* preparing 'HilbertVisGUI':
* checking DESCRIPTION meta-information ... OK
* cleaning src
* installing the package to re-build vignettes
      -----------------------------------
* installing *source* package 'HilbertVisGUI' ...
Checking for pkg-config... /usr/bin/pkg-config
Checking for gtkmm-2.4... not found!

   | The 'pkg-config' utility could not find the library and header
   | files for 'gtkmm-2.4'. 'gtkmm' and the GTK+ framework are required
   | to build the present package.
   
   | Don't worry. For most modern Linux distribution, it is pretty easy
   | to install these. Just use your distribution's package manage, search 
   | for the gtkmm package and install it. Make sure that you install
   | the developer version of the package. It is usually called 
   | 'gtkmm-2.4-dev', 'gtkmm-2.4-devel', 'gtkmm-dev', 'gtkmm-devel', or
   | similarily.
   
   | Please press <ENTER> to read on for additional information.
   | The following list tells you what you need to do for the most popular
   | Linux distributions:
   |
   | * Ubuntu and Debian Linux:
   |     In a terminal, type the following command:
   |        sudo apt-get install libgtkmm-2.4-dev
   | * RedHat, Fedora, and CentOS Linux:
   |     In a terminal, type the following command:
   |        sudo yum install gtkmm24-docs
   | * SuSE Linux: 
   |      Use yast to install gtkmm2-devel.
   | * Mandrake Linux: 
   |      Get libgtkmm2.4 from the contrib directory on Mandrake's 
   |      FTP servers.
   | * Gentoo Linux: 
   |      Get dev-cpp/gtkmm.
   | [This list is taken and adapted from http://www.gtkmm.org/download.shtml ]
   
   | MS WINDOWS and MAC users: Please visit the following page for 
   | http://www.ebi.ac.uk/˜anders/gtkr/insthelp.html
   
ERROR: configuration failed for package 'HilbertVisGUI'
* removing '/tmp/RtmpiBjzxL/Rinstf89111e5af3/HilbertVisGUI'
      -----------------------------------
ERROR: package installation failed