| GenomicFeatures 1.8.3 Bioconductor Package Maintainer
 
 | Snapshot Date: 2012-09-23 17:01:39 -0700 (Sun, 23 Sep 2012) |  | URL: https://hedgehog.fhcrc.org/bioconductor/branches/RELEASE_2_10/madman/Rpacks/GenomicFeatures |  | Last Changed Rev: 68748 / Revision: 69725 |  | Last Changed Date: 2012-08-23 15:57:10 -0700 (Thu, 23 Aug 2012) | 
 | lamb2 | Linux (openSUSE 11.4) / x86_64 | [ OK ] | WARNINGS |  | 
| moscato2 | Windows Server 2008 R2 Enterprise SP1 (64-bit) / x64 | OK | WARNINGS | OK | 
| petty | Mac OS X Leopard (10.5.8) / i386 | OK | WARNINGS | OK | 
* checking for file ‘GenomicFeatures/DESCRIPTION’ ... OK
* preparing ‘GenomicFeatures’:
* checking DESCRIPTION meta-information ... OK
* installing the package to re-build vignettes
* creating vignettes ... OK
* checking for LF line-endings in source and make files
* checking for empty or unneeded directories
WARNING: directory ‘GenomicFeatures/inst/txdb-template/inst/extdata’ is empty
* building ‘GenomicFeatures_1.8.3.tar.gz’