EBImage 3.12.0 Gregoire Pau
Snapshot Date: 2012-03-31 17:01:49 -0700 (Sat, 31 Mar 2012) | URL: https://hedgehog.fhcrc.org/bioconductor/branches/RELEASE_2_10/madman/Rpacks/EBImage | Last Changed Rev: 64678 / Revision: 64719 | Last Changed Date: 2012-03-30 15:05:02 -0700 (Fri, 30 Mar 2012) |
| lamb2 | Linux (openSUSE 11.4) / x86_64 | OK | OK | |
puck5 | Linux (Ubuntu 12.04) / x86_64 | [ ERROR ] | skipped | |
moscato2 | Windows Server 2008 R2 Enterprise SP1 (64-bit) / x64 | OK | OK | OK |
petty | Mac OS X Leopard (10.5.8) / i386 | N O T S U P P O R T E D |
* checking for file 'EBImage/DESCRIPTION' ... OK
* preparing 'EBImage':
* checking DESCRIPTION meta-information ... OK
* cleaning src
* installing the package to re-build vignettes
-----------------------------------
* installing *source* package 'EBImage' ...
checking for Magick-config... yes
* found ImageMagick version 1.3.12
configure: error: "Requires ImageMagick version >= 6.3.7"
ERROR: configuration failed for package 'EBImage'
* removing '/tmp/Rtmpbw1p1l/Rinst7cd94dc2934a/EBImage'
-----------------------------------
ERROR: package installation failed