| BiocInstaller 1.4.7 Bioconductor Package Maintainer
 
 | Snapshot Date: 2012-09-23 17:01:39 -0700 (Sun, 23 Sep 2012) |  | URL: https://hedgehog.fhcrc.org/bioconductor/branches/RELEASE_2_10/madman/Rpacks/BiocInstaller |  | Last Changed Rev: 66876 / Revision: 69725 |  | Last Changed Date: 2012-06-20 12:57:09 -0700 (Wed, 20 Jun 2012) | 
 | lamb2 | Linux (openSUSE 11.4) / x86_64 | OK | OK |  | 
| moscato2 | Windows Server 2008 R2 Enterprise SP1 (64-bit) / x64 | OK | OK | [ OK ] | 
| petty | Mac OS X Leopard (10.5.8) / i386 | OK | OK | OK | 
install for i386
* installing *source* package 'BiocInstaller' ...
** R
** inst
** preparing package for lazy loading
** help
*** installing help indices
** building package indices
** testing if installed package can be loaded
BiocInstaller version 1.4.7, ?biocLite for help
install for x64
* installing *source* package 'BiocInstaller' ...
** testing if installed package can be loaded
BiocInstaller version 1.4.7, ?biocLite for help
* MD5 sums
packaged installation of 'BiocInstaller' as BiocInstaller_1.4.7.zip
* DONE (BiocInstaller)