| Back to the "Multiple platform build/check report" | A [B] C D E F G H I J K L M N O P Q R S T U V W X Y Z |
| Package 63/553 | Hostname | OS / Arch | BUILD | CHECK | BUILD BIN | ||||
| BiocGenerics 0.2.0 Bioconductor Package Maintainer
| lamb2 | Linux (openSUSE 11.4) / x86_64 | OK | OK | |||||
| moscato2 | Windows Server 2008 R2 Enterprise SP1 (64-bit) / x64 | OK | OK | OK | |||||
| petty | Mac OS X Leopard (10.5.8) / i386 | [ OK ] | OK | OK |
| Package: BiocGenerics |
| Version: 0.2.0 |
| Command: /Library/Frameworks/R.framework/Versions/2.15/Resources/bin/R CMD build --keep-empty-dirs --no-resave-data BiocGenerics |
| StartedAt: 2012-09-23 22:39:59 -0700 (Sun, 23 Sep 2012) |
| EndedAt: 2012-09-23 22:40:02 -0700 (Sun, 23 Sep 2012) |
| EllapsedTime: 2.9 seconds |
| RetCode: 0 |
| Status: OK |
| PackageFile: BiocGenerics_0.2.0.tar.gz |
| PackageFileSize: 22.36 KiB |
* checking for file 'BiocGenerics/DESCRIPTION' ... OK * preparing 'BiocGenerics': * checking DESCRIPTION meta-information ... OK * checking for LF line-endings in source and make files * checking for empty or unneeded directories * building 'BiocGenerics_0.2.0.tar.gz'