AnnotationDbi 1.18.3 Bioconductor Package Maintainer
Snapshot Date: 2012-09-23 17:01:39 -0700 (Sun, 23 Sep 2012) | URL: https://hedgehog.fhcrc.org/bioconductor/branches/RELEASE_2_10/madman/Rpacks/AnnotationDbi | Last Changed Rev: 69081 / Revision: 69725 | Last Changed Date: 2012-09-05 13:34:10 -0700 (Wed, 05 Sep 2012) |
| lamb2 | Linux (openSUSE 11.4) / x86_64 | OK | OK | |
moscato2 | Windows Server 2008 R2 Enterprise SP1 (64-bit) / x64 | OK | OK | OK |
petty | Mac OS X Leopard (10.5.8) / i386 | OK | OK | [ OK ] |
>>>>>>>
>>>>>>> INSTALLATION WITH 'R CMD INSTALL --preclean --no-multiarch --library=AnnotationDbi.buildbin-libdir AnnotationDbi_1.18.3.tar.gz'
>>>>>>>
* installing *source* package 'AnnotationDbi' ...
** R
** inst
** preparing package for lazy loading
Creating a generic function for 'toString' from package 'base' in package 'AnnotationDbi'
Creating a generic function for 'rev' from package 'base' in package 'AnnotationDbi'
Creating a generic function for 'subset' from package 'base' in package 'AnnotationDbi'
Creating a generic function for 'as.data.frame' from package 'base' in package 'AnnotationDbi'
Creating a generic function for 'head' from package 'utils' in package 'AnnotationDbi'
Creating a generic function for 'tail' from package 'utils' in package 'AnnotationDbi'
Creating a generic function for 'as.list' from package 'base' in package 'AnnotationDbi'
Creating a generic function for 'ls' from package 'base' in package 'AnnotationDbi'
Creating a generic function for 'eapply' from package 'base' in package 'AnnotationDbi'
Creating a generic function for 'exists' from package 'base' in package 'AnnotationDbi'
Creating a generic function for 'sample' from package 'base' in package 'AnnotationDbi'
** help
*** installing help indices
** building package indices
** installing vignettes
'AnnotationDbi.Rnw'
'IntroToAnnotationPackages.Rnw'
'NewSchema.Rnw'
'SQLForge.Rnw'
'makeProbePackage.Rnw'
** testing if installed package can be loaded
* DONE (AnnotationDbi)