| Back to the "Multiple platform build/check report" | A B C D E F G H I J K L M N O P Q R [S] T U V W X Y Z | 
| Package 517/554 | Hostname | OS / Arch | BUILD | CHECK | BUILD BIN | ||||
| stepNorm 1.28.0 Yuanyuan Xiao 
  | lamb2 | Linux (openSUSE 11.4) / x86_64 | OK | OK | |||||
| puck5 | Linux (Ubuntu 12.04) / x86_64 | [ OK ] | OK | ||||||
| moscato2 | Windows Server 2008 R2 Enterprise SP1 (64-bit) / x64 | OK | OK | OK | |||||
| petty | Mac OS X Leopard (10.5.8) / i386 | OK | OK | OK | 
| Package: stepNorm | 
| Version: 1.28.0 | 
| Command: /home/hpages/test-puck5/bbs-2.10-bioc/R/bin/R CMD build --keep-empty-dirs --no-resave-data stepNorm | 
| StartedAt: 2012-03-31 20:16:13 -0700 (Sat, 31 Mar 2012) | 
| EndedAt: 2012-03-31 20:16:16 -0700 (Sat, 31 Mar 2012) | 
| EllapsedTime: 2.0 seconds | 
| RetCode: 0 | 
| Status: OK | 
| PackageFile: stepNorm_1.28.0.tar.gz | 
| PackageFileSize: 460.7 KiB | 
* checking for file 'stepNorm/DESCRIPTION' ... OK * preparing 'stepNorm': * checking DESCRIPTION meta-information ... OK * checking for LF line-endings in source and make files * checking for empty or unneeded directories * building 'stepNorm_1.28.0.tar.gz'